BEGIN:VCALENDAR
VERSION:2.0
PRODID:-//Seniorenforum - ECPv6.15.20//NONSGML v1.0//EN
CALSCALE:GREGORIAN
METHOD:PUBLISH
X-ORIGINAL-URL:https://seniorenforum.vlaamsbelang.org
X-WR-CALDESC:Evenementen voor Seniorenforum
REFRESH-INTERVAL;VALUE=DURATION:PT1H
X-Robots-Tag:noindex
X-PUBLISHED-TTL:PT1H
BEGIN:VTIMEZONE
TZID:Europe/Brussels
BEGIN:DAYLIGHT
TZOFFSETFROM:+0100
TZOFFSETTO:+0200
TZNAME:CEST
DTSTART:20230326T010000
END:DAYLIGHT
BEGIN:STANDARD
TZOFFSETFROM:+0200
TZOFFSETTO:+0100
TZNAME:CET
DTSTART:20231029T010000
END:STANDARD
BEGIN:DAYLIGHT
TZOFFSETFROM:+0100
TZOFFSETTO:+0200
TZNAME:CEST
DTSTART:20240331T010000
END:DAYLIGHT
BEGIN:STANDARD
TZOFFSETFROM:+0200
TZOFFSETTO:+0100
TZNAME:CET
DTSTART:20241027T010000
END:STANDARD
BEGIN:DAYLIGHT
TZOFFSETFROM:+0100
TZOFFSETTO:+0200
TZNAME:CEST
DTSTART:20250330T010000
END:DAYLIGHT
BEGIN:STANDARD
TZOFFSETFROM:+0200
TZOFFSETTO:+0100
TZNAME:CET
DTSTART:20251026T010000
END:STANDARD
END:VTIMEZONE
BEGIN:VEVENT
DTSTART;TZID=Europe/Brussels:20241213T120000
DTEND;TZID=Europe/Brussels:20241213T120000
DTSTAMP:20260419T140547
CREATED:20241104T075914Z
LAST-MODIFIED:20241105T073440Z
UID:10001523-1734091200-1734091200@seniorenforum.vlaamsbelang.org
SUMMARY:Kerstdiner 2024 van SF Brugge-Oostkust.
DESCRIPTION:Wij verwelkomen u in de mooie feestzaal van het idyllisch gelegen restaurant “In de Groene Wandeling”\, Koolkerkesteenweg 52\, 8340 Damme (Oostkerke). De frisse polderlucht en de rustgevende nabijheid van de Damse vaart zorgen voor een uniek kader \n \nMenu \n*Aperitief: Schuimwijn of fruitsap\n*Fluwelen Tomatensoepje op grootmoeders wijze – balletjes\n*Parelhoenfilet met zoete muskaatdruiven\, kroketten\nen winterse garnituur (meerdere bedieningen)\n*Vanilleroomijs – karamel – brésiliennenootjes\n*Koffie of thee met versnaperingen\n*Drank aan de feesttafel ten laste van de deelnemers \nInschrijving:  €  60 p.p. voor 09.12.24 te storten op rekening BE22.7310.5512.2647 van Seniorenforum Brugge-Oostkust. \nToespraak: Korte toespraak door Ignace Lowie\, voorzitter ‘Seniorenforum Brugge-Oostkust’.\nVervoer en parking:\n*Er is een grote parking aan het restaurant.\n*Zoals vorige jaren organiseren wij vervoer voor personen die met de trein of kusttram komen. Wij halen hen op in het station van Knokke rond 12.00 u. Wij zorgen ook voor het terugbrengen naar Knokke. Contacteer ons tijdig: 0486/25.30.58 (Annie)\, 0495/10.11.90 (Ignace)\, 0468/22.49.47 (Ludo).\nOvernachten: Dat kan ”In de Groene Wandeling”. Tel.: 050/60.31.77. \nWij verheugen ons op uw komst! Tot in december! \nBestuur SF Brugge-Oostkust.                                                                                                                                          Privé bijeenkomst *
URL:https://seniorenforum.vlaamsbelang.org/activiteitenkalender/kerstdiner-2024-van-sf-brugge-oostkust/
LOCATION:De Groene Wandeling\, Koolkerkesteenweg 52\, Damme\, We\, Belgium
ATTACH;FMTTYPE=image/jpeg:https://seniorenforum.vlaamsbelang.org/wp-content/uploads/2024/11/SF-B-O-kerstd.-2024-ontw62_page-0001.jpg
ORGANIZER;CN="Ignace Lowie":MAILTO:ignace.lowie@gmail.com
END:VEVENT
END:VCALENDAR