BEGIN:VCALENDAR
VERSION:2.0
PRODID:-//Seniorenforum - ECPv6.15.20//NONSGML v1.0//EN
CALSCALE:GREGORIAN
METHOD:PUBLISH
X-WR-CALNAME:Seniorenforum
X-ORIGINAL-URL:https://seniorenforum.vlaamsbelang.org
X-WR-CALDESC:Evenementen voor Seniorenforum
REFRESH-INTERVAL;VALUE=DURATION:PT1H
X-Robots-Tag:noindex
X-PUBLISHED-TTL:PT1H
BEGIN:VTIMEZONE
TZID:Europe/Brussels
BEGIN:DAYLIGHT
TZOFFSETFROM:+0100
TZOFFSETTO:+0200
TZNAME:CEST
DTSTART:20230326T010000
END:DAYLIGHT
BEGIN:STANDARD
TZOFFSETFROM:+0200
TZOFFSETTO:+0100
TZNAME:CET
DTSTART:20231029T010000
END:STANDARD
BEGIN:DAYLIGHT
TZOFFSETFROM:+0100
TZOFFSETTO:+0200
TZNAME:CEST
DTSTART:20240331T010000
END:DAYLIGHT
BEGIN:STANDARD
TZOFFSETFROM:+0200
TZOFFSETTO:+0100
TZNAME:CET
DTSTART:20241027T010000
END:STANDARD
BEGIN:DAYLIGHT
TZOFFSETFROM:+0100
TZOFFSETTO:+0200
TZNAME:CEST
DTSTART:20250330T010000
END:DAYLIGHT
BEGIN:STANDARD
TZOFFSETFROM:+0200
TZOFFSETTO:+0100
TZNAME:CET
DTSTART:20251026T010000
END:STANDARD
END:VTIMEZONE
BEGIN:VEVENT
DTSTART;TZID=Europe/Brussels:20241214T160000
DTEND;TZID=Europe/Brussels:20241214T230000
DTSTAMP:20260419T140527
CREATED:20241102T101348Z
LAST-MODIFIED:20241102T101806Z
UID:10001522-1734192000-1734217200@seniorenforum.vlaamsbelang.org
SUMMARY:Kerstsfeer ten Huize Machteld (org. VSF Kempen-Grobbendonk)
DESCRIPTION:Deze activiteit gaat door op zaterdag 14 december op onze thuislocatie Huize Machteld. \nOnze tuin toveren we om in een sfeervolle kerstsfeer. We voorzien twee vuurkorven\, bijkomende verwarming én dekens. \nHet is op deze  activiteit weer zelfbediening. Dranken naar believen: de gebruikelijke dranken met wat extra winterdranken. Ook zijn er gratis frieten (met saus) te verkrijgen tussen 17u30 en 21u30. Inkom  € 13. We vragen om op voorhand in te schrijven. Betalen kan via overschrijving (BE11 9795 2736 4248) of ter plaatse. De keuze is aan jullie. De tuin is open vanaf 16u (gelieve het beginuur te respecteren) . Het einde is voorzien rond 23u.
URL:https://seniorenforum.vlaamsbelang.org/activiteitenkalender/kerstsfeer-ten-huize-machteld-org-vsf-kempen-grobbendonk/
LOCATION:Huize Machteld\, Gilliam 8\, Grobbendonk\, Antwerpen\, 2280\, Belgium
ATTACH;FMTTYPE=image/jpeg:https://seniorenforum.vlaamsbelang.org/wp-content/uploads/2021/12/kerst1.jpg
ORGANIZER;CN="Guido Somers":MAILTO:guido.somers@telenet.be
END:VEVENT
END:VCALENDAR