BEGIN:VCALENDAR
VERSION:2.0
PRODID:-//Seniorenforum - ECPv6.15.20//NONSGML v1.0//EN
CALSCALE:GREGORIAN
METHOD:PUBLISH
X-ORIGINAL-URL:https://seniorenforum.vlaamsbelang.org
X-WR-CALDESC:Evenementen voor Seniorenforum
REFRESH-INTERVAL;VALUE=DURATION:PT1H
X-Robots-Tag:noindex
X-PUBLISHED-TTL:PT1H
BEGIN:VTIMEZONE
TZID:Europe/Brussels
BEGIN:DAYLIGHT
TZOFFSETFROM:+0100
TZOFFSETTO:+0200
TZNAME:CEST
DTSTART:20230326T010000
END:DAYLIGHT
BEGIN:STANDARD
TZOFFSETFROM:+0200
TZOFFSETTO:+0100
TZNAME:CET
DTSTART:20231029T010000
END:STANDARD
BEGIN:DAYLIGHT
TZOFFSETFROM:+0100
TZOFFSETTO:+0200
TZNAME:CEST
DTSTART:20240331T010000
END:DAYLIGHT
BEGIN:STANDARD
TZOFFSETFROM:+0200
TZOFFSETTO:+0100
TZNAME:CET
DTSTART:20241027T010000
END:STANDARD
BEGIN:DAYLIGHT
TZOFFSETFROM:+0100
TZOFFSETTO:+0200
TZNAME:CEST
DTSTART:20250330T010000
END:DAYLIGHT
BEGIN:STANDARD
TZOFFSETFROM:+0200
TZOFFSETTO:+0100
TZNAME:CET
DTSTART:20251026T010000
END:STANDARD
END:VTIMEZONE
BEGIN:VEVENT
DTSTART;TZID=Europe/Brussels:20241218T160000
DTEND;TZID=Europe/Brussels:20241218T160000
DTSTAMP:20260419T140549
CREATED:20241107T142341Z
LAST-MODIFIED:20241107T142439Z
UID:10001528-1734537600-1734537600@seniorenforum.vlaamsbelang.org
SUMMARY:Kerstfeest (org. SF Antwerpen i.s.m. Hertogfonds)
DESCRIPTION: Datum\nWoensdag 18 december 2024\n\n\nAanvangsuur\n 16.00 uur\n\n\nEinduur indien bekend\n\n\n\nTitel activiteit\nKERSTFEEST\n\n\nGastspreker(s)\nFeestrede: Hilde Delobel\n\n\nOrganisator\n Seniorenforum Regio Antwerpen\, Hertogfonds\n\n\nRegio\n Antwerpen\n\n\nLocatie\nFeestzaal Goorhof\n\n\nAdres\nKerklei 18\n\n\nGemeente\nSint-Job-in-’t-Goor (Brecht)\n\n\nNuttige info\, vb. prijs\n€ 25 op rekening BE66 9734 2502 5843\n\n\nContactpersoon\n\n\n\nE-mail contactpersoon\n seniorenforum.antwerpen@vlaamsbelang.org\n\n\nTel. Contactpersoon\n 0495 827 607\n\n\n\n\n\n\n\n  \n  \n  \n  \n  \n  \n  \n  \n  \n  \n  \n  \n  \n  \n  \n 
URL:https://seniorenforum.vlaamsbelang.org/activiteitenkalender/kerstfeest-org-sf-antwerpen-i-s-m-hertogfonds/
LOCATION:’t Goorhof\, Kerklei 16\, Sint-Job-in-‘t-Goor.\, België
ATTACH;FMTTYPE=image/jpeg:https://seniorenforum.vlaamsbelang.org/wp-content/uploads/2019/11/kerstkaart1.jpg
ORGANIZER;CN="Dirk van Onckelen":MAILTO:deveoo@hotmail.com
END:VEVENT
END:VCALENDAR