BEGIN:VCALENDAR
VERSION:2.0
PRODID:-//Seniorenforum - ECPv6.15.20//NONSGML v1.0//EN
CALSCALE:GREGORIAN
METHOD:PUBLISH
X-ORIGINAL-URL:https://seniorenforum.vlaamsbelang.org
X-WR-CALDESC:Evenementen voor Seniorenforum
REFRESH-INTERVAL;VALUE=DURATION:PT1H
X-Robots-Tag:noindex
X-PUBLISHED-TTL:PT1H
BEGIN:VTIMEZONE
TZID:Europe/Brussels
BEGIN:DAYLIGHT
TZOFFSETFROM:+0100
TZOFFSETTO:+0200
TZNAME:CEST
DTSTART:20240331T010000
END:DAYLIGHT
BEGIN:STANDARD
TZOFFSETFROM:+0200
TZOFFSETTO:+0100
TZNAME:CET
DTSTART:20241027T010000
END:STANDARD
BEGIN:DAYLIGHT
TZOFFSETFROM:+0100
TZOFFSETTO:+0200
TZNAME:CEST
DTSTART:20250330T010000
END:DAYLIGHT
BEGIN:STANDARD
TZOFFSETFROM:+0200
TZOFFSETTO:+0100
TZNAME:CET
DTSTART:20251026T010000
END:STANDARD
BEGIN:DAYLIGHT
TZOFFSETFROM:+0100
TZOFFSETTO:+0200
TZNAME:CEST
DTSTART:20260329T010000
END:DAYLIGHT
BEGIN:STANDARD
TZOFFSETFROM:+0200
TZOFFSETTO:+0100
TZNAME:CET
DTSTART:20261025T010000
END:STANDARD
END:VTIMEZONE
BEGIN:VEVENT
DTSTART;TZID=Europe/Brussels:20250316T140000
DTEND;TZID=Europe/Brussels:20250316T140000
DTSTAMP:20260419T195915
CREATED:20250122T142612Z
LAST-MODIFIED:20250211T080727Z
UID:10001542-1742133600-1742133600@seniorenforum.vlaamsbelang.org
SUMMARY:Geleide wandeling in Buggenhoutbos (org. SF Bruegel)
DESCRIPTION:Men moet geen groene freak of doemdenker te zijn om vast te stellen dat er geen afgelijnde seizoenen meer zijn. Dat valt zeker de senioren op\, zij hebben vergelijkingspunten. Elke senior heeft nog winters meegemaakt met krakende vrieskou\, 60 cm sneeuw en vastgevroren meren en rivieren. Het voorgaande ook al als verantwoording en uitleg voor het feit dat onze ”lentewandeling” in feite nog in de astronomische winter (21.12.2024 tot 19.03.25) valt maar wel in de meteorologische lente (01.03 tot 31.05.2025). \nHET SENIORENFORUM  B R U E G E L  NODIGT U UIT OP HAAR \nLentewandeling op 16.03.2025 in het Buggenhoutbos \nAanvangsuur: 14.00 u. \nStartplaats: parking tegenover de Boskapel\, Kasteelstraat\, 9255 Buggenhout. \nWandeling: afstand +- 7 km\, deels boswegen\, deels verharde wegen. Wij doen de wandeling met een gids. Verkorte wandeling van +- 4 km mogelijk. \nKledij: stevige schoenen\, kledij aangepast aan de weersomstandigheden. \nInschrijving: € 3\, te storten op bankrekening BE97 035228080686 van Seniorenforum Bruegel. \nInlichtingen: 0477/74.90.85   0473/26.86.92   0477/23.42.57 \nAan het eindpunt van de wandeling zijn horecazaken gevestigd. Geen vrees dat honger of dorst zal geleden worden…. \nBeste groeten en tot dan\, \nMarc Cordeels\, voorzitter SF Bruegel
URL:https://seniorenforum.vlaamsbelang.org/activiteitenkalender/geleide-wandeling-in-buggenhoutbos-org-sf-bruegel/
LOCATION:Boskapel\, Kasteelstraat\, Buggenhout\, 9255
ATTACH;FMTTYPE=image/jpeg:https://seniorenforum.vlaamsbelang.org/wp-content/uploads/2025/01/buggenhoutbos.jpg
ORGANIZER;CN="Marc Cordeels":MAILTO:fafifoernik@skynet.be
END:VEVENT
END:VCALENDAR