BEGIN:VCALENDAR
VERSION:2.0
PRODID:-//Seniorenforum - ECPv6.15.20//NONSGML v1.0//EN
CALSCALE:GREGORIAN
METHOD:PUBLISH
X-ORIGINAL-URL:https://seniorenforum.vlaamsbelang.org
X-WR-CALDESC:Evenementen voor Seniorenforum
REFRESH-INTERVAL;VALUE=DURATION:PT1H
X-Robots-Tag:noindex
X-PUBLISHED-TTL:PT1H
BEGIN:VTIMEZONE
TZID:Europe/Brussels
BEGIN:DAYLIGHT
TZOFFSETFROM:+0100
TZOFFSETTO:+0200
TZNAME:CEST
DTSTART:20240331T010000
END:DAYLIGHT
BEGIN:STANDARD
TZOFFSETFROM:+0200
TZOFFSETTO:+0100
TZNAME:CET
DTSTART:20241027T010000
END:STANDARD
BEGIN:DAYLIGHT
TZOFFSETFROM:+0100
TZOFFSETTO:+0200
TZNAME:CEST
DTSTART:20250330T010000
END:DAYLIGHT
BEGIN:STANDARD
TZOFFSETFROM:+0200
TZOFFSETTO:+0100
TZNAME:CET
DTSTART:20251026T010000
END:STANDARD
BEGIN:DAYLIGHT
TZOFFSETFROM:+0100
TZOFFSETTO:+0200
TZNAME:CEST
DTSTART:20260329T010000
END:DAYLIGHT
BEGIN:STANDARD
TZOFFSETFROM:+0200
TZOFFSETTO:+0100
TZNAME:CET
DTSTART:20261025T010000
END:STANDARD
END:VTIMEZONE
BEGIN:VEVENT
DTSTART;TZID=Europe/Brussels:20250607T134500
DTEND;TZID=Europe/Brussels:20250607T134500
DTSTAMP:20260419T225734
CREATED:20250501T065814Z
LAST-MODIFIED:20250501T065820Z
UID:10001571-1749303900-1749303900@seniorenforum.vlaamsbelang.org
SUMMARY:Open tuinbar én open kruidentuin (org. VSF Kempen-Grobbendonk)
DESCRIPTION:Za. 7/06: Open tuinbar én open kruidentuin \nOnze tuinbar is geopend vanaf  13u45. \nEr is de mogelijkheid om de kruidentuin te bezichtigen\, al dan niet onder begeleiding van Lut. Lut doet twee rondleidingen met uitleg over de kruiden. Er zijn twee sessies. De eerste start om 14u15 en de tweede om 16u00. Het aantal deelnemers is echter beperkt tot 10 personen per rondleiding. Inschrijven via een berichtje  voor deze rondleidingen\, met vermelding van beginuur\, is verplicht. \nWe voorzien ook ijsjes (maar geen schepijs). \nWe sluiten de bar om 19u.
URL:https://seniorenforum.vlaamsbelang.org/activiteitenkalender/open-tuinbar-en-open-kruidentuin-org-vsf-kempen-grobbendonk/
LOCATION:Huize Machteld\, Gilliam 8\, Grobbendonk\, Antwerpen\, 2280\, Belgium
ATTACH;FMTTYPE=image/jpeg:https://seniorenforum.vlaamsbelang.org/wp-content/uploads/2025/05/kruidentuin.jpeg
ORGANIZER;CN="Guido Somers":MAILTO:guido.somers@telenet.be
END:VEVENT
END:VCALENDAR