BEGIN:VCALENDAR
VERSION:2.0
PRODID:-//Seniorenforum - ECPv6.15.20//NONSGML v1.0//EN
CALSCALE:GREGORIAN
METHOD:PUBLISH
X-ORIGINAL-URL:https://seniorenforum.vlaamsbelang.org
X-WR-CALDESC:Evenementen voor Seniorenforum
REFRESH-INTERVAL;VALUE=DURATION:PT1H
X-Robots-Tag:noindex
X-PUBLISHED-TTL:PT1H
BEGIN:VTIMEZONE
TZID:Europe/Brussels
BEGIN:DAYLIGHT
TZOFFSETFROM:+0100
TZOFFSETTO:+0200
TZNAME:CEST
DTSTART:20240331T010000
END:DAYLIGHT
BEGIN:STANDARD
TZOFFSETFROM:+0200
TZOFFSETTO:+0100
TZNAME:CET
DTSTART:20241027T010000
END:STANDARD
BEGIN:DAYLIGHT
TZOFFSETFROM:+0100
TZOFFSETTO:+0200
TZNAME:CEST
DTSTART:20250330T010000
END:DAYLIGHT
BEGIN:STANDARD
TZOFFSETFROM:+0200
TZOFFSETTO:+0100
TZNAME:CET
DTSTART:20251026T010000
END:STANDARD
BEGIN:DAYLIGHT
TZOFFSETFROM:+0100
TZOFFSETTO:+0200
TZNAME:CEST
DTSTART:20260329T010000
END:DAYLIGHT
BEGIN:STANDARD
TZOFFSETFROM:+0200
TZOFFSETTO:+0100
TZNAME:CET
DTSTART:20261025T010000
END:STANDARD
END:VTIMEZONE
BEGIN:VEVENT
DTSTART;TZID=Europe/Brussels:20250608T140000
DTEND;TZID=Europe/Brussels:20250608T140000
DTSTAMP:20260419T225736
CREATED:20250507T080212Z
LAST-MODIFIED:20250507T080242Z
UID:10001574-1749391200-1749391200@seniorenforum.vlaamsbelang.org
SUMMARY:“In het spoor van Eugeen Van Mieghem”: stadswandeling ’t Eilandje\, Antwerpen (org. SF West-Vlaanderen en SF Regio Antwerpen)
DESCRIPTION: Datum\nzondag 8 juni 2025\n\n\nAanvangsuur\n 14.00 uur\n\n\nEinduur indien bekend\n\n\n\nTitel activiteit\n“In het spoor van Eugeen Van Mieghem”. \nStadswandeling ’t Eilandje\, Antwerpen\n\n\nGastspreker(s)\n\n\n\nOrganisator\n Seniorenforum West-Vlaanderen \nSeniorenforum regio Antwerpen\n\n\nRegio\n\n\n\nLocatie\nCafé Licht der dokken (Londenbrug)\n\n\nAdres\nVerbindingsdok-Westkaai 2\n\n\nGemeente\nAntwerpen\n\n\nNuttige info\, vb. prijs\n€ 5\n\n\nContactpersoon\n\n\n\nE-mail contactpersoon\n seniorenforum.antwerpen@vlaamsbelang.org\n\n\nTel. Contactpersoon\n 0495 827 607
URL:https://seniorenforum.vlaamsbelang.org/activiteitenkalender/in-het-spoor-van-eugeen-van-mieghem-stadswandeling-t-eilandje-antwerpen-org-sf-west-vlaanderen-en-sf-regio-antwerpen/
LOCATION:Café Licht der dokken (Londenbrug)\, Verbindingsdok-Westkaai 2\, Antwerpen\, Antwerpen\, 2000
ATTACH;FMTTYPE=image/jpeg:https://seniorenforum.vlaamsbelang.org/wp-content/uploads/2025/05/eugeen.jpg
ORGANIZER;CN="Dirk van Onckelen":MAILTO:deveoo@hotmail.com
END:VEVENT
END:VCALENDAR