BEGIN:VCALENDAR
VERSION:2.0
PRODID:-//Seniorenforum - ECPv6.15.20//NONSGML v1.0//EN
CALSCALE:GREGORIAN
METHOD:PUBLISH
X-ORIGINAL-URL:https://seniorenforum.vlaamsbelang.org
X-WR-CALDESC:Evenementen voor Seniorenforum
REFRESH-INTERVAL;VALUE=DURATION:PT1H
X-Robots-Tag:noindex
X-PUBLISHED-TTL:PT1H
BEGIN:VTIMEZONE
TZID:Europe/Brussels
BEGIN:DAYLIGHT
TZOFFSETFROM:+0100
TZOFFSETTO:+0200
TZNAME:CEST
DTSTART:20240331T010000
END:DAYLIGHT
BEGIN:STANDARD
TZOFFSETFROM:+0200
TZOFFSETTO:+0100
TZNAME:CET
DTSTART:20241027T010000
END:STANDARD
BEGIN:DAYLIGHT
TZOFFSETFROM:+0100
TZOFFSETTO:+0200
TZNAME:CEST
DTSTART:20250330T010000
END:DAYLIGHT
BEGIN:STANDARD
TZOFFSETFROM:+0200
TZOFFSETTO:+0100
TZNAME:CET
DTSTART:20251026T010000
END:STANDARD
BEGIN:DAYLIGHT
TZOFFSETFROM:+0100
TZOFFSETTO:+0200
TZNAME:CEST
DTSTART:20260329T010000
END:DAYLIGHT
BEGIN:STANDARD
TZOFFSETFROM:+0200
TZOFFSETTO:+0100
TZNAME:CET
DTSTART:20261025T010000
END:STANDARD
END:VTIMEZONE
BEGIN:VEVENT
DTSTART;TZID=Europe/Brussels:20250625T150000
DTEND;TZID=Europe/Brussels:20250625T150000
DTSTAMP:20260419T225821
CREATED:20250507T081436Z
LAST-MODIFIED:20250507T081448Z
UID:10001575-1750863600-1750863600@seniorenforum.vlaamsbelang.org
SUMMARY:Groepswandeling & zomerdrink (org. SF Regio Antwerpen)
DESCRIPTION: Datum\nWoensdag 25 juni 2025\n\n\nAanvangsuur\n 15.00 uur\n\n\nEinduur indien bekend\n\n\n\nTitel activiteit\nGroepswandeling & zomerdrink\n\n\nGastspreker(s)\n\n\n\nOrganisator\n Seniorenforum Regio Antwerpen\n\n\nRegio\n Antwerpen\n\n\nLocatie\nSportoase (nadien VNJ-heem)\n\n\nAdres\nRuggeveldlaan 488\n\n\nGemeente\nDeurne\n\n\nNuttige info\, vb. prijs\n\n\n\nContactpersoon\n\n\n\nE-mail contactpersoon\n seniorenforum.antwerpen@vlaamsbelang.org\n\n\nTel. Contactpersoon\n 0495 827 607
URL:https://seniorenforum.vlaamsbelang.org/activiteitenkalender/groepswandeling-zomerdrink-org-sf-regio-antwerpen/
LOCATION:Sportoase (nadien VNJ-heem)\, Ruggeveldlaan 488\, Deurne\, Antwerpen\, 2100
ATTACH;FMTTYPE=image/jpeg:https://seniorenforum.vlaamsbelang.org/wp-content/uploads/2025/05/groepswandeling-militair-domein-6.jpeg
ORGANIZER;CN="Dirk van Onckelen":MAILTO:deveoo@hotmail.com
END:VEVENT
END:VCALENDAR