BEGIN:VCALENDAR
VERSION:2.0
PRODID:-//Seniorenforum - ECPv6.15.20//NONSGML v1.0//EN
CALSCALE:GREGORIAN
METHOD:PUBLISH
X-ORIGINAL-URL:https://seniorenforum.vlaamsbelang.org
X-WR-CALDESC:Evenementen voor Seniorenforum
REFRESH-INTERVAL;VALUE=DURATION:PT1H
X-Robots-Tag:noindex
X-PUBLISHED-TTL:PT1H
BEGIN:VTIMEZONE
TZID:Europe/Brussels
BEGIN:DAYLIGHT
TZOFFSETFROM:+0100
TZOFFSETTO:+0200
TZNAME:CEST
DTSTART:20240331T010000
END:DAYLIGHT
BEGIN:STANDARD
TZOFFSETFROM:+0200
TZOFFSETTO:+0100
TZNAME:CET
DTSTART:20241027T010000
END:STANDARD
BEGIN:DAYLIGHT
TZOFFSETFROM:+0100
TZOFFSETTO:+0200
TZNAME:CEST
DTSTART:20250330T010000
END:DAYLIGHT
BEGIN:STANDARD
TZOFFSETFROM:+0200
TZOFFSETTO:+0100
TZNAME:CET
DTSTART:20251026T010000
END:STANDARD
BEGIN:DAYLIGHT
TZOFFSETFROM:+0100
TZOFFSETTO:+0200
TZNAME:CEST
DTSTART:20260329T010000
END:DAYLIGHT
BEGIN:STANDARD
TZOFFSETFROM:+0200
TZOFFSETTO:+0100
TZNAME:CET
DTSTART:20261025T010000
END:STANDARD
END:VTIMEZONE
BEGIN:VEVENT
DTSTART;TZID=Europe/Brussels:20250706T103000
DTEND;TZID=Europe/Brussels:20250706T103000
DTSTAMP:20260419T225733
CREATED:20250512T131835Z
LAST-MODIFIED:20250618T065007Z
UID:10001577-1751797800-1751797800@seniorenforum.vlaamsbelang.org
SUMMARY:Elf juli-viering met aperitief en braadfeest (org. SF Groot-Leuven)
DESCRIPTION:Inschrijven kan door storting van 30€ op rekening BE28 0016 0015 2820 \nGastspreker Jürgen Constandt\, Voorzitter VNZ \n 
URL:https://seniorenforum.vlaamsbelang.org/activiteitenkalender/elf-juli-viering-met-aperitief-en-braadfeest/
LOCATION:Zaal Waaiberg\, Tervuursevest 60\, Leuven\, Vlaams-Brabant\, 3000
ATTACH;FMTTYPE=image/jpeg:https://seniorenforum.vlaamsbelang.org/wp-content/uploads/2025/05/Afficheleuven6juli.jpg
END:VEVENT
END:VCALENDAR