BEGIN:VCALENDAR
VERSION:2.0
PRODID:-//Seniorenforum - ECPv6.15.20//NONSGML v1.0//EN
CALSCALE:GREGORIAN
METHOD:PUBLISH
X-ORIGINAL-URL:https://seniorenforum.vlaamsbelang.org
X-WR-CALDESC:Evenementen voor Seniorenforum
REFRESH-INTERVAL;VALUE=DURATION:PT1H
X-Robots-Tag:noindex
X-PUBLISHED-TTL:PT1H
BEGIN:VTIMEZONE
TZID:Europe/Brussels
BEGIN:DAYLIGHT
TZOFFSETFROM:+0100
TZOFFSETTO:+0200
TZNAME:CEST
DTSTART:20240331T010000
END:DAYLIGHT
BEGIN:STANDARD
TZOFFSETFROM:+0200
TZOFFSETTO:+0100
TZNAME:CET
DTSTART:20241027T010000
END:STANDARD
BEGIN:DAYLIGHT
TZOFFSETFROM:+0100
TZOFFSETTO:+0200
TZNAME:CEST
DTSTART:20250330T010000
END:DAYLIGHT
BEGIN:STANDARD
TZOFFSETFROM:+0200
TZOFFSETTO:+0100
TZNAME:CET
DTSTART:20251026T010000
END:STANDARD
BEGIN:DAYLIGHT
TZOFFSETFROM:+0100
TZOFFSETTO:+0200
TZNAME:CEST
DTSTART:20260329T010000
END:DAYLIGHT
BEGIN:STANDARD
TZOFFSETFROM:+0200
TZOFFSETTO:+0100
TZNAME:CET
DTSTART:20261025T010000
END:STANDARD
END:VTIMEZONE
BEGIN:VEVENT
DTSTART;TZID=Europe/Brussels:20250916T124500
DTEND;TZID=Europe/Brussels:20250916T124500
DTSTAMP:20260420T024453
CREATED:20250725T085025Z
LAST-MODIFIED:20250725T085030Z
UID:10001586-1758026700-1758026700@seniorenforum.vlaamsbelang.org
SUMMARY:Bezoek aan koekjesbedrijf Jules Destrooper (met autocar) Org. SF Mandel
DESCRIPTION:
URL:https://seniorenforum.vlaamsbelang.org/activiteitenkalender/bezoek-aan-koekjesbedrijf-jules-destrooper-met-autocar-org-sf-mandel/
LOCATION:Expohallen Roeselare\, Diksmuidesteenweg 400\, Roeselare\, West-Vlaanderen
ATTACH;FMTTYPE=image/jpeg:https://seniorenforum.vlaamsbelang.org/wp-content/uploads/2025/07/destrooper-scaled.jpg
END:VEVENT
BEGIN:VEVENT
DTSTART;TZID=Europe/Brussels:20250916T140000
DTEND;TZID=Europe/Brussels:20250916T140000
DTSTAMP:20260420T024453
CREATED:20250730T063455Z
LAST-MODIFIED:20250730T063503Z
UID:10001589-1758031200-1758031200@seniorenforum.vlaamsbelang.org
SUMMARY:Groepsbezoek Park Vordenstein (org. SF Regio Antwerpen)
DESCRIPTION: Datum\nDonderdag 16 september\n\n\nAanvangsuur\n 14.00 uur\n\n\nEinduur indien bekend\n\n\n\nTitel activiteit\nGroepsbezoek Park Vordenstein\n\n\nGastspreker(s)\n\n\n\nOrganisator\n Seniorenforum regio Antwerpen\n\n\nRegio\n Antwerpen\n\n\nLocatie\nParking Vordenstein\n\n\nAdres\nKopstraat\n\n\nGemeente\nSchoten\n\n\nNuttige info\, vb. prijs\n€ 5\n\n\nContactpersoon\n\n\n\nE-mail contactpersoon\n seniorenforum.antwerpen@vlaamsbelang.org\n\n\nTel. Contactpersoon\n 0495 827 607
URL:https://seniorenforum.vlaamsbelang.org/activiteitenkalender/groepsbezoek-park-vordenstein-org-sf-regio-antwerpen/
LOCATION:Parking Vordenstein\, Kopstraat 10\, Schoten\, Antwerpen\, 2900
ATTACH;FMTTYPE=image/jpeg:https://seniorenforum.vlaamsbelang.org/wp-content/uploads/2025/07/Vordenstein1.jpg
ORGANIZER;CN="Dirk van Onckelen":MAILTO:deveoo@hotmail.com
END:VEVENT
END:VCALENDAR