BEGIN:VCALENDAR
VERSION:2.0
PRODID:-//Seniorenforum - ECPv6.15.20//NONSGML v1.0//EN
CALSCALE:GREGORIAN
METHOD:PUBLISH
X-ORIGINAL-URL:https://seniorenforum.vlaamsbelang.org
X-WR-CALDESC:Evenementen voor Seniorenforum
REFRESH-INTERVAL;VALUE=DURATION:PT1H
X-Robots-Tag:noindex
X-PUBLISHED-TTL:PT1H
BEGIN:VTIMEZONE
TZID:Europe/Brussels
BEGIN:DAYLIGHT
TZOFFSETFROM:+0100
TZOFFSETTO:+0200
TZNAME:CEST
DTSTART:20240331T010000
END:DAYLIGHT
BEGIN:STANDARD
TZOFFSETFROM:+0200
TZOFFSETTO:+0100
TZNAME:CET
DTSTART:20241027T010000
END:STANDARD
BEGIN:DAYLIGHT
TZOFFSETFROM:+0100
TZOFFSETTO:+0200
TZNAME:CEST
DTSTART:20250330T010000
END:DAYLIGHT
BEGIN:STANDARD
TZOFFSETFROM:+0200
TZOFFSETTO:+0100
TZNAME:CET
DTSTART:20251026T010000
END:STANDARD
BEGIN:DAYLIGHT
TZOFFSETFROM:+0100
TZOFFSETTO:+0200
TZNAME:CEST
DTSTART:20260329T010000
END:DAYLIGHT
BEGIN:STANDARD
TZOFFSETFROM:+0200
TZOFFSETTO:+0100
TZNAME:CET
DTSTART:20261025T010000
END:STANDARD
END:VTIMEZONE
BEGIN:VEVENT
DTSTART;TZID=Europe/Brussels:20251021T140000
DTEND;TZID=Europe/Brussels:20251021T140000
DTSTAMP:20260420T013335
CREATED:20250911T063617Z
LAST-MODIFIED:20250911T063625Z
UID:10001596-1761055200-1761055200@seniorenforum.vlaamsbelang.org
SUMMARY:Tweelingwandeling “Groen Wilrijk”\, 3 & 6 km (org. SF Regio Antwerpen)
DESCRIPTION: Datum\nDinsdag 21 oktober\n\n\nAanvangsuur\n 14.00 uur\n\n\nEinduur indien bekend\n\n\n\nTitel activiteit\nTweelingwandeling “Groen Wilrijk”\, 3 & 6 km\n\n\nGastspreker(s)\n\n\n\nOrganisator\n Seniorenforum regio Antwerpen\n\n\nRegio\n Antwerpen\n\n\nLocatie\nCafé De Nieuwe Kroon\n\n\nAdres\nBavostraat 79\n\n\nGemeente\nWilrijk – Antwerpen\n\n\nNuttige info\, vb. prijs\n€ 5\n\n\nContactpersoon\n\n\n\nE-mail contactpersoon\n seniorenforum.antwerpen@vlaamsbelang.org\n\n\nTel. Contactpersoon\n 0495 827 607
URL:https://seniorenforum.vlaamsbelang.org/activiteitenkalender/tweelingwandeling-groen-wilrijk-3-6-km-org-sf-regio-antwerpen/
LOCATION:Café De Nieuwe Kroon\, Bavostraat 79\, Wilrijk\, Antwerpen\, 2610
ATTACH;FMTTYPE=image/png:https://seniorenforum.vlaamsbelang.org/wp-content/uploads/2025/09/wilrijk.png
ORGANIZER;CN="Dirk van Onckelen":MAILTO:deveoo@hotmail.com
END:VEVENT
BEGIN:VEVENT
DTSTART;TZID=Europe/Brussels:20251021T160000
DTEND;TZID=Europe/Brussels:20251021T160000
DTSTAMP:20260420T013335
CREATED:20250919T085257Z
LAST-MODIFIED:20250919T085305Z
UID:10001599-1761062400-1761062400@seniorenforum.vlaamsbelang.org
SUMMARY:Halloween in zaal Den Hazelt (org. SF Mandel)
DESCRIPTION:
URL:https://seniorenforum.vlaamsbelang.org/activiteitenkalender/halloween-in-zaal-den-hazelt-org-sf-mandel-2/
LOCATION:Den Hazelt\, Pastoor Slossestraat 1\, Rumbeke-Roeselare\, West-Vlaanderen\, 8800
ATTACH;FMTTYPE=image/jpeg:https://seniorenforum.vlaamsbelang.org/wp-content/uploads/2025/09/halloween-affice-scaled.jpg
END:VEVENT
END:VCALENDAR