BEGIN:VCALENDAR
VERSION:2.0
PRODID:-//Seniorenforum - ECPv6.15.20//NONSGML v1.0//EN
CALSCALE:GREGORIAN
METHOD:PUBLISH
X-WR-CALNAME:Seniorenforum
X-ORIGINAL-URL:https://seniorenforum.vlaamsbelang.org
X-WR-CALDESC:Evenementen voor Seniorenforum
REFRESH-INTERVAL;VALUE=DURATION:PT1H
X-Robots-Tag:noindex
X-PUBLISHED-TTL:PT1H
BEGIN:VTIMEZONE
TZID:Europe/Brussels
BEGIN:DAYLIGHT
TZOFFSETFROM:+0100
TZOFFSETTO:+0200
TZNAME:CEST
DTSTART:20240331T010000
END:DAYLIGHT
BEGIN:STANDARD
TZOFFSETFROM:+0200
TZOFFSETTO:+0100
TZNAME:CET
DTSTART:20241027T010000
END:STANDARD
BEGIN:DAYLIGHT
TZOFFSETFROM:+0100
TZOFFSETTO:+0200
TZNAME:CEST
DTSTART:20250330T010000
END:DAYLIGHT
BEGIN:STANDARD
TZOFFSETFROM:+0200
TZOFFSETTO:+0100
TZNAME:CET
DTSTART:20251026T010000
END:STANDARD
BEGIN:DAYLIGHT
TZOFFSETFROM:+0100
TZOFFSETTO:+0200
TZNAME:CEST
DTSTART:20260329T010000
END:DAYLIGHT
BEGIN:STANDARD
TZOFFSETFROM:+0200
TZOFFSETTO:+0100
TZNAME:CET
DTSTART:20261025T010000
END:STANDARD
END:VTIMEZONE
BEGIN:VEVENT
DTSTART;TZID=Europe/Brussels:20251104T133000
DTEND;TZID=Europe/Brussels:20251104T170000
DTSTAMP:20260420T001203
CREATED:20251006T114412Z
LAST-MODIFIED:20251006T114412Z
UID:10001603-1762263000-1762275600@seniorenforum.vlaamsbelang.org
SUMMARY:Bezoek “Vrouwenzaken/Zakenvrouwen”
DESCRIPTION:
URL:https://seniorenforum.vlaamsbelang.org/activiteitenkalender/bezoek-vrouwenzaken-zakenvrouwen/
LOCATION:Museum Plantin-Moretus\, Vrijdagmarkt 22\, Antwerpen\, Antwerpen\, 2000
ORGANIZER;CN="Seniorenforum Antwerpen":MAILTO:seniorenforum.antwerpen@vlaamsbelang.org
END:VEVENT
END:VCALENDAR