BEGIN:VCALENDAR
VERSION:2.0
PRODID:-//Seniorenforum - ECPv6.15.20//NONSGML v1.0//EN
CALSCALE:GREGORIAN
METHOD:PUBLISH
X-ORIGINAL-URL:https://seniorenforum.vlaamsbelang.org
X-WR-CALDESC:Evenementen voor Seniorenforum
REFRESH-INTERVAL;VALUE=DURATION:PT1H
X-Robots-Tag:noindex
X-PUBLISHED-TTL:PT1H
BEGIN:VTIMEZONE
TZID:Europe/Brussels
BEGIN:DAYLIGHT
TZOFFSETFROM:+0100
TZOFFSETTO:+0200
TZNAME:CEST
DTSTART:20240331T010000
END:DAYLIGHT
BEGIN:STANDARD
TZOFFSETFROM:+0200
TZOFFSETTO:+0100
TZNAME:CET
DTSTART:20241027T010000
END:STANDARD
BEGIN:DAYLIGHT
TZOFFSETFROM:+0100
TZOFFSETTO:+0200
TZNAME:CEST
DTSTART:20250330T010000
END:DAYLIGHT
BEGIN:STANDARD
TZOFFSETFROM:+0200
TZOFFSETTO:+0100
TZNAME:CET
DTSTART:20251026T010000
END:STANDARD
BEGIN:DAYLIGHT
TZOFFSETFROM:+0100
TZOFFSETTO:+0200
TZNAME:CEST
DTSTART:20260329T010000
END:DAYLIGHT
BEGIN:STANDARD
TZOFFSETFROM:+0200
TZOFFSETTO:+0100
TZNAME:CET
DTSTART:20261025T010000
END:STANDARD
END:VTIMEZONE
BEGIN:VEVENT
DTSTART;TZID=Europe/Brussels:20251108T140000
DTEND;TZID=Europe/Brussels:20251108T180000
DTSTAMP:20260420T001236
CREATED:20251020T132547Z
LAST-MODIFIED:20251020T132547Z
UID:10001609-1762610400-1762624800@seniorenforum.vlaamsbelang.org
SUMMARY:Congres 'Senioren tellen mee'
DESCRIPTION:Met veel enthousiasme nodigen wij u uit voor het seniorencongres “Senioren tellen mee!”\, een bijzondere namiddag waarin onze fantastische senioren centraal staan. Het wordt een gelegenheid om te luisteren naar interessante sprekers\, bij te leren en ervaringen te delen over thema’s die ons allemaal raken. \nTijdens het congres zullen enkele Vlaams Belang-parlementsleden hun inspirerende inzichten delen: \n\nIlse Malfroot: Wat mogen senioren verwachten van hun lokale bestuurders?\nDries Devillé: Aangepast en betaalbaar wonen voor senioren.\nOrtwin Depoortere: Veiligheid! Senioren hebben er recht op!\n\nDe spreekbeurten worden afgewisseld met een optreden van Jef Elbers en afgesloten met een boeiende slottoespraak door onze nationale voorzitter Tom Van Grieken. \nNa afloop bent u van harte uitgenodigd voor een heerlijk wandelbuffet\, waar u in alle gezelligheid kunt napraten. \nParkeren kan ondergronds in Parking Spectrum (Korte Noordstraat) of bovengronds rondom het Parlement en ons nieuwe hoofdkwartier (Hertogstraat 69). Wie met het openbaar vervoer komt\, wandelt ongeveer 15 minuten vanaf station Brussel-Centraal\, of kan gebruikmaken van de metro (halte Madou of Kunst-Wet)\, bus (29\, 63\, 65 en 66\, halte Drukpers) of tram (92 en 93\, halte Congres of Park). \nVooraf inschrijven is noodzakelijk. Dat kan via: karin.moller@vlaamsbelang.org of telefonisch op 02/219 60 09\nWij kijken ernaar uit u te verwelkomen en samen van deze namiddag een waardevolle en bijzondere ervaring te maken. Uw aanwezigheid telt mee!
URL:https://seniorenforum.vlaamsbelang.org/activiteitenkalender/congres-senioren-tellen-mee/
LOCATION:Zaal de Schelp\, Vlaams Parlement\, ingang Ijzerenkruisstraat 99\, Brussel\, Vlaams Brabant\, 1000\, Belgium
ATTACH;FMTTYPE=image/jpeg:https://seniorenforum.vlaamsbelang.org/wp-content/uploads/2025/10/202510_SF_Congres_1_1-scaled.jpg
ORGANIZER;CN="Seniorenforum Nationaal":MAILTO:karin.moller@vlaamsbelang.org
END:VEVENT
BEGIN:VEVENT
DTSTART;TZID=Europe/Brussels:20251108T143000
DTEND;TZID=Europe/Brussels:20251108T170000
DTSTAMP:20260420T001236
CREATED:20250922T094626Z
LAST-MODIFIED:20251020T130814Z
UID:10001600-1762612200-1762621200@seniorenforum.vlaamsbelang.org
SUMMARY:Seniorenforum Brugge-Oostkust - Lezing:  “De Sint en zijn knecht\, wie zijn ze echt?"
DESCRIPTION:Spreker: Wim Vangheluwe \nHoe bereiken?: Met bus 30 vanaf station Brugge tot aan de kerk van St-Andries = recht tegenover Den Comptoir. Voldoende parking voor wagens. \nInschrijven: € 10 (1 consumptie inbegrepen) te storten op rek. BE22 731 055 122 647 van Seniorenforum B-O. Dit voor 01.11.25. \nInlichtingen: 0495/10.11.90 (Ignace) \nOrganisator: Seniorenforum Brugge-Oostkust
URL:https://seniorenforum.vlaamsbelang.org/activiteitenkalender/seniorenforum-brugge-oostkust-lezing-de-sint-en-zijn-knecht-wie-zijn-ze-echt/
LOCATION:Den Comptoir\, Gistelsesteenweg 536\, St-Andries Brugge\, West Vlaanderen\, 8200\, Belgium
ATTACH;FMTTYPE=image/jpeg:https://seniorenforum.vlaamsbelang.org/wp-content/uploads/2025/09/uitnodiging-sint_page-0001-1-2.jpg
END:VEVENT
END:VCALENDAR