BEGIN:VCALENDAR
VERSION:2.0
PRODID:-//Seniorenforum - ECPv6.15.20//NONSGML v1.0//EN
CALSCALE:GREGORIAN
METHOD:PUBLISH
X-ORIGINAL-URL:https://seniorenforum.vlaamsbelang.org
X-WR-CALDESC:Evenementen voor Seniorenforum
REFRESH-INTERVAL;VALUE=DURATION:PT1H
X-Robots-Tag:noindex
X-PUBLISHED-TTL:PT1H
BEGIN:VTIMEZONE
TZID:Europe/Brussels
BEGIN:DAYLIGHT
TZOFFSETFROM:+0100
TZOFFSETTO:+0200
TZNAME:CEST
DTSTART:20240331T010000
END:DAYLIGHT
BEGIN:STANDARD
TZOFFSETFROM:+0200
TZOFFSETTO:+0100
TZNAME:CET
DTSTART:20241027T010000
END:STANDARD
BEGIN:DAYLIGHT
TZOFFSETFROM:+0100
TZOFFSETTO:+0200
TZNAME:CEST
DTSTART:20250330T010000
END:DAYLIGHT
BEGIN:STANDARD
TZOFFSETFROM:+0200
TZOFFSETTO:+0100
TZNAME:CET
DTSTART:20251026T010000
END:STANDARD
BEGIN:DAYLIGHT
TZOFFSETFROM:+0100
TZOFFSETTO:+0200
TZNAME:CEST
DTSTART:20260329T010000
END:DAYLIGHT
BEGIN:STANDARD
TZOFFSETFROM:+0200
TZOFFSETTO:+0100
TZNAME:CET
DTSTART:20261025T010000
END:STANDARD
END:VTIMEZONE
BEGIN:VEVENT
DTSTART;TZID=Europe/Brussels:20251113T134500
DTEND;TZID=Europe/Brussels:20251113T170000
DTSTAMP:20260420T013407
CREATED:20251029T133019Z
LAST-MODIFIED:20251029T133547Z
UID:10001613-1763041500-1763053200@seniorenforum.vlaamsbelang.org
SUMMARY:Bezoek aan Wijnen Rabot
DESCRIPTION:Een gerenommeerd Gents wijnhuis dat wij kennen van o.a. de wijn ‘Zuster Godelieve’ en het aperitief ‘Forte d’Oro’\nZij verhuisden naar De Prijkels in Nazareth. Een 8000 m2 nieuwbouw met een volledig nieuwe bottellijn.\nWij volgen de productie en bottellijn onder de deskundige leiding van Jo De Vuyst.\nDaarna genieten wij van een degustatie van de aperitieven en wijnen.\nAfsluiten doen we met een frisdrankje en 3 belegde broodjes. \nSamenkomst op de parking van de zaak: Prijkelstraat 5\, 9810 Nazareth-De Pinte.\nDe rondleiding start om 14 u! Einde voorzien rond 17 u. \nPrijs: 15 € per persoon. \nInschrijven noodzakelijk! Per kerende of 0485 80 68 94 – rekeningnummer BE96 9734 4498 4605 van Seniorenforum Gent. \nIedereen welkom! De plaatsen zijn beperkt! Wie vlug inschrijft is bij de gelukkigen!
URL:https://seniorenforum.vlaamsbelang.org/activiteitenkalender/bezoek-aan-wijnen-rabot/
LOCATION:Wijnhandel Rabotvins\, Prijkelstraat 5\, Nazareth\, oost\, Belgium
ATTACH;FMTTYPE=image/jpeg:https://seniorenforum.vlaamsbelang.org/wp-content/uploads/2025/10/RABOTVINS2.jpg
END:VEVENT
END:VCALENDAR