BEGIN:VCALENDAR
VERSION:2.0
PRODID:-//Seniorenforum - ECPv6.15.20//NONSGML v1.0//EN
CALSCALE:GREGORIAN
METHOD:PUBLISH
X-ORIGINAL-URL:https://seniorenforum.vlaamsbelang.org
X-WR-CALDESC:Evenementen voor Seniorenforum
REFRESH-INTERVAL;VALUE=DURATION:PT1H
X-Robots-Tag:noindex
X-PUBLISHED-TTL:PT1H
BEGIN:VTIMEZONE
TZID:Europe/Brussels
BEGIN:DAYLIGHT
TZOFFSETFROM:+0100
TZOFFSETTO:+0200
TZNAME:CEST
DTSTART:20240331T010000
END:DAYLIGHT
BEGIN:STANDARD
TZOFFSETFROM:+0200
TZOFFSETTO:+0100
TZNAME:CET
DTSTART:20241027T010000
END:STANDARD
BEGIN:DAYLIGHT
TZOFFSETFROM:+0100
TZOFFSETTO:+0200
TZNAME:CEST
DTSTART:20250330T010000
END:DAYLIGHT
BEGIN:STANDARD
TZOFFSETFROM:+0200
TZOFFSETTO:+0100
TZNAME:CET
DTSTART:20251026T010000
END:STANDARD
BEGIN:DAYLIGHT
TZOFFSETFROM:+0100
TZOFFSETTO:+0200
TZNAME:CEST
DTSTART:20260329T010000
END:DAYLIGHT
BEGIN:STANDARD
TZOFFSETFROM:+0200
TZOFFSETTO:+0100
TZNAME:CET
DTSTART:20261025T010000
END:STANDARD
END:VTIMEZONE
BEGIN:VEVENT
DTSTART;TZID=Europe/Brussels:20251115T140000
DTEND;TZID=Europe/Brussels:20251115T180000
DTSTAMP:20260420T013407
CREATED:20250929T104301Z
LAST-MODIFIED:20250929T104301Z
UID:10001602-1763215200-1763229600@seniorenforum.vlaamsbelang.org
SUMMARY:Seniorenforum Zulte - frietjeskaarting
DESCRIPTION:
URL:https://seniorenforum.vlaamsbelang.org/activiteitenkalender/seniorenforum-zulte-frietjeskaarting/
LOCATION:Gaston Martenszaal\, Staatsbaan 148\, Zulte\, Oost Vlaanderen\, 9870\, Belgium
ATTACH;FMTTYPE=image/png:https://seniorenforum.vlaamsbelang.org/wp-content/uploads/2025/09/frietjeskaarting.png
ORGANIZER;CN="Nicky Barra":MAILTO:barra.nicky@icloud.com
END:VEVENT
END:VCALENDAR