BEGIN:VCALENDAR
VERSION:2.0
PRODID:-//Seniorenforum - ECPv6.15.20//NONSGML v1.0//EN
CALSCALE:GREGORIAN
METHOD:PUBLISH
X-WR-CALNAME:Seniorenforum
X-ORIGINAL-URL:https://seniorenforum.vlaamsbelang.org
X-WR-CALDESC:Evenementen voor Seniorenforum
REFRESH-INTERVAL;VALUE=DURATION:PT1H
X-Robots-Tag:noindex
X-PUBLISHED-TTL:PT1H
BEGIN:VTIMEZONE
TZID:Europe/Brussels
BEGIN:DAYLIGHT
TZOFFSETFROM:+0100
TZOFFSETTO:+0200
TZNAME:CEST
DTSTART:20240331T010000
END:DAYLIGHT
BEGIN:STANDARD
TZOFFSETFROM:+0200
TZOFFSETTO:+0100
TZNAME:CET
DTSTART:20241027T010000
END:STANDARD
BEGIN:DAYLIGHT
TZOFFSETFROM:+0100
TZOFFSETTO:+0200
TZNAME:CEST
DTSTART:20250330T010000
END:DAYLIGHT
BEGIN:STANDARD
TZOFFSETFROM:+0200
TZOFFSETTO:+0100
TZNAME:CET
DTSTART:20251026T010000
END:STANDARD
BEGIN:DAYLIGHT
TZOFFSETFROM:+0100
TZOFFSETTO:+0200
TZNAME:CEST
DTSTART:20260329T010000
END:DAYLIGHT
BEGIN:STANDARD
TZOFFSETFROM:+0200
TZOFFSETTO:+0100
TZNAME:CET
DTSTART:20261025T010000
END:STANDARD
END:VTIMEZONE
BEGIN:VEVENT
DTSTART;TZID=Europe/Brussels:20251212T120000
DTEND;TZID=Europe/Brussels:20251212T180000
DTSTAMP:20260419T225921
CREATED:20251104T142321Z
LAST-MODIFIED:20251104T142321Z
UID:10001615-1765540800-1765562400@seniorenforum.vlaamsbelang.org
SUMMARY:Seniorenforum BRUGGE-OOSTKUST - GASTRONOMISCH KERSTDINER
DESCRIPTION:Traditioneel “gastronomisch kerstdiner” in een stijlvol restaurant en een feeërieke omgeving\, in volle polder aan de Damse vaart. Op het menu: aperitief\, soep\, kalkoenroulade (naar believen)\, nagerecht\, koffie/thee en versnaperingen. Inschrijven: € 60 p.p.\, voor 08.12.25 te storten op rek. BE22 7310 5512 2647 van Seniorenforum Brugge-Oostkust\, Brugge. Aanvang: aperitief vanaf 12.15 u. Korte toespraak door Hugo Maes\, ex VVB voorzitter\, ingeleid door Ignace Lowie. Inlichtingen: 0495/10.11.90  (Ignace).
URL:https://seniorenforum.vlaamsbelang.org/activiteitenkalender/seniorenforum-brugge-oostkust-gastronomisch-kerstdiner/
LOCATION:De Groene Wandeling\, Koolkerkesteenweg 52\, Damme\, We\, Belgium
ATTACH;FMTTYPE=image/jpeg:https://seniorenforum.vlaamsbelang.org/wp-content/uploads/2025/11/SF-B-O-ontw.-kerstdin.-2025_page-0001-1.jpg
ORGANIZER;CN="Ignace Lowie":MAILTO:ignace.lowie@gmail.com
END:VEVENT
END:VCALENDAR