BEGIN:VCALENDAR
VERSION:2.0
PRODID:-//Seniorenforum - ECPv6.15.20//NONSGML v1.0//EN
CALSCALE:GREGORIAN
METHOD:PUBLISH
X-ORIGINAL-URL:https://seniorenforum.vlaamsbelang.org
X-WR-CALDESC:Evenementen voor Seniorenforum
REFRESH-INTERVAL;VALUE=DURATION:PT1H
X-Robots-Tag:noindex
X-PUBLISHED-TTL:PT1H
BEGIN:VTIMEZONE
TZID:Europe/Brussels
BEGIN:DAYLIGHT
TZOFFSETFROM:+0100
TZOFFSETTO:+0200
TZNAME:CEST
DTSTART:20240331T010000
END:DAYLIGHT
BEGIN:STANDARD
TZOFFSETFROM:+0200
TZOFFSETTO:+0100
TZNAME:CET
DTSTART:20241027T010000
END:STANDARD
BEGIN:DAYLIGHT
TZOFFSETFROM:+0100
TZOFFSETTO:+0200
TZNAME:CEST
DTSTART:20250330T010000
END:DAYLIGHT
BEGIN:STANDARD
TZOFFSETFROM:+0200
TZOFFSETTO:+0100
TZNAME:CET
DTSTART:20251026T010000
END:STANDARD
BEGIN:DAYLIGHT
TZOFFSETFROM:+0100
TZOFFSETTO:+0200
TZNAME:CEST
DTSTART:20260329T010000
END:DAYLIGHT
BEGIN:STANDARD
TZOFFSETFROM:+0200
TZOFFSETTO:+0100
TZNAME:CET
DTSTART:20261025T010000
END:STANDARD
END:VTIMEZONE
BEGIN:VEVENT
DTSTART;TZID=Europe/Brussels:20251217T153000
DTEND;TZID=Europe/Brussels:20251217T153000
DTSTAMP:20260419T225738
CREATED:20251110T092920Z
LAST-MODIFIED:20251110T092929Z
UID:10001616-1765985400-1765985400@seniorenforum.vlaamsbelang.org
SUMMARY:KERSTFEEST 2025 (SF Regio Antwerpen
DESCRIPTION:We nodigen jullie van harte uit op ons onovertroffen\n\nK E R S T F E E S T \nWOENSDAG 17 DECEMBER 2025 \nFEESTZAAL GOORHOF \nKerklei 18\, Sint-Job-in-‘t-Goor (Brecht) \nDeuren open om 15.30 uur             –             Aanvang om 16.00 uur \nWe verwelkomen Gust Peeters voor poëzie rond de vier elementen\, er zijn foto’s van de voorbije activiteiten \, er is een feestrede en lekker eten! \nKeuzemenu: \nAperitief \nwaterkersroomsoep \nGevulde Kalkoenfilet met appeltje en calvadossaus ° \nCoq au Vin ° \nSchartongrolletjes ° \nKerstgebak \nKoffie \nInschrijven kan enkel door storting van 25 euro p.p. voor 10 december op rek. BE66 9734 2502 5843 m. v. v. namen\, kerstfeest  en keuzemenu kalkoen\, kip of vis°. \nseniorenforumantwerpen@telenet.be \nseniorenforum.antwerpen@vlaamsbelang.org \n0495 827 607 \n\n\n\n\n\n\n\n\n\n\n\n\n\n\n\n\n\n\n\n\n\n\n\n 
URL:https://seniorenforum.vlaamsbelang.org/activiteitenkalender/kerstfeest-2025-sf-regio-antwerpen/
LOCATION:’t Goorhof\, Kerklei 16\, Sint-Job-in-‘t-Goor.\, België
ORGANIZER;CN="Dirk van Onckelen":MAILTO:deveoo@hotmail.com
END:VEVENT
END:VCALENDAR