BEGIN:VCALENDAR
VERSION:2.0
PRODID:-//Seniorenforum - ECPv6.15.20//NONSGML v1.0//EN
CALSCALE:GREGORIAN
METHOD:PUBLISH
X-WR-CALNAME:Seniorenforum
X-ORIGINAL-URL:https://seniorenforum.vlaamsbelang.org
X-WR-CALDESC:Evenementen voor Seniorenforum
REFRESH-INTERVAL;VALUE=DURATION:PT1H
X-Robots-Tag:noindex
X-PUBLISHED-TTL:PT1H
BEGIN:VTIMEZONE
TZID:Europe/Brussels
BEGIN:DAYLIGHT
TZOFFSETFROM:+0100
TZOFFSETTO:+0200
TZNAME:CEST
DTSTART:20250330T010000
END:DAYLIGHT
BEGIN:STANDARD
TZOFFSETFROM:+0200
TZOFFSETTO:+0100
TZNAME:CET
DTSTART:20251026T010000
END:STANDARD
BEGIN:DAYLIGHT
TZOFFSETFROM:+0100
TZOFFSETTO:+0200
TZNAME:CEST
DTSTART:20260329T010000
END:DAYLIGHT
BEGIN:STANDARD
TZOFFSETFROM:+0200
TZOFFSETTO:+0100
TZNAME:CET
DTSTART:20261025T010000
END:STANDARD
BEGIN:DAYLIGHT
TZOFFSETFROM:+0100
TZOFFSETTO:+0200
TZNAME:CEST
DTSTART:20270328T010000
END:DAYLIGHT
BEGIN:STANDARD
TZOFFSETFROM:+0200
TZOFFSETTO:+0100
TZNAME:CET
DTSTART:20271031T010000
END:STANDARD
END:VTIMEZONE
BEGIN:VEVENT
DTSTART;TZID=Europe/Brussels:20260124T123000
DTEND;TZID=Europe/Brussels:20260124T170000
DTSTAMP:20260419T212501
CREATED:20251209T104430Z
LAST-MODIFIED:20251209T104430Z
UID:10001625-1769257800-1769274000@seniorenforum.vlaamsbelang.org
SUMMARY:Seniorenforum Kempen-Grobbendonk - late verloren maandag
DESCRIPTION:Welkom vanaf 12u30.\nEten: 13u \nKeuze uit 2 worstenbroden of twee appelbollen of  1 worstenbrood  en één appelbol of 1 dubbel worstenbrood. \nPrijs voor leden van VSF Kempen-Grobbendonk.: € 3.\nNiet-leden betalen € 6 \nVooraf inschrijven verplicht. \nDit evenement gaat door in ons zaaltje dus het aantal plaatsen is beperkt tot 25 inschrijvingen.
URL:https://seniorenforum.vlaamsbelang.org/activiteitenkalender/seniorenforum-kempen-grobbendonk-late-verloren-maandag/
LOCATION:Huize Machteld\, Gilliam 8\, Grobbendonk\, Antwerpen\, 2280\, Belgium
END:VEVENT
END:VCALENDAR