BEGIN:VCALENDAR
VERSION:2.0
PRODID:-//Seniorenforum - ECPv6.15.20//NONSGML v1.0//EN
CALSCALE:GREGORIAN
METHOD:PUBLISH
X-ORIGINAL-URL:https://seniorenforum.vlaamsbelang.org
X-WR-CALDESC:Evenementen voor Seniorenforum
REFRESH-INTERVAL;VALUE=DURATION:PT1H
X-Robots-Tag:noindex
X-PUBLISHED-TTL:PT1H
BEGIN:VTIMEZONE
TZID:Europe/Brussels
BEGIN:DAYLIGHT
TZOFFSETFROM:+0100
TZOFFSETTO:+0200
TZNAME:CEST
DTSTART:20250330T010000
END:DAYLIGHT
BEGIN:STANDARD
TZOFFSETFROM:+0200
TZOFFSETTO:+0100
TZNAME:CET
DTSTART:20251026T010000
END:STANDARD
BEGIN:DAYLIGHT
TZOFFSETFROM:+0100
TZOFFSETTO:+0200
TZNAME:CEST
DTSTART:20260329T010000
END:DAYLIGHT
BEGIN:STANDARD
TZOFFSETFROM:+0200
TZOFFSETTO:+0100
TZNAME:CET
DTSTART:20261025T010000
END:STANDARD
BEGIN:DAYLIGHT
TZOFFSETFROM:+0100
TZOFFSETTO:+0200
TZNAME:CEST
DTSTART:20270328T010000
END:DAYLIGHT
BEGIN:STANDARD
TZOFFSETFROM:+0200
TZOFFSETTO:+0100
TZNAME:CET
DTSTART:20271031T010000
END:STANDARD
END:VTIMEZONE
BEGIN:VEVENT
DTSTART;TZID=Europe/Brussels:20260203T140000
DTEND;TZID=Europe/Brussels:20260203T170000
DTSTAMP:20260419T195706
CREATED:20260122T132223Z
LAST-MODIFIED:20260122T132223Z
UID:10001635-1770127200-1770138000@seniorenforum.vlaamsbelang.org
SUMMARY:Seniorenforum Regio Antwerpen - Groepsbezoek:  Vlaams Tram- En Autobusmuseum
DESCRIPTION:DINSDAG 3 FEBRUARI gaan we naar het VLAAMS TRAM- EN AUTOBUSMUSEUM in de voormalige stelplaats van “de buurtspoorwegen”. \nAfspraak om 14.00 uur aan de Diksmuidelaan 42\, Berchem\, en best neemt u daarvoor de bus of de tram want parkeren is daar problematisch.\nVoor de tram: lijn 4 of 9\, voor de bus: lijn 51\, 52 of 53 en ’t treinstation van Berchem is ook al in de buurt. \nWat mag u verwachten? Een reis door de tijd\, van de oudste tram en bus over allerlei modellen tot deze die we zelf ooit gebruikt hebben. Breng zeker uw eigen herinneringen mee!\nWat nog? De verhalen van de gepassioneerde vrijwilligers die dit stukje unieke Antwerpse vervoersgeschiedenis zelf hebben meegemaakt\, hetzij als wattman of busvoerder\, hetzij als mecanicien.  \nWaarschuwing: de voormalige stelplaats is niet verwarmd\, denk daaraan. Beleven maakt dorstig: we eindigen ons bezoek met een vochtige traktatie.\nInschrijven door storting van € 15 op rekening: Seniorenforum regio Antwerpen:BE66 9734 2502 5843 m.v.v. Trammuseum + namen. \nU hebt daarvoor nog tijd tot 25 januari en er is geen limiet. Iedereen welkom!
URL:https://seniorenforum.vlaamsbelang.org/activiteitenkalender/seniorenforum-regio-antwerpen-groepsbezoek-vlaams-tram-en-autobusmuseum/
LOCATION:VLATAM\, Diksmuidelaan 42\, Berchem\, Antwer\, 2600\, Belgium
ATTACH;FMTTYPE=image/png:https://seniorenforum.vlaamsbelang.org/wp-content/uploads/2026/01/trein-tram-bus.png
ORGANIZER;CN="Seniorenforum Antwerpen":MAILTO:seniorenforum.antwerpen@vlaamsbelang.org
END:VEVENT
END:VCALENDAR