BEGIN:VCALENDAR
VERSION:2.0
PRODID:-//Seniorenforum - ECPv6.15.20//NONSGML v1.0//EN
CALSCALE:GREGORIAN
METHOD:PUBLISH
X-WR-CALNAME:Seniorenforum
X-ORIGINAL-URL:https://seniorenforum.vlaamsbelang.org
X-WR-CALDESC:Evenementen voor Seniorenforum
REFRESH-INTERVAL;VALUE=DURATION:PT1H
X-Robots-Tag:noindex
X-PUBLISHED-TTL:PT1H
BEGIN:VTIMEZONE
TZID:Europe/Brussels
BEGIN:DAYLIGHT
TZOFFSETFROM:+0100
TZOFFSETTO:+0200
TZNAME:CEST
DTSTART:20250330T010000
END:DAYLIGHT
BEGIN:STANDARD
TZOFFSETFROM:+0200
TZOFFSETTO:+0100
TZNAME:CET
DTSTART:20251026T010000
END:STANDARD
BEGIN:DAYLIGHT
TZOFFSETFROM:+0100
TZOFFSETTO:+0200
TZNAME:CEST
DTSTART:20260329T010000
END:DAYLIGHT
BEGIN:STANDARD
TZOFFSETFROM:+0200
TZOFFSETTO:+0100
TZNAME:CET
DTSTART:20261025T010000
END:STANDARD
BEGIN:DAYLIGHT
TZOFFSETFROM:+0100
TZOFFSETTO:+0200
TZNAME:CEST
DTSTART:20270328T010000
END:DAYLIGHT
BEGIN:STANDARD
TZOFFSETFROM:+0200
TZOFFSETTO:+0100
TZNAME:CET
DTSTART:20271031T010000
END:STANDARD
END:VTIMEZONE
BEGIN:VEVENT
DTSTART;TZID=Europe/Brussels:20260227T140000
DTEND;TZID=Europe/Brussels:20260227T170000
DTSTAMP:20260419T194618
CREATED:20260122T134148Z
LAST-MODIFIED:20260127T140445Z
UID:10001637-1772200800-1772211600@seniorenforum.vlaamsbelang.org
SUMMARY:Seniorenforum Regio Antwerpen - Amerikalezing: “LA BELGIQUE CRÈVE”.
DESCRIPTION:Voor de “Amerikalezing” van LUC VERMEULEN\, “LA BELGIQUE CRÈVE”\, op VRIJDAG 27 FEBRUARI zullen ook de 35 stoelen snel  bezet zijn\, zoveel is duidelijk. Er zijn er nu al 23 bezet. \n“La Belgique Crève” is de naam van de reportage die de RTBF draaide begin de jaren tachtig van het nog jonge Voorpost dat dit jaar z’n vijftigste verjaardag viert. \nEen halve eeuw later is Luc nog steeds de eeuwige militant op de voorpost van de Vlaamse beweging. Hij zal bij de film (o a van de Voerbetogingen) toelichting geven. \nDe opbrengst van “de pet” – de lezingen zijn gratis maar we laten op ’t eind een pet rondgaan om uit de kosten te komen – gaat naar de Voorpostactie “Huizen van Vlaamse Solidariteit” welke onze bijdrage (dank aan wie via onze rekening deze actie al steunde) absoluut goed zal besteden. \nDorst hoeft u niet te vrezen: de Brabobar in de kelder\, bron van inkomsten voor het Hertogfonds\, is vooraf en nadien open voor alle aanwezigen. \nStel uw reservatie zeker niet te lang uit: seniorenforumantwerpen@telenet.be
URL:https://seniorenforum.vlaamsbelang.org/activiteitenkalender/seniorenforum-regio-antwerpen-amerikalezing-la-creve-belgique/
LOCATION:Vlaams Belang secretariaat Antwerpen\, Amerikalei 98\, Antwerpen\, Antwerpen\, 2000
ORGANIZER;CN="Seniorenforum Antwerpen":MAILTO:seniorenforum.antwerpen@vlaamsbelang.org
END:VEVENT
END:VCALENDAR