BEGIN:VCALENDAR
VERSION:2.0
PRODID:-//Seniorenforum - ECPv6.15.20//NONSGML v1.0//EN
CALSCALE:GREGORIAN
METHOD:PUBLISH
X-WR-CALNAME:Seniorenforum
X-ORIGINAL-URL:https://seniorenforum.vlaamsbelang.org
X-WR-CALDESC:Evenementen voor Seniorenforum
REFRESH-INTERVAL;VALUE=DURATION:PT1H
X-Robots-Tag:noindex
X-PUBLISHED-TTL:PT1H
BEGIN:VTIMEZONE
TZID:Europe/Brussels
BEGIN:DAYLIGHT
TZOFFSETFROM:+0100
TZOFFSETTO:+0200
TZNAME:CEST
DTSTART:20250330T010000
END:DAYLIGHT
BEGIN:STANDARD
TZOFFSETFROM:+0200
TZOFFSETTO:+0100
TZNAME:CET
DTSTART:20251026T010000
END:STANDARD
BEGIN:DAYLIGHT
TZOFFSETFROM:+0100
TZOFFSETTO:+0200
TZNAME:CEST
DTSTART:20260329T010000
END:DAYLIGHT
BEGIN:STANDARD
TZOFFSETFROM:+0200
TZOFFSETTO:+0100
TZNAME:CET
DTSTART:20261025T010000
END:STANDARD
BEGIN:DAYLIGHT
TZOFFSETFROM:+0100
TZOFFSETTO:+0200
TZNAME:CEST
DTSTART:20270328T010000
END:DAYLIGHT
BEGIN:STANDARD
TZOFFSETFROM:+0200
TZOFFSETTO:+0100
TZNAME:CET
DTSTART:20271031T010000
END:STANDARD
END:VTIMEZONE
BEGIN:VEVENT
DTSTART;TZID=Europe/Brussels:20260321T093000
DTEND;TZID=Europe/Brussels:20260321T163000
DTSTAMP:20260419T194621
CREATED:20260127T122951Z
LAST-MODIFIED:20260127T133941Z
UID:10001638-1774085400-1774110600@seniorenforum.vlaamsbelang.org
SUMMARY:SF Limburg - Bezoek Budel (N) en Hamont
DESCRIPTION:Bezoek historisch fabrieksdorp Budel-Dorplein\, rondleiding met gids.\nLunch in De Vègtes\, Hamont.\nBezichtiging Napoleonsmolen\, Hamont. \nDe prijs voor dit alles\, gids\, lunch en 2 drankjes inbegrepen:\n25 euro p/p\nInschrijven vóór 10 maart 2026!\nDit mits overschrijving van het juiste bedrag op rek. nr.\nBE75 9733 9637 2851 op naam van SF Limburg.\nMet vermelding:    SFB    … x K    … x S \n09.45 u.           Samenkomst in Budel (N.)\, net over de grens. Sint Barbaraweg 1\, 6024 AR Budel-Dorplein\, Nederland.\n10.00 u.           Historische stadswandeling Budel-Dorplein met gids. Geen kilometers maken\, maar meer bezichtigen met uitleg door de gids.\n12.00 u.           Vertrek met de auto naar eetgelegenheid De Vègtes in Hamont. Dijk 66\, 3930 Hamont-Achel.\n12.30 u.           Lunch in brasserie De Vègtes.\n14.30 u.           Vertrek met de auto naar de Napoleonsmolen in Hamont. Parkeren op de parking van het nabijgelegen winkelcentrum. Bernhard Kempplein\, 3930 Hamont-Achel.\n14.45 u.           Korte rondleiding Napoleonsmolen. Deze molen is in werking.\n16.00 u.           Afsluitende drink in de nabijgelegen Bistro Napoleon. \n16.30 u.           Einde. Iedereen tevreden huiswaarts.
URL:https://seniorenforum.vlaamsbelang.org/activiteitenkalender/sf-limburg-bezoek-budel-n-en-hamont/
LOCATION:Budel\, Sint Barbaraweg 1\, Budel\, Noord-Brabant\, 6024 AR\, Netherlands
ATTACH;FMTTYPE=image/jpeg:https://seniorenforum.vlaamsbelang.org/wp-content/uploads/2026/01/budel-1.jpg
ORGANIZER;CN="SF Limburg":MAILTO:jeanpaul.briers@telenet.be
END:VEVENT
END:VCALENDAR