BEGIN:VCALENDAR
VERSION:2.0
PRODID:-//Seniorenforum - ECPv6.15.20//NONSGML v1.0//EN
CALSCALE:GREGORIAN
METHOD:PUBLISH
X-WR-CALNAME:Seniorenforum
X-ORIGINAL-URL:https://seniorenforum.vlaamsbelang.org
X-WR-CALDESC:Evenementen voor Seniorenforum
REFRESH-INTERVAL;VALUE=DURATION:PT1H
X-Robots-Tag:noindex
X-PUBLISHED-TTL:PT1H
BEGIN:VTIMEZONE
TZID:Europe/Brussels
BEGIN:DAYLIGHT
TZOFFSETFROM:+0100
TZOFFSETTO:+0200
TZNAME:CEST
DTSTART:20250330T010000
END:DAYLIGHT
BEGIN:STANDARD
TZOFFSETFROM:+0200
TZOFFSETTO:+0100
TZNAME:CET
DTSTART:20251026T010000
END:STANDARD
BEGIN:DAYLIGHT
TZOFFSETFROM:+0100
TZOFFSETTO:+0200
TZNAME:CEST
DTSTART:20260329T010000
END:DAYLIGHT
BEGIN:STANDARD
TZOFFSETFROM:+0200
TZOFFSETTO:+0100
TZNAME:CET
DTSTART:20261025T010000
END:STANDARD
BEGIN:DAYLIGHT
TZOFFSETFROM:+0100
TZOFFSETTO:+0200
TZNAME:CEST
DTSTART:20270328T010000
END:DAYLIGHT
BEGIN:STANDARD
TZOFFSETFROM:+0200
TZOFFSETTO:+0100
TZNAME:CET
DTSTART:20271031T010000
END:STANDARD
END:VTIMEZONE
BEGIN:VEVENT
DTSTART;TZID=Europe/Brussels:20260331T130000
DTEND;TZID=Europe/Brussels:20260331T170000
DTSTAMP:20260419T165053
CREATED:20260220T125112Z
LAST-MODIFIED:20260220T125112Z
UID:10001646-1774962000-1774976400@seniorenforum.vlaamsbelang.org
SUMMARY:SF Waasland - daguitstap chocolademuseum Brugge
DESCRIPTION:Het Seniorenforum Waasland nodigt u van harte uit voor een gezellige namiddag. \nOp dinsdag 31 maart 2026 bezoeken wij het chocolademuseum in Brugge en sluiten we de rondleiding af met overheerlijke proevertjes.\nEen ideaal moment om bij te praten en/of nieuwe mensen te ontmoeten. \nPraktische informatie \n\nDatum: dinsdag 31 maart 2026\nUur: vertrek bus Lokeren om 13 uur – Gentbrugge 13 uur 15\nPlaats: Lokeren carpool-parking Wolfakker 2 – Gentbrugge P&R E17 Land Van Rodelaan\nBijdrage: €46 per persoon (toegang museum en bus)\n\nWie graag met eigen vervoer naar Brugge gaat is het €16 per persoon voor de toegang tot het museum \nInschrijven\nGelieve het bedrag over te schrijven op rekeningnummer BE62 1400 5878 1461 op naam van ‘Seniorenforum Waasland Patrice De Nutte’\, met vermelding “Daguitstap Brugge” + naam/namen van de deelnemers. \n👉 Inschrijven kan tot en met vrijdag 20 maart 2026. \nHeeft u nog vragen of wenst u bijkomende informatie?\nDan kan u terecht bij Patrice De Nutte via 0489 76 62 30 of per e-mail taxi2.patrice@skynet.be . \nWij hopen u talrijk te mogen verwelkomen voor deze gezellige namiddag!
URL:https://seniorenforum.vlaamsbelang.org/activiteitenkalender/sf-waasland-daguitstap-chocolademuseum-brugge/
LOCATION:Lokeren carpool parking\, Wolfakker 2\, Lokeren\, Oost-Vlaanderen\, Belgium
ORGANIZER;CN="Seniorenforum Waasland":MAILTO:taxi2.patrice@skynet.be
END:VEVENT
END:VCALENDAR