BEGIN:VCALENDAR
VERSION:2.0
PRODID:-//Seniorenforum - ECPv6.15.20//NONSGML v1.0//EN
CALSCALE:GREGORIAN
METHOD:PUBLISH
X-ORIGINAL-URL:https://seniorenforum.vlaamsbelang.org
X-WR-CALDESC:Evenementen voor Seniorenforum
REFRESH-INTERVAL;VALUE=DURATION:PT1H
X-Robots-Tag:noindex
X-PUBLISHED-TTL:PT1H
BEGIN:VTIMEZONE
TZID:Europe/Brussels
BEGIN:DAYLIGHT
TZOFFSETFROM:+0100
TZOFFSETTO:+0200
TZNAME:CEST
DTSTART:20250330T010000
END:DAYLIGHT
BEGIN:STANDARD
TZOFFSETFROM:+0200
TZOFFSETTO:+0100
TZNAME:CET
DTSTART:20251026T010000
END:STANDARD
BEGIN:DAYLIGHT
TZOFFSETFROM:+0100
TZOFFSETTO:+0200
TZNAME:CEST
DTSTART:20260329T010000
END:DAYLIGHT
BEGIN:STANDARD
TZOFFSETFROM:+0200
TZOFFSETTO:+0100
TZNAME:CET
DTSTART:20261025T010000
END:STANDARD
BEGIN:DAYLIGHT
TZOFFSETFROM:+0100
TZOFFSETTO:+0200
TZNAME:CEST
DTSTART:20270328T010000
END:DAYLIGHT
BEGIN:STANDARD
TZOFFSETFROM:+0200
TZOFFSETTO:+0100
TZNAME:CET
DTSTART:20271031T010000
END:STANDARD
END:VTIMEZONE
BEGIN:VEVENT
DTSTART;TZID=Europe/Brussels:20260407T134500
DTEND;TZID=Europe/Brussels:20260407T134500
DTSTAMP:20260419T165105
CREATED:20260306T115437Z
LAST-MODIFIED:20260306T115459Z
UID:10001649-1775569500-1775569500@seniorenforum.vlaamsbelang.org
SUMMARY:Bezoek Mercatormuseum (org. SF Regio Antwerpen)
DESCRIPTION: Datum\nDinsdag 7 april 2026\n\n\nAanvangsuur\n13.45 uur\n\n\nEinduur indien bekend\n\n\n\nTitel activiteit\nBezoek Mercatormuseum\n\n\nGastspreker(s)\ni.s.m.  Seniorenforum Waasland\n\n\nOrganisator\n Seniorenforum Regio Antwerpen\n\n\nRegio\n Antwerpen\n\n\nLocatie\nNMBS-station\n\n\nAdres\nOosterlaan 2\n\n\nGemeente\n9100 Sint-Niklaas\n\n\nNuttige info\, vb. prijs\n€ 8 via rekening BE66 9734 2502 5843\n\n\nContactpersoon\n\n\n\nE-mail contactpersoon\n seniorenforum.antwerpen@vlaamsbelang.org\n\n\nTel. Contactpersoon\n 0495 827 607
URL:https://seniorenforum.vlaamsbelang.org/activiteitenkalender/bezoek-mercatormuseum-org-sf-regio-antwerpen/
LOCATION:NMBS station Sint-Niklaas\, Oosterlaan 2\, Sint-Niklaas\, Oost-Vlaanderen\, 9100
ATTACH;FMTTYPE=image/jpeg:https://seniorenforum.vlaamsbelang.org/wp-content/uploads/2026/03/mercatormuseum-scaled.jpg
ORGANIZER;CN="Dirk van Onckelen":MAILTO:deveoo@hotmail.com
END:VEVENT
BEGIN:VEVENT
DTSTART;TZID=Europe/Brussels:20260407T140000
DTEND;TZID=Europe/Brussels:20260407T140000
DTSTAMP:20260419T165105
CREATED:20260302T131607Z
LAST-MODIFIED:20260315T090851Z
UID:10001647-1775570400-1775570400@seniorenforum.vlaamsbelang.org
SUMMARY:Praatcafé met koffie/thee en taart (org. SF Brugge-Oostkust)
DESCRIPTION:
URL:https://seniorenforum.vlaamsbelang.org/activiteitenkalender/praatcafe-met-koffie-thee-en-taart-org-sf-brugge-oostkust/
LOCATION:Willem Tell\, J. van de Puttelaan 52\, Blankenberge\, West-Vlaanderen\, 8370
ATTACH;FMTTYPE=image/png:https://seniorenforum.vlaamsbelang.org/wp-content/uploads/2026/03/7april.png
ORGANIZER;CN="Ignace Lowie":MAILTO:ignace.lowie@gmail.com
END:VEVENT
END:VCALENDAR