BEGIN:VCALENDAR
VERSION:2.0
PRODID:-//Seniorenforum - ECPv6.15.20//NONSGML v1.0//EN
CALSCALE:GREGORIAN
METHOD:PUBLISH
X-ORIGINAL-URL:https://seniorenforum.vlaamsbelang.org
X-WR-CALDESC:Evenementen voor Seniorenforum
REFRESH-INTERVAL;VALUE=DURATION:PT1H
X-Robots-Tag:noindex
X-PUBLISHED-TTL:PT1H
BEGIN:VTIMEZONE
TZID:Europe/Brussels
BEGIN:DAYLIGHT
TZOFFSETFROM:+0100
TZOFFSETTO:+0200
TZNAME:CEST
DTSTART:20250330T010000
END:DAYLIGHT
BEGIN:STANDARD
TZOFFSETFROM:+0200
TZOFFSETTO:+0100
TZNAME:CET
DTSTART:20251026T010000
END:STANDARD
BEGIN:DAYLIGHT
TZOFFSETFROM:+0100
TZOFFSETTO:+0200
TZNAME:CEST
DTSTART:20260329T010000
END:DAYLIGHT
BEGIN:STANDARD
TZOFFSETFROM:+0200
TZOFFSETTO:+0100
TZNAME:CET
DTSTART:20261025T010000
END:STANDARD
BEGIN:DAYLIGHT
TZOFFSETFROM:+0100
TZOFFSETTO:+0200
TZNAME:CEST
DTSTART:20270328T010000
END:DAYLIGHT
BEGIN:STANDARD
TZOFFSETFROM:+0200
TZOFFSETTO:+0100
TZNAME:CET
DTSTART:20271031T010000
END:STANDARD
END:VTIMEZONE
BEGIN:VEVENT
DTSTART;TZID=Europe/Brussels:20260412T110000
DTEND;TZID=Europe/Brussels:20260412T170000
DTSTAMP:20260419T165138
CREATED:20260306T090037Z
LAST-MODIFIED:20260306T090047Z
UID:10001648-1775991600-1776013200@seniorenforum.vlaamsbelang.org
SUMMARY:SeniorenForum Groot-Leuven\, bezoek aan ‘De Smederij’ en ‘Adept’
DESCRIPTION:SeniorenForum Groot-Leuven\, bezoek aan ‘De Smederij’ en ‘Adept’\n\n\n\nHet was een toonbeeld van Vlaamse inventiviteit en creativiteit toen 3 ondernemers het gebouw van de vroegere smidse te Winksele overnamen en omvormden tot het multifunctioneel centrum “De Smederij”. Het bracht de dorpskern tot leven en werd een attractiepool. Men kan in De Smederij eten\, vergaderen en inspireren\, feesten en ontmoeten\, de brouwerij bezoeken. Uitgetekende wandel- en fietsroutes vertrekken aan de deur…. \nVermelde brouwerij is de microbrouwerij Adept die in De Smederij gevestigd is en een viertal bieren produceert. Wij bezoeken de brouwerij en  maken kennis met het brouwproces. Vanzelfsprekend wordt er ook “geproefd”. \nDe keuken van De Smederij heeft zich een stevige reputatie opgebouwd. Na het bezoek kan men er terecht voor een lunch\, salades\, diner\, gerechtjes om te delen. \nKomt u met ons Adept en De Smederij ontdekken? \nInschrijven: € 14 op rekening BE54 0019 3870 9997 van Seniorenforum Leuven. Dit voor 04.04.26. Beperkt aantal plaatsen. \nAdres: Warotstraat 4\, 3020 Herent (Wilsele). \nAanvang: 11.00 u. \nParking: voldoende parking. \nInlichtingen: 0495/17.28.16 (Bart) of 0499/32.50.76 (Jean)
URL:https://seniorenforum.vlaamsbelang.org/activiteitenkalender/seniorenforum-groot-leuven-bezoek-aan-de-smederij-en-adept/
LOCATION:adept\, Warotstraat 4\,\, Herent\, Vlaams-Brabant\, 3020
ATTACH;FMTTYPE=image/jpeg:https://seniorenforum.vlaamsbelang.org/wp-content/uploads/2026/03/smidse.jpg
ORGANIZER;CN="Bart De Geeter":MAILTO:bart.degeeter@vlaamsbelang.org
END:VEVENT
END:VCALENDAR