BEGIN:VCALENDAR
VERSION:2.0
PRODID:-//Seniorenforum - ECPv6.15.20//NONSGML v1.0//EN
CALSCALE:GREGORIAN
METHOD:PUBLISH
X-WR-CALNAME:Seniorenforum
X-ORIGINAL-URL:https://seniorenforum.vlaamsbelang.org
X-WR-CALDESC:Evenementen voor Seniorenforum
REFRESH-INTERVAL;VALUE=DURATION:PT1H
X-Robots-Tag:noindex
X-PUBLISHED-TTL:PT1H
BEGIN:VTIMEZONE
TZID:Europe/Brussels
BEGIN:DAYLIGHT
TZOFFSETFROM:+0100
TZOFFSETTO:+0200
TZNAME:CEST
DTSTART:20250330T010000
END:DAYLIGHT
BEGIN:STANDARD
TZOFFSETFROM:+0200
TZOFFSETTO:+0100
TZNAME:CET
DTSTART:20251026T010000
END:STANDARD
BEGIN:DAYLIGHT
TZOFFSETFROM:+0100
TZOFFSETTO:+0200
TZNAME:CEST
DTSTART:20260329T010000
END:DAYLIGHT
BEGIN:STANDARD
TZOFFSETFROM:+0200
TZOFFSETTO:+0100
TZNAME:CET
DTSTART:20261025T010000
END:STANDARD
BEGIN:DAYLIGHT
TZOFFSETFROM:+0100
TZOFFSETTO:+0200
TZNAME:CEST
DTSTART:20270328T010000
END:DAYLIGHT
BEGIN:STANDARD
TZOFFSETFROM:+0200
TZOFFSETTO:+0100
TZNAME:CET
DTSTART:20271031T010000
END:STANDARD
END:VTIMEZONE
BEGIN:VEVENT
DTSTART;TZID=Europe/Brussels:20260517T140000
DTEND;TZID=Europe/Brussels:20260517T180000
DTSTAMP:20260419T182352
CREATED:20260115T121508Z
LAST-MODIFIED:20260115T121508Z
UID:10001632-1779026400-1779040800@seniorenforum.vlaamsbelang.org
SUMMARY:Seniorenforum Kempen-Grobbendonk - Zoete ontspanningsnammidag
DESCRIPTION:– Welkom vanaf 14u \n– Met optreden “VROLIJKE VRIENDEN” (Annick en Reccino)  \n– Zoetigheden te verkrijgen \n– Gratis inkom \n– Locatie: de tuin van Huize Machteld\, Gilliam 8\, 2280 Grobbendonk \n– Info: vsf.kempen.grobbendonk@gmail.com
URL:https://seniorenforum.vlaamsbelang.org/activiteitenkalender/seniorenforum-kempen-grobbendonk-zoete-ontspanningsnammidag/
LOCATION:Huize Machteld\, Gilliam 8\, Grobbendonk\, Antwerpen\, 2280\, Belgium
ATTACH;FMTTYPE=image/png:https://seniorenforum.vlaamsbelang.org/wp-content/uploads/2026/01/Zoete-ontspanningsnamiddag-in-Grobbendonk.png
END:VEVENT
END:VCALENDAR