BEGIN:VCALENDAR
VERSION:2.0
PRODID:-//Seniorenforum - ECPv6.15.20//NONSGML v1.0//EN
CALSCALE:GREGORIAN
METHOD:PUBLISH
X-WR-CALNAME:Seniorenforum
X-ORIGINAL-URL:https://seniorenforum.vlaamsbelang.org
X-WR-CALDESC:Evenementen voor Seniorenforum
REFRESH-INTERVAL;VALUE=DURATION:PT1H
X-Robots-Tag:noindex
X-PUBLISHED-TTL:PT1H
BEGIN:VTIMEZONE
TZID:Europe/Brussels
BEGIN:DAYLIGHT
TZOFFSETFROM:+0100
TZOFFSETTO:+0200
TZNAME:CEST
DTSTART:20250330T010000
END:DAYLIGHT
BEGIN:STANDARD
TZOFFSETFROM:+0200
TZOFFSETTO:+0100
TZNAME:CET
DTSTART:20251026T010000
END:STANDARD
BEGIN:DAYLIGHT
TZOFFSETFROM:+0100
TZOFFSETTO:+0200
TZNAME:CEST
DTSTART:20260329T010000
END:DAYLIGHT
BEGIN:STANDARD
TZOFFSETFROM:+0200
TZOFFSETTO:+0100
TZNAME:CET
DTSTART:20261025T010000
END:STANDARD
BEGIN:DAYLIGHT
TZOFFSETFROM:+0100
TZOFFSETTO:+0200
TZNAME:CEST
DTSTART:20270328T010000
END:DAYLIGHT
BEGIN:STANDARD
TZOFFSETFROM:+0200
TZOFFSETTO:+0100
TZNAME:CET
DTSTART:20271031T010000
END:STANDARD
END:VTIMEZONE
BEGIN:VEVENT
DTSTART;TZID=Europe/Brussels:20260526T130000
DTEND;TZID=Europe/Brussels:20260526T170000
DTSTAMP:20260419T223849
CREATED:20260409T090845Z
LAST-MODIFIED:20260409T090845Z
UID:10001655-1779800400-1779814800@seniorenforum.vlaamsbelang.org
SUMMARY:Groepsbezoek ARBORETUM - Seniorenforum Regio Antwerpen
DESCRIPTION:
URL:https://seniorenforum.vlaamsbelang.org/activiteitenkalender/groepsbezoek-arboretum-seniorenforum-regio-antwerpen/
LOCATION:Arboretum\, Heuvel 8\, Kalmthout\, Antwerpen\, 2026
ORGANIZER;CN="Seniorenforum Antwerpen":MAILTO:seniorenforum.antwerpen@vlaamsbelang.org
END:VEVENT
BEGIN:VEVENT
DTSTART;TZID=Europe/Brussels:20260531T143000
DTEND;TZID=Europe/Brussels:20260531T200000
DTSTAMP:20260419T223849
CREATED:20260115T130305Z
LAST-MODIFIED:20260115T130305Z
UID:10001633-1780237800-1780257600@seniorenforum.vlaamsbelang.org
SUMMARY:Seniorenforum Kempen-Grobbendonk – Receptie
DESCRIPTION:Vandaag houden we onze traditionele jaarlijkse receptie.  \nGratis voor leden (lidgeld betaald voor 1 april). \nNiet-leden betalen een bijdrage van € 12 \nWelkom vanaf 14u15. \nGratis drank en versnaperingen naar believen in zelfbediening en  \nvanaf 16u15 serveren we gratis frieten met saus en dit tot 17:30u.  \nNa 18u00 worden de dranken betalend. \nInschrijven is verplicht en dit is mogelijk tot woensdag 27 mei.  \nLocatie: Huize machteld\, Gilliam 8\, 2280 Grobbendonk. \nInfo: vsf.kempen.grobbendonk@gmail.com
URL:https://seniorenforum.vlaamsbelang.org/activiteitenkalender/seniorenforum-kempen-grobbendonk-receptie/
LOCATION:Huize Machteld\, Gilliam 8\, Grobbendonk\, Antwerpen\, 2280\, Belgium
END:VEVENT
END:VCALENDAR