BEGIN:VCALENDAR
VERSION:2.0
PRODID:-//Seniorenforum - ECPv6.15.20//NONSGML v1.0//EN
CALSCALE:GREGORIAN
METHOD:PUBLISH
X-WR-CALNAME:Seniorenforum
X-ORIGINAL-URL:https://seniorenforum.vlaamsbelang.org
X-WR-CALDESC:Evenementen voor Seniorenforum
REFRESH-INTERVAL;VALUE=DURATION:PT1H
X-Robots-Tag:noindex
X-PUBLISHED-TTL:PT1H
BEGIN:VTIMEZONE
TZID:Europe/Brussels
BEGIN:DAYLIGHT
TZOFFSETFROM:+0100
TZOFFSETTO:+0200
TZNAME:CEST
DTSTART:20210328T010000
END:DAYLIGHT
BEGIN:STANDARD
TZOFFSETFROM:+0200
TZOFFSETTO:+0100
TZNAME:CET
DTSTART:20211031T010000
END:STANDARD
BEGIN:DAYLIGHT
TZOFFSETFROM:+0100
TZOFFSETTO:+0200
TZNAME:CEST
DTSTART:20220327T010000
END:DAYLIGHT
BEGIN:STANDARD
TZOFFSETFROM:+0200
TZOFFSETTO:+0100
TZNAME:CET
DTSTART:20221030T010000
END:STANDARD
BEGIN:DAYLIGHT
TZOFFSETFROM:+0100
TZOFFSETTO:+0200
TZNAME:CEST
DTSTART:20230326T010000
END:DAYLIGHT
BEGIN:STANDARD
TZOFFSETFROM:+0200
TZOFFSETTO:+0100
TZNAME:CET
DTSTART:20231029T010000
END:STANDARD
END:VTIMEZONE
BEGIN:VEVENT
DTSTART;TZID=Europe/Brussels:20221211T000000
DTEND;TZID=Europe/Brussels:20221213T000000
DTSTAMP:20260420T054644
CREATED:20221117T141114Z
LAST-MODIFIED:20221117T141114Z
UID:10001260-1670716800-1670889600@seniorenforum.vlaamsbelang.org
SUMMARY:Straatsburgreis van 11\, 12 en 13 december (Org. SF Brabant)
DESCRIPTION:Na 2 jaar onderbreking wegens Covid hernemen wij onze reis naar Straatsburg en omgeving. Er is het bezoek aan het Europees parlement en als uitvalsbasis hebben we dit keer de gemeente Gengenbach (Stadthotel Pfeffermühle) in het Zwarte Woud. \nVertrek: zondag 11 dec. ’22\, om 07.30 u.\, op de parking aan de voetbalvelden te Grimbergen\, Brusselsesteenweg 160. Misschien pikken we ook deelnemers op aan het station van Vilvoorde\, dat hangt af van de inschrijvingen. \nPrijs: uitzonderlijk lage prijs van \n€ 155 per persoon \nte storten op rekening BE44 0689 1002 6745 van Seniorenforum Brabant. Toeslag 1 persoonskamer: € 40. \nProgramma: Het is dan de tijd van de kerstsfeer en de kerstmarkten. We bezoeken zeker de markten van Gengenbach\, Freiburg en Straatsburg. Ook de “Krippenausstellung” te Zell-Unterharmersbach. De markt te Gengenbach is beroemd voor de adventskalender aan het stadhuis. Elke dag van de 24 daagse advent wordt er een raampje geopend en wordt een afbeelding zichtbaar. We doen ook de Hausberg (1284 m.) Schauinsland (omgeving Freiburg) aan en maken een kleine\, makkelijke wandeling op de top. Er werd tijd voorzien voor winkelen in Freiburg en Straatsburg. Op 13.12.22 bezoek aan het Europees parlement waar we door Filip De Man ontvangen worden. \nInlichtingen: Uitgebreide inlichtingen vindt u op de website/facebookpagina van het Seniorenforum. Telefonisch: 0471/75.23.36 (Suzy)\, 02/721.22.54 (Ludo)\, 0477/23.42.57 (Roger). \nDocumenten: Om veiligheidsredenen vraagt het EP ons naam\, voornaam\, geboortedatum en  juist adres van de deelnemers op te geven. Gelieve ons dus mee te delen bij inschrijving. Om praktische redenen graag ook uw gsm nr. Dank u. \nTot in december? \nSeniorenforum Brabant. \n \n 
URL:https://seniorenforum.vlaamsbelang.org/activiteitenkalender/straatsburgreis-van-11-12-en-13-december-org-sf-brabant/
LOCATION:Antwerpen
ATTACH;FMTTYPE=image/jpeg:https://seniorenforum.vlaamsbelang.org/wp-content/uploads/2022/04/straatsburg.jpg
ORGANIZER;CN="Ludo Monballiu":MAILTO:seniorenforum.vlaams-brabant@vlaamsbelang.org
END:VEVENT
BEGIN:VEVENT
DTSTART;TZID=Europe/Brussels:20221210T143000
DTEND;TZID=Europe/Brussels:20221210T143000
DTSTAMP:20260420T054644
CREATED:20221125T153422Z
LAST-MODIFIED:20221125T153510Z
UID:10001271-1670682600-1670682600@seniorenforum.vlaamsbelang.org
SUMMARY:Spelnamiddag met bingo en kerstkoeken ( org. SF Leie-Schelde)
DESCRIPTION:
URL:https://seniorenforum.vlaamsbelang.org/activiteitenkalender/spelnamiddag-met-bingo-en-kerstkoeken-org-sf-leie-schelde/
LOCATION:café-feestzaal Casino\, Kooigemplaats 4\, Kooigem\, West-Vlaanderen\, 8510
ATTACH;FMTTYPE=image/jpeg:https://seniorenforum.vlaamsbelang.org/wp-content/uploads/2017/08/bingo.jpg
END:VEVENT
BEGIN:VEVENT
DTSTART;TZID=Europe/Brussels:20221206T121500
DTEND;TZID=Europe/Brussels:20221206T121500
DTSTAMP:20260420T054644
CREATED:20221117T141351Z
LAST-MODIFIED:20221117T141351Z
UID:10001261-1670328900-1670328900@seniorenforum.vlaamsbelang.org
SUMMARY:Groepsbezoek aan de stad Sint-Niklaas met Tabaksmuseum en stadswandeling (org. SF regio Antwerpen)
DESCRIPTION:Dinsdag 6 december: groepsbezoek Sint-Niklaas (de stad) met Tabaksmuseum en stadswandeling. \n-Samenkomst om 13.00 uur aan het NMBS-Station\, Oosterlaan 2 te Sint-Niklaas. \n-Samenkomst Antwerpen: 12.15 uur\, Centraal station\, perron 2. \nbijdrage: 10 euro via rek: BE66 9734 2502 5843 \n\n v. v. namen deelnemers + Sint-Niklaas\n\nInschrijven via:  seniorenforum.antwerpen@vlaamsbelang.org \n0495 827 607
URL:https://seniorenforum.vlaamsbelang.org/activiteitenkalender/groepsbezoek-aan-de-stad-sint-niklaas-met-tabaksmuseum-en-stadswandeling-org-sf-regio-antwerpen/
LOCATION:Centraal station Antwerpen
ATTACH;FMTTYPE=image/jpeg:https://seniorenforum.vlaamsbelang.org/wp-content/uploads/2022/11/Pijp-en-Tabaksmuseum.jpg
ORGANIZER;CN="Seniorenforum Antwerpen":MAILTO:seniorenforum.antwerpen@vlaamsbelang.org
END:VEVENT
BEGIN:VEVENT
DTSTART;TZID=Europe/Brussels:20221203T071500
DTEND;TZID=Europe/Brussels:20221203T071500
DTSTAMP:20260420T054644
CREATED:20221117T141637Z
LAST-MODIFIED:20221117T141637Z
UID:10001262-1670051700-1670051700@seniorenforum.vlaamsbelang.org
SUMMARY:Busreis naar Keulen (org. VSF Kempen-Grobbendonk)
DESCRIPTION:Zaterdag 3 december: busreis naar Keulen. \nStopplaatsen: – 07:15u * Rond punt Wommelgem (groentekraam) \n– 07:30u * Vaartkom Grobbendonk (brandweer) \n– 19:00u * Vertrek uit Keulen \nLeden van onze afdeling:   € 9   /   Niet-leden betalen:  € 13 \nInschrijven en betalen kan op rekeningnummer: BE11 9795 2736 4248 (vergeet niet de opstapplaats te vermelden). \nEr zijn reeds 35 inschrijvingen. \nVergeet niet dat vooraf inschrijven én betalen verplicht is.
URL:https://seniorenforum.vlaamsbelang.org/activiteitenkalender/busreis-naar-keulen-org-vsf-kempen-grobbendonk/
LOCATION:Antwerpen
ATTACH;FMTTYPE=image/jpeg:https://seniorenforum.vlaamsbelang.org/wp-content/uploads/2022/10/keulen3-1000x667-1.jpg
END:VEVENT
BEGIN:VEVENT
DTSTART;TZID=Europe/Brussels:20221126T143000
DTEND;TZID=Europe/Brussels:20221126T143000
DTSTAMP:20260420T054644
CREATED:20221117T141849Z
LAST-MODIFIED:20221117T141849Z
UID:10001263-1669473000-1669473000@seniorenforum.vlaamsbelang.org
SUMMARY:Limburgse gezelligheid troef: optreden superentertainer Jos Roofthooft (org SF Limburg)
DESCRIPTION:
URL:https://seniorenforum.vlaamsbelang.org/activiteitenkalender/limburgse-gezelligheid-troef-optreden-superentertainer-jos-roofthooft-org-sf-limburg/
LOCATION:Zaal De Kwint\, Heuvenstraat 9\, Zonhoven\, 3520
ATTACH;FMTTYPE=image/jpeg:https://seniorenforum.vlaamsbelang.org/wp-content/uploads/2022/09/roorhoofd.jpg
END:VEVENT
BEGIN:VEVENT
DTSTART;TZID=Europe/Brussels:20221125T140000
DTEND;TZID=Europe/Brussels:20221125T140000
DTSTAMP:20260420T054644
CREATED:20221117T142207Z
LAST-MODIFIED:20221117T142207Z
UID:10001264-1669384800-1669384800@seniorenforum.vlaamsbelang.org
SUMMARY:Amerikalezing: “de wet op de wettige zelfverdediging” (org. Seniorenforum Regio Antwerpen)
DESCRIPTION: Datum\nVrijdag 25 november\n\n\nAanvangsuur\n 14.00 uur\n\n\nEinduur indien bekend\n\n\n\nTitel activiteit\nAmerikalezing: “de wet op de wettige zelfverdediging”\n\n\nGastspreker(s)\n Politie-inspecteur o.r. Marianne van den Lemmer\n\n\nOrganisator\n Seniorenforum Regio Antwerpen\n\n\nRegio\n Antwerpen\n\n\nLocatie\nVlaams Belang secretariaat\n\n\nAdres\nAmerikalei 98\n\n\nGemeente\nAntwerpen\n\n\nNuttige info\, vb. prijs\nVrije bijdrage\n\n\nContactpersoon\n\n\n\nE-mail contactpersoon\n seniorenforum.antwerpen@vlaamsbelang.org\n\n\nTel. Contactpersoon\n 0495 827 607
URL:https://seniorenforum.vlaamsbelang.org/activiteitenkalender/amerikalezing-de-wet-op-de-wettige-zelfverdediging-org-seniorenforum-regio-antwerpen/
LOCATION:VB-sec. Antwerpen\, Amerikalei 98\, Antwerpen\, Antwerpen\, 2000\, België
ATTACH;FMTTYPE=image/jpeg:https://seniorenforum.vlaamsbelang.org/wp-content/uploads/2022/02/marianne.jpg
ORGANIZER;CN="Seniorenforum Antwerpen":MAILTO:seniorenforum.antwerpen@vlaamsbelang.org
END:VEVENT
BEGIN:VEVENT
DTSTART;TZID=Europe/Brussels:20221123T143000
DTEND;TZID=Europe/Brussels:20221123T143000
DTSTAMP:20260420T054644
CREATED:20221117T143301Z
LAST-MODIFIED:20221117T143301Z
UID:10001269-1669213800-1669213800@seniorenforum.vlaamsbelang.org
SUMMARY:Infosessie Sociale Media (org. SF West-Vlaanderen)
DESCRIPTION:
URL:https://seniorenforum.vlaamsbelang.org/activiteitenkalender/infosessie-sociale-media-org-sf-west-vlaanderen/
LOCATION:Provinciaal VB-secretariaat\, Kachtemplein 5\, Kachtem\, 8870
ATTACH;FMTTYPE=image/jpeg:https://seniorenforum.vlaamsbelang.org/wp-content/uploads/2022/07/sociale-media1.jpg
END:VEVENT
BEGIN:VEVENT
DTSTART;TZID=Europe/Brussels:20221122T140000
DTEND;TZID=Europe/Brussels:20221122T140000
DTSTAMP:20260420T054644
CREATED:20221117T143602Z
LAST-MODIFIED:20221117T143602Z
UID:10001270-1669125600-1669125600@seniorenforum.vlaamsbelang.org
SUMMARY:Bezoek privémuseum “Huis Mortelmans” (org. Seniorenforum Regio Antwerpen)
DESCRIPTION: Datum\nDinsdag 22 november\n\n\nAanvangsuur\n 14.00 uur\n\n\nEinduur indien bekend\n\n\n\nTitel activiteit\nBezoek privémuseum “Huis Mortelmans”\n\n\nGastspreker(s)\n\n\n\nOrganisator\n Seniorenforum Regio Antwerpen\n\n\nRegio\n Antwerpen\n\n\nLocatie\n“Huis Mortelmans”\n\n\nAdres\nBoterhamstraat 1\n\n\nGemeente\nAntwerpen\n\n\nNuttige info\, vb. prijs\n€ 8 via rekening BE66 9734 2502 5843 m.m.v. Mortelmans + namen deelnemers\n\n\nContactpersoon\n\n\n\nE-mail contactpersoon\n seniorenforum.antwerpen@vlaamsbelang.org\n\n\nTel. Contactpersoon\n 0495 827 607
URL:https://seniorenforum.vlaamsbelang.org/activiteitenkalender/bezoek-privemuseum-huis-mortelmans-org-seniorenforum-regio-antwerpen/
LOCATION:“Huis Mortelmans”\, Boterhamstraat 1\, Antwerpen
ATTACH;FMTTYPE=image/jpeg:https://seniorenforum.vlaamsbelang.org/wp-content/uploads/2022/10/huismortelmans1.jpg
ORGANIZER;CN="Seniorenforum Antwerpen":MAILTO:seniorenforum.antwerpen@vlaamsbelang.org
END:VEVENT
BEGIN:VEVENT
DTSTART;TZID=Europe/Brussels:20221117T170000
DTEND;TZID=Europe/Brussels:20221117T170000
DTSTAMP:20260420T054644
CREATED:20221117T142559Z
LAST-MODIFIED:20221117T142559Z
UID:10001266-1668704400-1668704400@seniorenforum.vlaamsbelang.org
SUMMARY:Kerstfeest in Huize Machteld (org. VSF Kempen-Grobbendonk)
DESCRIPTION:Zaterdag 17 december: kerstfeest op onze thuislocatie * Huize Machteld – Gilliam 8 – 2280 Grobbendonk \nWe vragen € 8 inkom aan onze leden. Niet-leden betalen € 12. \nBetalen op rekeningnummer: BE11 9795 2736 4248 \nWat krijg je daarvoor in de plaats? \nJe bent welkom vanaf 17:00u. \nVanaf 18:00u tot 22:00u gratis dranken. Na 22:00u worden de dranken betalend. \nWe geven onze gewone dranken: dus van water tot en met wijn en de traditionele bieren. \nBovendien schenken we ook gratis warme chocomelk en  glühwein. \nTussen 19:00u en 21:00u staat er een frietkraam. \nGedurende deze twee uur kun je ook onbeperkt smullen van frieten (in een ouderwetse puntzak)\, \nBijbehorende sausen en de volgende snacks: curryworsten (ook speciaal)\, vleeskroketten\, mini loempia’s\, kipcorns en kaaskroketten zijn ook gratis. \nWe voorzien weer een hoge vuurkorf en andere verwarming. \nDe sfeerverlichting zal natuurlijk ook niet ontbreken. \nInschrijven is ook nu weer verplicht (alsook vooraf betalen). \nWe beperken het aantal inschrijvingen tot 60 personen. \nInschrijven kan dus vanaf nu. \nWe hopen 60 inschrijvingen te krijgen want ons aanbod is in feite onweerstaanbaar …….
URL:https://seniorenforum.vlaamsbelang.org/activiteitenkalender/kerstfeest-in-huize-machteld-org-vsf-kempen-grobbendonk/
LOCATION:Huize Machteld\, Gilliam 8\, Grobbendonk\, Antwerpen\, 2280\, Belgium
ATTACH;FMTTYPE=image/jpeg:https://seniorenforum.vlaamsbelang.org/wp-content/uploads/2020/12/kerstboom.jpg
END:VEVENT
END:VCALENDAR