BEGIN:VCALENDAR
VERSION:2.0
PRODID:-//Seniorenforum - ECPv6.15.20//NONSGML v1.0//EN
CALSCALE:GREGORIAN
METHOD:PUBLISH
X-ORIGINAL-URL:https://seniorenforum.vlaamsbelang.org
X-WR-CALDESC:Evenementen voor Seniorenforum
REFRESH-INTERVAL;VALUE=DURATION:PT1H
X-Robots-Tag:noindex
X-PUBLISHED-TTL:PT1H
BEGIN:VTIMEZONE
TZID:Europe/Brussels
BEGIN:DAYLIGHT
TZOFFSETFROM:+0100
TZOFFSETTO:+0200
TZNAME:CEST
DTSTART:20240331T010000
END:DAYLIGHT
BEGIN:STANDARD
TZOFFSETFROM:+0200
TZOFFSETTO:+0100
TZNAME:CET
DTSTART:20241027T010000
END:STANDARD
BEGIN:DAYLIGHT
TZOFFSETFROM:+0100
TZOFFSETTO:+0200
TZNAME:CEST
DTSTART:20250330T010000
END:DAYLIGHT
BEGIN:STANDARD
TZOFFSETFROM:+0200
TZOFFSETTO:+0100
TZNAME:CET
DTSTART:20251026T010000
END:STANDARD
BEGIN:DAYLIGHT
TZOFFSETFROM:+0100
TZOFFSETTO:+0200
TZNAME:CEST
DTSTART:20260329T010000
END:DAYLIGHT
BEGIN:STANDARD
TZOFFSETFROM:+0200
TZOFFSETTO:+0100
TZNAME:CET
DTSTART:20261025T010000
END:STANDARD
END:VTIMEZONE
BEGIN:VEVENT
DTSTART;TZID=Europe/Brussels:20250107T140000
DTEND;TZID=Europe/Brussels:20250107T140000
DTSTAMP:20260419T153623
CREATED:20241208T105133Z
LAST-MODIFIED:20241208T105141Z
UID:10001532-1736258400-1736258400@seniorenforum.vlaamsbelang.org
SUMMARY:Individueel groepsbezoek:  FOMU & MuHKA (org. SF Regio Antwerpen)
DESCRIPTION: Datum\nDinsdag 7 januari 2025\n\n\nAanvangsuur\n 14.00 uur\n\n\nEinduur indien bekend\n\n\n\nTitel activiteit\nIndividueel groepsbezoek: \nFOMU & MuHKA\n\n\nGastspreker(s)\n\n\n\nOrganisator\n Seniorenforum Regio Antwerpen\n\n\nRegio\n Antwerpen\n\n\nLocatie\nFotomuseum Antwerpen\n\n\nAdres\nWaalse kaai 47\n\n\nGemeente\nAntwerpen\n\n\n\n\n\n\nContactpersoon\n\n\n\nE-mail contactpersoon\n seniorenforum.antwerpen@vlaamsbelang.org\n\n\nTel. Contactpersoon\n 0495 827 607
URL:https://seniorenforum.vlaamsbelang.org/activiteitenkalender/individueel-groepsbezoek-fomu-muhka-org-sf-regio-antwerpen/
LOCATION:fotomuseum\, Waalse kaai 47\, Antwerpen\, Antwerpen\, 2000\, Belgium
ATTACH;FMTTYPE=image/jpeg:https://seniorenforum.vlaamsbelang.org/wp-content/uploads/2024/12/fotomus-scaled.jpeg
ORGANIZER;CN="Dirk van Onckelen":MAILTO:deveoo@hotmail.com
END:VEVENT
BEGIN:VEVENT
DTSTART;TZID=Europe/Brussels:20250121T140000
DTEND;TZID=Europe/Brussels:20250121T140000
DTSTAMP:20260419T153623
CREATED:20241208T110050Z
LAST-MODIFIED:20241208T110108Z
UID:10001533-1737468000-1737468000@seniorenforum.vlaamsbelang.org
SUMMARY:WINTERWANDELINGEN in Westmalle: 6 & 2.5 km. (org. SF Regio Antwerpen)
DESCRIPTION: Datum\nZaterdag 21 januari 2025\n\n\nAanvangsuur\n 14.00 uur\n\n\nEinduur indien bekend\n\n\n\nTitel activiteit\nWINTERWANDELINGEN: 6 & 2.5 km.\n\n\nGastspreker(s)\n\n\n\nOrganisator\n Seniorenforum Regio Antwerpen\n\n\nRegio\n Antwerpen\n\n\nLocatie\nCafé TRAPPISTEN (Abdij Westmalle)\n\n\nAdres\nAntwerpsesteenweg 487\n\n\nGemeente\nMalle\n\n\nNuttige info\, vb. prijs\n€ 5\n\n\nContactpersoon\n\n\n\nE-mail contactpersoon\n seniorenforum.antwerpen@vlaamsbelang.org\n\n\nTel. Contactpersoon\n 0495 827 607
URL:https://seniorenforum.vlaamsbelang.org/activiteitenkalender/winterwandelingen-in-westmalle-6-2-5-km-org-sf-regio-antwerpen/
LOCATION:Café TRAPPISTEN (Abdij Westmalle)\, Antwerpsesteenweg 487\, Malle\, 23905
ATTACH;FMTTYPE=image/jpeg:https://seniorenforum.vlaamsbelang.org/wp-content/uploads/2024/12/trappisten.jpg
ORGANIZER;CN="Dirk van Onckelen":MAILTO:deveoo@hotmail.com
END:VEVENT
BEGIN:VEVENT
DTSTART;TZID=Europe/Brussels:20250124T170000
DTEND;TZID=Europe/Brussels:20250124T170000
DTSTAMP:20260419T153623
CREATED:20241226T090617Z
LAST-MODIFIED:20241226T090629Z
UID:10001535-1737738000-1737738000@seniorenforum.vlaamsbelang.org
SUMMARY:Nieuwjaarsetentje SF Mandel
DESCRIPTION:
URL:https://seniorenforum.vlaamsbelang.org/activiteitenkalender/nieuwjaarsetentje-sf-mandel/
LOCATION:Puritas Park\, Koestraat 23\, Rumbeke-Roeselare\, West-Vlaanderen\, 8800
ATTACH;FMTTYPE=image/jpeg:https://seniorenforum.vlaamsbelang.org/wp-content/uploads/2024/12/etentje-2025-scaled.jpg
END:VEVENT
BEGIN:VEVENT
DTSTART;TZID=Europe/Brussels:20250131T140000
DTEND;TZID=Europe/Brussels:20250228T000000
DTSTAMP:20260419T153623
CREATED:20241208T111647Z
LAST-MODIFIED:20241208T111831Z
UID:10001534-1738332000-1740700800@seniorenforum.vlaamsbelang.org
SUMMARY:Amerikalezing: “Licence to kill (Ierland 1919) door Bart Maréchal (Org. SF Regio Antwerpen)
DESCRIPTION: Datum\nVrijdag 31 janauari\n\n\nAanvangsuur\n 14.00 uur\n\n\nEinduur indien bekend\n\n\n\nTitel activiteit\nAmerikalezing: “Licence to kill – Ierland 1919\n\n\nGastspreker(s)\nBart Maréchal\n\n\nOrganisator\n Seniorenforum Regio Antwerpen\n\n\nRegio\n Antwerpen\n\n\nLocatie\nSalon VB-Secretariaat\n\n\nAdres\nAmerikalei 98\n\n\nGemeente\nAntwerpen\n\n\nNuttige info\, vb. prijs\nvrij\n\n\nContactpersoon\n\n\n\nE-mail contactpersoon\n seniorenforum.antwerpen@vlaamsbelang.org\n\n\nTel. Contactpersoon\n 0495 827 607
URL:https://seniorenforum.vlaamsbelang.org/activiteitenkalender/amerikalezing-licence-to-kill-ierland-1919-door-bart-marechal-org-sf-regio-antwerpen/
LOCATION:VB-sec. Antwerpen\, Amerikalei 98\, Antwerpen\, Antwerpen\, 2000\, België
ATTACH;FMTTYPE=image/gif:https://seniorenforum.vlaamsbelang.org/wp-content/uploads/2024/12/ira.gif
ORGANIZER;CN="Dirk van Onckelen":MAILTO:deveoo@hotmail.com
END:VEVENT
END:VCALENDAR