BEGIN:VCALENDAR
VERSION:2.0
PRODID:-//Seniorenforum - ECPv6.15.20//NONSGML v1.0//EN
CALSCALE:GREGORIAN
METHOD:PUBLISH
X-ORIGINAL-URL:https://seniorenforum.vlaamsbelang.org
X-WR-CALDESC:Evenementen voor Seniorenforum
REFRESH-INTERVAL;VALUE=DURATION:PT1H
X-Robots-Tag:noindex
X-PUBLISHED-TTL:PT1H
BEGIN:VTIMEZONE
TZID:Europe/Brussels
BEGIN:DAYLIGHT
TZOFFSETFROM:+0100
TZOFFSETTO:+0200
TZNAME:CEST
DTSTART:20240331T010000
END:DAYLIGHT
BEGIN:STANDARD
TZOFFSETFROM:+0200
TZOFFSETTO:+0100
TZNAME:CET
DTSTART:20241027T010000
END:STANDARD
BEGIN:DAYLIGHT
TZOFFSETFROM:+0100
TZOFFSETTO:+0200
TZNAME:CEST
DTSTART:20250330T010000
END:DAYLIGHT
BEGIN:STANDARD
TZOFFSETFROM:+0200
TZOFFSETTO:+0100
TZNAME:CET
DTSTART:20251026T010000
END:STANDARD
BEGIN:DAYLIGHT
TZOFFSETFROM:+0100
TZOFFSETTO:+0200
TZNAME:CEST
DTSTART:20260329T010000
END:DAYLIGHT
BEGIN:STANDARD
TZOFFSETFROM:+0200
TZOFFSETTO:+0100
TZNAME:CET
DTSTART:20261025T010000
END:STANDARD
END:VTIMEZONE
BEGIN:VEVENT
DTSTART;TZID=Europe/Brussels:20250303T140000
DTEND;TZID=Europe/Brussels:20250303T140000
DTSTAMP:20260419T182911
CREATED:20250110T084042Z
LAST-MODIFIED:20250110T084049Z
UID:10001540-1741010400-1741010400@seniorenforum.vlaamsbelang.org
SUMMARY:Individueel groepsbezoek:“Dürer in Antwerpen” (org. SF Regio Antwerpen)
DESCRIPTION: Datum\nMaandag 3 maart 2025\n\n\nAanvangsuur\n 14.00 uur\n\n\nEinduur indien bekend\n\n\n\nTitel activiteit\nIndividueel groepsbezoek: \n“Dürer in Antwerpen”\n\n\nGastspreker(s)\n\n\n\nOrganisator\n Seniorenforum Regio Antwerpen\n\n\nRegio\n Antwerpen\n\n\nLocatie\nMuseum De Reede\n\n\nAdres\nErnest Van Dijckkaai 78\n\n\nGemeente\nAntwerpen\n\n\nNuttige info\, vb. prijs\nGratis met Museumpas of A-kaart\n\n\nContactpersoon\n\n\n\nE-mail contactpersoon\n seniorenforum.antwerpen@vlaamsbelang.org\n\n\nTel. Contactpersoon\n 0495 827 607\n\n\n\n\n\n\n\n  \n  \n 
URL:https://seniorenforum.vlaamsbelang.org/activiteitenkalender/individueel-groepsbezoekdurer-in-antwerpen-org-sf-regio-antwerpen/
LOCATION:Museum De Reede\, Ernest Van Dijckkaai 78\, Antwerpen\, 2000\, Belgium
ATTACH;FMTTYPE=image/jpeg:https://seniorenforum.vlaamsbelang.org/wp-content/uploads/2025/01/durer2.jpeg
ORGANIZER;CN="Dirk van Onckelen":MAILTO:deveoo@hotmail.com
END:VEVENT
BEGIN:VEVENT
DTSTART;TZID=Europe/Brussels:20250304T190000
DTEND;TZID=Europe/Brussels:20250304T190000
DTSTAMP:20260419T182911
CREATED:20250214T090148Z
LAST-MODIFIED:20250217T080612Z
UID:10001554-1741114800-1741114800@seniorenforum.vlaamsbelang.org
SUMMARY:Europees parlementslid Tom Vandendriessche(VB) komt naar Leuven: 'Waarheen met de Europese Unie?  (org. SF Groot Leuven)
DESCRIPTION:  HET SENIORENFORUM GROOT-LEUVEN NODIGT U OP 04.03.2025 UIT OP HET REFERAAT \n“WAT KOST ONS EUROPA ?” door Europarlementslid TOM VANDENDRIESSCHE\, lid van de fractie “Patriotten voor Europa” \n Waar?:  Radiomuseum\, Herpendaalstraat 13 A\, 3053 Haasrode. \nAanvang: 19.00 u. \nToegang: gratis. \nInlichtingen: 0499/32.50.76 (Jean)   0495/17.28.16 (Bart)   0496/87.71.99 (Geert) \nAllen  ten zeerste welkom op deze niet te missen activiteit! \nJean Holemans\, i.o.v. SF Groot-Leuven \n 
URL:https://seniorenforum.vlaamsbelang.org/activiteitenkalender/europarlementslid-tom-vandendriessche-komt-naar-leuven-wat-kost-europa-org-sf-groot-leuven/
LOCATION:Brabants Radiomuseum\, Herpendaalstraat 13 bus A\, Haasrode\, Vlaams-Brabant\, 3053
ATTACH;FMTTYPE=image/jpeg:https://seniorenforum.vlaamsbelang.org/wp-content/uploads/2025/02/tomvdd.jpg
ORGANIZER;CN="Jean Holemans":MAILTO:jean.holemans@gmail.com
END:VEVENT
BEGIN:VEVENT
DTSTART;TZID=Europe/Brussels:20250308T101500
DTEND;TZID=Europe/Brussels:20250308T101500
DTSTAMP:20260419T182911
CREATED:20250212T080201Z
LAST-MODIFIED:20250212T080210Z
UID:10001552-1741428900-1741428900@seniorenforum.vlaamsbelang.org
SUMMARY:Maaseik\, stadswandeling met gids (org. SF Limburg)
DESCRIPTION:
URL:https://seniorenforum.vlaamsbelang.org/activiteitenkalender/maaseik-stadswandeling-met-gids-org-sf-limburg/
LOCATION:Markt\, Markt\, Maaseik\, Limburg\, 3680
ATTACH;FMTTYPE=image/jpeg:https://seniorenforum.vlaamsbelang.org/wp-content/uploads/2025/02/maaseik3.jpeg
END:VEVENT
BEGIN:VEVENT
DTSTART;TZID=Europe/Brussels:20250308T143000
DTEND;TZID=Europe/Brussels:20250308T143000
DTSTAMP:20260419T182911
CREATED:20250207T110218Z
LAST-MODIFIED:20250207T110226Z
UID:10001546-1741444200-1741444200@seniorenforum.vlaamsbelang.org
SUMMARY:De collaboratie in het Brugse 1940-1945 door volksvertegenwoordiger Kurt Ravyts (org. SF Brugge -Oostkust)
DESCRIPTION:
URL:https://seniorenforum.vlaamsbelang.org/activiteitenkalender/de-collaboratie-in-het-brugse-1940-1945-door-volksvertegenwoordiger-kurt-ravyts-org-sf-brugge-oostkust/
LOCATION:“Den Comptoir”\, zaal Jan Breydel\, Gistelsesteenweg 536\,\, Sint-Andries-Brugge.\, West-Vlaanderen\, 8200
ATTACH;FMTTYPE=image/jpeg:https://seniorenforum.vlaamsbelang.org/wp-content/uploads/2025/02/uitnodiging-collaboratie-brugge2_page-0001-1-1.jpg
END:VEVENT
BEGIN:VEVENT
DTSTART;TZID=Europe/Brussels:20250312T140000
DTEND;TZID=Europe/Brussels:20250312T140000
DTSTAMP:20260419T182911
CREATED:20250207T140125Z
LAST-MODIFIED:20250207T140132Z
UID:10001547-1741788000-1741788000@seniorenforum.vlaamsbelang.org
SUMMARY:Gegidst groepsbezoek VolXmuseum Deurne (Org. SF Regio Antwerpen)
DESCRIPTION: Datum\nWoensdag 12 maart 2025\n\n\nAanvangsuur\n 14.00 uur\n\n\nEinduur indien bekend\n\n\n\nTitel activiteit\nGegidst groepsbezoek \nVolXmuseum Deurne\n\n\nGastspreker(s)\n\n\n\nOrganisator\n Seniorenforum Regio Antwerpen\n\n\nRegio\n Antwerpen\n\n\nLocatie\nVolXmuseum\n\n\nAdres\nKoraalplaats 2\n\n\nGemeente\nDeurne -Antwerpen\n\n\nNuttige info\, vb. prijs\n€ 8\, op rekening BE66 9734 2502 5843 mvv VolXmuseum + namen\n\n\nContactpersoon\n\n\n\nE-mail contactpersoon\n seniorenforum.antwerpen@vlaamsbelang.org\n\n\nTel. Contactpersoon\n 0495 827 607
URL:https://seniorenforum.vlaamsbelang.org/activiteitenkalender/gegidst-groepsbezoek-volxmuseum-deurne-org-sf-regio-antwerpen-2/
LOCATION:VolXmuseum\, Koraalplaats 2\, Deurne-Antwerpen\, Antwerpen\, 2100
ATTACH;FMTTYPE=image/jpeg:https://seniorenforum.vlaamsbelang.org/wp-content/uploads/2025/02/volxmuseum-voortuin.jpg
END:VEVENT
BEGIN:VEVENT
DTSTART;TZID=Europe/Brussels:20250316T140000
DTEND;TZID=Europe/Brussels:20250316T140000
DTSTAMP:20260419T182911
CREATED:20250122T142612Z
LAST-MODIFIED:20250211T080727Z
UID:10001542-1742133600-1742133600@seniorenforum.vlaamsbelang.org
SUMMARY:Geleide wandeling in Buggenhoutbos (org. SF Bruegel)
DESCRIPTION:Men moet geen groene freak of doemdenker te zijn om vast te stellen dat er geen afgelijnde seizoenen meer zijn. Dat valt zeker de senioren op\, zij hebben vergelijkingspunten. Elke senior heeft nog winters meegemaakt met krakende vrieskou\, 60 cm sneeuw en vastgevroren meren en rivieren. Het voorgaande ook al als verantwoording en uitleg voor het feit dat onze ”lentewandeling” in feite nog in de astronomische winter (21.12.2024 tot 19.03.25) valt maar wel in de meteorologische lente (01.03 tot 31.05.2025). \nHET SENIORENFORUM  B R U E G E L  NODIGT U UIT OP HAAR \nLentewandeling op 16.03.2025 in het Buggenhoutbos \nAanvangsuur: 14.00 u. \nStartplaats: parking tegenover de Boskapel\, Kasteelstraat\, 9255 Buggenhout. \nWandeling: afstand +- 7 km\, deels boswegen\, deels verharde wegen. Wij doen de wandeling met een gids. Verkorte wandeling van +- 4 km mogelijk. \nKledij: stevige schoenen\, kledij aangepast aan de weersomstandigheden. \nInschrijving: € 3\, te storten op bankrekening BE97 035228080686 van Seniorenforum Bruegel. \nInlichtingen: 0477/74.90.85   0473/26.86.92   0477/23.42.57 \nAan het eindpunt van de wandeling zijn horecazaken gevestigd. Geen vrees dat honger of dorst zal geleden worden…. \nBeste groeten en tot dan\, \nMarc Cordeels\, voorzitter SF Bruegel
URL:https://seniorenforum.vlaamsbelang.org/activiteitenkalender/geleide-wandeling-in-buggenhoutbos-org-sf-bruegel/
LOCATION:Boskapel\, Kasteelstraat\, Buggenhout\, 9255
ATTACH;FMTTYPE=image/jpeg:https://seniorenforum.vlaamsbelang.org/wp-content/uploads/2025/01/buggenhoutbos.jpg
ORGANIZER;CN="Marc Cordeels":MAILTO:fafifoernik@skynet.be
END:VEVENT
BEGIN:VEVENT
DTSTART;TZID=Europe/Brussels:20250318T093000
DTEND;TZID=Europe/Brussels:20250318T093000
DTSTAMP:20260419T182911
CREATED:20250213T103413Z
LAST-MODIFIED:20250305T144630Z
UID:10001553-1742290200-1742290200@seniorenforum.vlaamsbelang.org
SUMMARY:Busuitstap naar het Vlasmuseum Texture in Kortrijk (org. SF Mandel)
DESCRIPTION:
URL:https://seniorenforum.vlaamsbelang.org/activiteitenkalender/busuitstap-naar-het-vlasmuseum-texture-in-kortrijk-org-sf-mandel/
LOCATION:Expohallen Roeselare\, Diksmuidesteenweg 400\, Roeselare\, West-Vlaanderen
ATTACH;FMTTYPE=image/jpeg:https://seniorenforum.vlaamsbelang.org/wp-content/uploads/2025/02/afgelast.jpeg
END:VEVENT
BEGIN:VEVENT
DTSTART;TZID=Europe/Brussels:20250318T140000
DTEND;TZID=Europe/Brussels:20250318T140000
DTSTAMP:20260419T182911
CREATED:20250207T140843Z
LAST-MODIFIED:20250207T140851Z
UID:10001548-1742306400-1742306400@seniorenforum.vlaamsbelang.org
SUMMARY:Tweelingwandeling Moretusbossen\, 2\,4 & 6 km.  (Org. SF Regio Antwerpen)
DESCRIPTION: Datum\nDinsdag 18 maart 2025\n\n\nAanvangsuur\n 14.00 uur\n\n\nEinduur indien bekend\n\n\n\nTitel activiteit\nTweelingwandeling Moretusbossen\, 2\,4 & 6 km.\n\n\nGastspreker(s)\nGids: Michel Quaeyhaegens\n\n\nOrganisator\n Seniorenforum Regio Antwerpen\n\n\nRegio\n Antwerpen\n\n\nLocatie\nKasteel Ravenhof\n\n\nAdres\nOud Broek 4\n\n\nGemeente\nPutte – Stabroek\n\n\nNuttige info\, vb. prijs\n€ 5\n\n\nContactpersoon\n\n\n\nE-mail contactpersoon\n seniorenforum.antwerpen@vlaamsbelang.org\n\n\nTel. Contactpersoon\n 0495 827 607
URL:https://seniorenforum.vlaamsbelang.org/activiteitenkalender/tweelingwandeling-moretusbossen-24-6-km-org-sf-regio-antwerpen/
LOCATION:Kasteel Ravenhof\, Oude Broek 4\, Putte - Stabroek\, Antwerpen\, 2940
ATTACH;FMTTYPE=image/jpeg:https://seniorenforum.vlaamsbelang.org/wp-content/uploads/2025/02/stabroek.jpeg
ORGANIZER;CN="Dirk van Onckelen":MAILTO:deveoo@hotmail.com
END:VEVENT
BEGIN:VEVENT
DTSTART;TZID=Europe/Brussels:20250328T140000
DTEND;TZID=Europe/Brussels:20250328T140000
DTSTAMP:20260419T182911
CREATED:20250207T141333Z
LAST-MODIFIED:20250207T141351Z
UID:10001549-1743170400-1743170400@seniorenforum.vlaamsbelang.org
SUMMARY:Amerikalezing: “De Bourgondiërs” (org.  SF Regio Antwerpen & Hertogfonds)
DESCRIPTION: Datum\nVrijdag 28 maart 2025\n\n\nAanvangsuur\n 14.00 uur\n\n\nEinduur indien bekend\n\n\n\nTitel activiteit\nAmerikalezing: “De Bourgondiërs”\n\n\nGastspreker(s)\nFrank Van Dam\n\n\nOrganisator\n Seniorenforum Regio Antwerpen & Hertogfonds\n\n\nRegio\n Antwerpen\n\n\nLocatie\nVB-secretariaat\n\n\nAdres\nAmerikalei 98\n\n\nGemeente\nAntwerpen\n\n\nNuttige info\, vb. prijs\n\n\n\nContactpersoon\n\n\n\nE-mail contactpersoon\n seniorenforum.antwerpen@vlaamsbelang.org\n\n\nTel. Contactpersoon\n 0495 827 607\n\n\n\n\n\n\n\n  \n  \n  \n  \n  \n  \n  \n  \n 
URL:https://seniorenforum.vlaamsbelang.org/activiteitenkalender/amerikalezing-de-bourgondiers-org-sf-regio-antwerpen-hertogfonds/
LOCATION:VB-sec. Antwerpen\, Amerikalei 98\, Antwerpen\, Antwerpen\, 2000\, België
ATTACH;FMTTYPE=image/jpeg:https://seniorenforum.vlaamsbelang.org/wp-content/uploads/2025/02/bourgondiers.jpeg
ORGANIZER;CN="Dirk van Onckelen":MAILTO:deveoo@hotmail.com
END:VEVENT
BEGIN:VEVENT
DTSTART;TZID=Europe/Brussels:20250330T000000
DTEND;TZID=Europe/Brussels:20250401T000000
DTSTAMP:20260419T182911
CREATED:20250208T081943Z
LAST-MODIFIED:20250213T143307Z
UID:10001550-1743292800-1743465600@seniorenforum.vlaamsbelang.org
SUMMARY:3-daagse busreis naar Straatsburg (org. SF Gent-Eeklo)
DESCRIPTION:Beste Senioren\, \nMet het Seniorenforum Gent – Eeklo organiseren wij een 3-daagse busreis naar Straatsburg. \nWij vertrekken vanuit Gentbrugge op zondag 30 maart. Terug dinsdagavond 1 april. Wij logeren in Obernai\, een stadje in de Elzas. \nOnze gastvrouw in het Europees Parlement is Barbara Bonte. Onze reisgids Ignace Lowie. Verantwoordelijke: Gabi De Boever. \nKostprijs halfpension: 190€ per persoon\, eenpersoonskamer: 215€. (BE96 9734 4498 4605) \nHet volledige programma volgt. Geïnteresseerden kunnen inschrijven op  gabi.de.boever@hotmail.com of telefonisch op het nummer 0485 80 68 94. \nVerdere info volgt! \nGabi en Ignace. \n  \nInschrijving \nNaam en officiële voornaam: \nOfficieel adres: \nGeboortedatum: \nNummer ID (identiteitskaart): \nVervaldatum ID: \nE-postadres: \nTelefoonnummer:
URL:https://seniorenforum.vlaamsbelang.org/activiteitenkalender/3-daagse-busreis-naar-straatsburg-org-sf-gent-eeklo/
LOCATION:West Vlaanderen
ATTACH;FMTTYPE=image/jpeg:https://seniorenforum.vlaamsbelang.org/wp-content/uploads/2025/02/Obernai.jpg
END:VEVENT
END:VCALENDAR