BEGIN:VCALENDAR
VERSION:2.0
PRODID:-//Seniorenforum - ECPv6.15.20//NONSGML v1.0//EN
CALSCALE:GREGORIAN
METHOD:PUBLISH
X-WR-CALNAME:Seniorenforum
X-ORIGINAL-URL:https://seniorenforum.vlaamsbelang.org
X-WR-CALDESC:Evenementen voor Seniorenforum
REFRESH-INTERVAL;VALUE=DURATION:PT1H
X-Robots-Tag:noindex
X-PUBLISHED-TTL:PT1H
BEGIN:VTIMEZONE
TZID:Europe/Brussels
BEGIN:DAYLIGHT
TZOFFSETFROM:+0100
TZOFFSETTO:+0200
TZNAME:CEST
DTSTART:20240331T010000
END:DAYLIGHT
BEGIN:STANDARD
TZOFFSETFROM:+0200
TZOFFSETTO:+0100
TZNAME:CET
DTSTART:20241027T010000
END:STANDARD
BEGIN:DAYLIGHT
TZOFFSETFROM:+0100
TZOFFSETTO:+0200
TZNAME:CEST
DTSTART:20250330T010000
END:DAYLIGHT
BEGIN:STANDARD
TZOFFSETFROM:+0200
TZOFFSETTO:+0100
TZNAME:CET
DTSTART:20251026T010000
END:STANDARD
BEGIN:DAYLIGHT
TZOFFSETFROM:+0100
TZOFFSETTO:+0200
TZNAME:CEST
DTSTART:20260329T010000
END:DAYLIGHT
BEGIN:STANDARD
TZOFFSETFROM:+0200
TZOFFSETTO:+0100
TZNAME:CET
DTSTART:20261025T010000
END:STANDARD
END:VTIMEZONE
BEGIN:VEVENT
DTSTART;TZID=Europe/Brussels:20250401T140000
DTEND;TZID=Europe/Brussels:20250401T140000
DTSTAMP:20260419T183759
CREATED:20250305T135323Z
LAST-MODIFIED:20250305T135335Z
UID:10001558-1743516000-1743516000@seniorenforum.vlaamsbelang.org
SUMMARY:Individueel groepsbezoek: “Dulle Griet gaat op tocht.” (org. SF Regio Antwerpen)
DESCRIPTION: Datum\nDinsdag 1 april 2025\n\n\nAanvangsuur\n 14.00 uur\n\n\nEinduur indien bekend\n\n\n\nTitel activiteit\nIndividueel groepsbezoek: \n“Dulle Griet gaat op tocht.”\n\n\nGastspreker(s)\n\n\n\nOrganisator\n Seniorenforum Regio Antwerpen\n\n\nRegio\n Antwerpen\n\n\nLocatie\nMuseum Mayer van den Bergh\n\n\nAdres\nLange Gasthuisstraat 10\n\n\nGemeente\nAntwerpen\n\n\nNuttige info\, vb. prijs\nGratis met Museumpas of A-kaart\n\n\nContactpersoon\n\n\n\nE-mail contactpersoon\n seniorenforum.antwerpen@vlaamsbelang.org\n\n\nTel. Contactpersoon\n 0495 827 607\n\n\n\n\n\n\n\n  \n \n  \n 
URL:https://seniorenforum.vlaamsbelang.org/activiteitenkalender/individueel-groepsbezoek-dulle-griet-gaat-op-tocht-org-sf-regio-antwerpen/
LOCATION:Museum Mayer van den Bergh\, Lange Gasthuisstraat 10\, Antwerpen\, Antwerpen\, 2000
ATTACH;FMTTYPE=image/jpeg:https://seniorenforum.vlaamsbelang.org/wp-content/uploads/2025/03/Dulle_Griet_by_Pieter_Brueghel_I.jpg
ORGANIZER;CN="Dirk van Onckelen":MAILTO:deveoo@hotmail.com
END:VEVENT
BEGIN:VEVENT
DTSTART;TZID=Europe/Brussels:20250411T103000
DTEND;TZID=Europe/Brussels:20250411T103000
DTSTAMP:20260419T183759
CREATED:20250305T142121Z
LAST-MODIFIED:20250305T142224Z
UID:10001559-1744367400-1744367400@seniorenforum.vlaamsbelang.org
SUMMARY:Gegidst groepsbezoek aan de stad Turnhout (org. SF Regio Antwerpen)
DESCRIPTION: Datum\nVrijdag 11 april 2025\n\n\nAanvangsuur\n 10.30 uur\n\n\nEinduur indien bekend\n\n\n\nTitel activiteit\nGegidst groepsbezoek aan de stad Turnhout\n\n\nGastspreker(s)\nSpeelkaartenmuseum\, Begijnhof & stadswandeling\n\n\nOrganisator\n Seniorenforum Regio Antwerpen\n\n\nRegio\n Antwerpen\n\n\nLocatie\nN M B S Station\n\n\nAdres\nStatiestraat\n\n\nGemeente\nTurnhout\n\n\nNuttige info\, vb. prijs\n€ 20\, op rekening BE66 9734 2502 5843 mvv Turnhout + namen\n\n\nContactpersoon\n\n\n\nE-mail contactpersoon\n seniorenforum.antwerpen@vlaamsbelang.org\n\n\nTel. Contactpersoon\n 0495 827 607
URL:https://seniorenforum.vlaamsbelang.org/activiteitenkalender/gegidst-groepsbezoek-aan-de-stad-turnhout-org-sf-regio-antwerpen/
LOCATION:Station Tunhout\, Stationstraat 1\, Turnhout\, Antwerpen\, 2300
ATTACH;FMTTYPE=image/png:https://seniorenforum.vlaamsbelang.org/wp-content/uploads/2025/03/Begijnhof-Turnhout_1.png
ORGANIZER;CN="Dirk van Onckelen":MAILTO:deveoo@hotmail.com
END:VEVENT
BEGIN:VEVENT
DTSTART;TZID=Europe/Brussels:20250415T143000
DTEND;TZID=Europe/Brussels:20250415T143000
DTSTAMP:20260419T183759
CREATED:20250317T122551Z
LAST-MODIFIED:20250317T122558Z
UID:10001562-1744727400-1744727400@seniorenforum.vlaamsbelang.org
SUMMARY:Bingo (met Bruegeltafel) in Den Hazelt in Rumbeke (org. SF Mandel)
DESCRIPTION:
URL:https://seniorenforum.vlaamsbelang.org/activiteitenkalender/bingo-met-bruegeltafel-in-den-hazelt-in-rumbeke-org-sf-mandel/
LOCATION:Den Hazelt\, Pastoor Slossestraat 1\, Rumbeke-Roeselare\, West-Vlaanderen\, 8800
ATTACH;FMTTYPE=image/jpeg:https://seniorenforum.vlaamsbelang.org/wp-content/uploads/2025/03/bingo-2025-scaled.jpg
END:VEVENT
BEGIN:VEVENT
DTSTART;TZID=Europe/Brussels:20250416T133000
DTEND;TZID=Europe/Brussels:20250416T133000
DTSTAMP:20260419T183759
CREATED:20250411T065503Z
LAST-MODIFIED:20250411T065511Z
UID:10001568-1744810200-1744810200@seniorenforum.vlaamsbelang.org
SUMMARY:Bezoek aan het Kasteel van Loppem met gids (org. SF Westhoek-Middenkust)
DESCRIPTION:Dag vrienden woensdag 16 april gaan we op bezoek aan het Kasteel van Loppem met gids .\n\nWe komen samen om 13u30 in de Bistro van de Abdij van Zevenkerke aan de overkant van de ruim voorziene parking en samen gaan we eerst op de koffie  om daarna het Kasteel van Loppem te bezoeken met gids .\n\nOm daarna  mooi af te sluiten gaan we voor een hapje en een natje in de plaatselijke kroeg Sint-Elooi van Loppem.\nEen gezellige namiddag voor iedereen .\n\nVooraf inschrijven  BE61 9731 7731 2517 (prijs  26€ p.p. met vermelding  naam\, tel \,aantal pers. \, email.\nInfo     johan.desender1@outlook.com\nTel    0498 84 51 26  Desender johan
URL:https://seniorenforum.vlaamsbelang.org/activiteitenkalender/bezoek-aan-het-kasteel-van-loppem-met-gids-org-sf-westhoek-middenkust/
LOCATION:Bistro van de Abdij van Zevenkerke\, Zevenkerken 4\, Brugge\, West-Vlaanderen\, 8200
ATTACH;FMTTYPE=image/jpeg:https://seniorenforum.vlaamsbelang.org/wp-content/uploads/2025/04/loppem.jpg
END:VEVENT
BEGIN:VEVENT
DTSTART;TZID=Europe/Brussels:20250422T130000
DTEND;TZID=Europe/Brussels:20250422T130000
DTSTAMP:20260419T183759
CREATED:20250305T142855Z
LAST-MODIFIED:20250305T142935Z
UID:10001560-1745326800-1745326800@seniorenforum.vlaamsbelang.org
SUMMARY:Individueel groepsbezoek  “Ontwaakt\, flora der aarde…”  (org. SF Regio Antwerpen)
DESCRIPTION: Datum\nDinsdag 22 april 2025\n\n\nAanvangsuur\n 13.00 uur\n\n\nEinduur indien bekend\n\n\n\nTitel activiteit\nIndividueel groepsbezoek \n“Ontwaakt\, flora der aarde…”\n\n\nGastspreker(s)\n\n\n\nOrganisator\n Seniorenforum Regio Antwerpen\n\n\nRegio\n Antwerpen\n\n\nLocatie\nArboretum\n\n\nAdres\nHeuvel 8\n\n\nGemeente\nKalmthout\n\n\nNuttige info\, vb. prijs\n€ 8 of gratis met Museumpas\,\n\n\nContactpersoon\n\n\n\nE-mail contactpersoon\n seniorenforum.antwerpen@vlaamsbelang.org\n\n\nTel. Contactpersoon\n 0495 827 607
URL:https://seniorenforum.vlaamsbelang.org/activiteitenkalender/individueel-groepsbezoek-ontwaakt-flora-der-aarde-org-sf-regio-antwerpen/
LOCATION:Arboretum\, Heuvel 8\, Kalmthout\, Antwerpen\, 2026
ATTACH;FMTTYPE=image/jpeg:https://seniorenforum.vlaamsbelang.org/wp-content/uploads/2025/03/arboretum.jpeg
ORGANIZER;CN="Dirk van Onckelen":MAILTO:deveoo@hotmail.com
END:VEVENT
BEGIN:VEVENT
DTSTART;TZID=Europe/Brussels:20250424T143000
DTEND;TZID=Europe/Brussels:20250424T143000
DTSTAMP:20260419T183759
CREATED:20250224T105729Z
LAST-MODIFIED:20250224T105738Z
UID:10001557-1745505000-1745505000@seniorenforum.vlaamsbelang.org
SUMMARY:Kom 'vogelpikken' met het SF Leie-Schelde
DESCRIPTION:
URL:https://seniorenforum.vlaamsbelang.org/activiteitenkalender/kom-vogelpikken-met-het-sf-leie-schelde/
LOCATION:café Estaminet\, Kortrijksestraat\, Kortrijk\, West-Vlaanderen\, 8500
ATTACH;FMTTYPE=image/jpeg:https://seniorenforum.vlaamsbelang.org/wp-content/uploads/2025/02/roose.jpg
END:VEVENT
BEGIN:VEVENT
DTSTART;TZID=Europe/Brussels:20250425T131500
DTEND;TZID=Europe/Brussels:20250425T131500
DTSTAMP:20260419T183759
CREATED:20250305T144105Z
LAST-MODIFIED:20250305T144118Z
UID:10001561-1745586900-1745586900@seniorenforum.vlaamsbelang.org
SUMMARY:Literaire wandeling: Beschreven stad”. (org. Seniorenforum Regio Antwerpen & Hertogfonds)
DESCRIPTION: Datum\nVrijdag 25 april 2025\n\n\nAanvangsuur\n 13.15 uur\n\n\nEinduur indien bekend\n\n\n\nTitel activiteit\nLiteraire wandeling: Beschreven stad”.\n\n\nGastspreker(s)\n\n\n\nOrganisator\n Seniorenforum Regio Antwerpen & Hertogfonds\n\n\nRegio\n Antwerpen\n\n\nLocatie\nBormshuis\n\n\nAdres\nVolkstraat 30\n\n\nGemeente\nAntwerpen\n\n\nNuttige info\, vb. prijs\n€ 5\n\n\nContactpersoon\n\n\n\nE-mail contactpersoon\n seniorenforum.antwerpen@vlaamsbelang.org\n\n\nTel. Contactpersoon\n 0495 827 607\n\n\n\nFoto: Freepik
URL:https://seniorenforum.vlaamsbelang.org/activiteitenkalender/literaire-wandeling-beschreven-stad-org-seniorenforum-regio-antwerpen-hertogfonds/
LOCATION:Bormshuis\, Volkstraat 30\, Antwerpen\, 2000
ATTACH;FMTTYPE=image/jpeg:https://seniorenforum.vlaamsbelang.org/wp-content/uploads/2025/03/handgetekende-platte-ontwerp-stapel-boeken_23-2149342941.jpg
ORGANIZER;CN="Dirk van Onckelen":MAILTO:deveoo@hotmail.com
END:VEVENT
END:VCALENDAR