BEGIN:VCALENDAR
VERSION:2.0
PRODID:-//Seniorenforum - ECPv6.15.20//NONSGML v1.0//EN
CALSCALE:GREGORIAN
METHOD:PUBLISH
X-ORIGINAL-URL:https://seniorenforum.vlaamsbelang.org
X-WR-CALDESC:Evenementen voor Seniorenforum
REFRESH-INTERVAL;VALUE=DURATION:PT1H
X-Robots-Tag:noindex
X-PUBLISHED-TTL:PT1H
BEGIN:VTIMEZONE
TZID:Europe/Brussels
BEGIN:DAYLIGHT
TZOFFSETFROM:+0100
TZOFFSETTO:+0200
TZNAME:CEST
DTSTART:20240331T010000
END:DAYLIGHT
BEGIN:STANDARD
TZOFFSETFROM:+0200
TZOFFSETTO:+0100
TZNAME:CET
DTSTART:20241027T010000
END:STANDARD
BEGIN:DAYLIGHT
TZOFFSETFROM:+0100
TZOFFSETTO:+0200
TZNAME:CEST
DTSTART:20250330T010000
END:DAYLIGHT
BEGIN:STANDARD
TZOFFSETFROM:+0200
TZOFFSETTO:+0100
TZNAME:CET
DTSTART:20251026T010000
END:STANDARD
BEGIN:DAYLIGHT
TZOFFSETFROM:+0100
TZOFFSETTO:+0200
TZNAME:CEST
DTSTART:20260329T010000
END:DAYLIGHT
BEGIN:STANDARD
TZOFFSETFROM:+0200
TZOFFSETTO:+0100
TZNAME:CET
DTSTART:20261025T010000
END:STANDARD
END:VTIMEZONE
BEGIN:VEVENT
DTSTART;TZID=Europe/Brussels:20250507T083000
DTEND;TZID=Europe/Brussels:20250507T083000
DTSTAMP:20260419T195955
CREATED:20250131T152009Z
LAST-MODIFIED:20250131T152652Z
UID:10001545-1746606600-1746606600@seniorenforum.vlaamsbelang.org
SUMMARY:Dagje Brussel met geleid bezoek aan Vlaams Parlement\, eventueel gevolgd door een bezoek aan het Federaal Parlement (org. SF Denderleeuw)
DESCRIPTION:Woensdag 7 mei : Dagje Brussel met geleid bezoek aan het Vlaams Parlement\, eventauuel ook Senaat en Federaal Parlement.  Gastheer:  Kristof Slagmulder\, Vlaams volksvertegenwoordiger \nIn de namiddag bezoek aan de tentoonstelling ‘Belgian Beer World’ in het Beursgebouw. \nPlaats en uur van afspraak volgen later
URL:https://seniorenforum.vlaamsbelang.org/activiteitenkalender/dagje-brussel-met-geleid-bezoek-aan-vlaams-parlement-eventueel-gevolgd-door-een-bezoek-aan-het-federaal-parlement-org-sf-denderleeuw/
LOCATION:West Vlaanderen
ATTACH;FMTTYPE=image/jpeg:https://seniorenforum.vlaamsbelang.org/wp-content/uploads/2025/01/Koepelzaal-Vlaams-Parlement.jpg
ORGANIZER;CN="Pierre Boschmans":MAILTO:pierre.boschmans1@telenet.be 
END:VEVENT
BEGIN:VEVENT
DTSTART;TZID=Europe/Brussels:20250508T110000
DTEND;TZID=Europe/Brussels:20250508T110000
DTSTAMP:20260419T195955
CREATED:20250409T074025Z
LAST-MODIFIED:20250409T074034Z
UID:10001564-1746702000-1746702000@seniorenforum.vlaamsbelang.org
SUMMARY:Groepsbezoek aan Kortrijk ( org. SF West-Vlaanderen en SF Regio Antwerpen)
DESCRIPTION: Datum\nDonderdag 8 mei 2025\n\n\nAanvangsuur\n 11.00 uur\n\n\nEinduur indien bekend\n\n\n\nTitel activiteit\nGroepsbezoek aan Kortrijk\n\n\nGastspreker(s)\n\n\n\nOrganisator\n Seniorenforum West-Vlaanderen \nSeniorenforum regio Antwerpen\n\n\nRegio\n\n\n\nLocatie\nNMBS-Station\n\n\nAdres\nStationsplein\n\n\nGemeente\nKortrijk\n\n\nNuttige info\, vb. prijs\n€ 35\, op rek: BE66 9734 2502 5843 mvv kortrijk + namen\n\n\nContactpersoon\n\n\n\nE-mail contactpersoon\n seniorenforum.antwerpen@vlaamsbelang.org\n\n\nTel. Contactpersoon\n 0495 827 607
URL:https://seniorenforum.vlaamsbelang.org/activiteitenkalender/groepsbezoek-aan-kortrijk-org-sf-west-vlaanderen-en-sf-regio-antwerpen/
LOCATION:NMBS-Station Kortrijk\, Stationsplein 8\, Kortrijk\, West-Vlaanderen\, 8500
ATTACH;FMTTYPE=image/jpeg:https://seniorenforum.vlaamsbelang.org/wp-content/uploads/2025/04/kortrijk.jpeg
ORGANIZER;CN="Dirk van Onckelen":MAILTO:deveoo@hotmail.com
END:VEVENT
BEGIN:VEVENT
DTSTART;TZID=Europe/Brussels:20250517T040000
DTEND;TZID=Europe/Brussels:20250517T040000
DTSTAMP:20260419T195955
CREATED:20250409T074919Z
LAST-MODIFIED:20250409T074934Z
UID:10001565-1747454400-1747454400@seniorenforum.vlaamsbelang.org
SUMMARY:Individueel groepsbezoek Kathedraal (Org. SF Regio Antwerpen)
DESCRIPTION: Datum\nVrijdag 16 mei 2025\n\n\nAanvangsuur\n 13.30 – 14.30\n\n\nEinduur indien bekend\n\n\n\nTitel activiteit\nIndividueel groepsbezoek Kathedraal\n\n\nGastspreker(s)\nEen eigen brochure vertelt het verhaal van de kathedraal.\n\n\nOrganisator\n Seniorenforum Regio Antwerpen\n\n\nRegio\n Antwerpen\n\n\nLocatie\nBrochure af te halen op terras Den Bengel\n\n\nAdres\nGrote Markt 5\n\n\nGemeente\nAntwerpen\n\n\nNuttige info\, vb. prijs\n€ 5\n\n\nContactpersoon\n\n\n\nE-mail contactpersoon\n seniorenforum.antwerpen@vlaamsbelang.org\n\n\nTel. Contactpersoon\n 0495 827 607
URL:https://seniorenforum.vlaamsbelang.org/activiteitenkalender/individueel-groepsbezoek-kathedraal-org-sf-regio-antwerpen/
LOCATION:Brochure af te halen op terras Den Bengel\, Grote Markt 5\, Antwerpen\, Antwerpen\, 2000
ATTACH;FMTTYPE=image/jpeg:https://seniorenforum.vlaamsbelang.org/wp-content/uploads/2025/04/kathedraalantwerpen.jpg
ORGANIZER;CN="Dirk van Onckelen":MAILTO:deveoo@hotmail.com
END:VEVENT
BEGIN:VEVENT
DTSTART;TZID=Europe/Brussels:20250517T091500
DTEND;TZID=Europe/Brussels:20250517T091500
DTSTAMP:20260419T195955
CREATED:20250224T085238Z
LAST-MODIFIED:20250415T081746Z
UID:10001555-1747473300-1747473300@seniorenforum.vlaamsbelang.org
SUMMARY:SF Limburg bezoekt 'Oud-Rekem' (met gids)
DESCRIPTION:Het Seniorenforum Limburg nodigt u van harte uit voor de eerstvolgende activiteit. \nBezoek aan Oud-Rekem op zaterdag 17 mei 2025 \n\n			\n				\n			\n			\n				\n			\n			\n				\n			\n			\n				\n			\n			\n				\n			\n				\n				User comments\n				\n			\n		\n\n  \nProgramma: \n09.15 u. Samenkomst op de gratis parking Colmonterveld parking 19 Rekem-Lanaken.\n09.30 u. Stadswandeling Oud-Rekem met gids.\nMuseumkerk – Kasteelpark – Museumapotheek.\nOude distillerie Senden met proevertje. Dit is geen rondleiding maar een\nrustige en deels een zittende activiteit…\n12.30 u. Middagmaal Hoeve Pietersheim. Neerharenweg 19 Lanaken.\n14.30 u. Bezoek Burchtruïne met gids.\n16.00 u. Afsluitende drink in de brasserie van de Kinderboederij.\n16.30 u. Einde. Iedereen tevreden huiswaarts. \nDe prijs voor dit alles gidsen\, proevertje\, maaltijd en drankje inbegrepen:\n25 euro p/p \nInschrijven vóór 10 mei 2025!\nDit mits overschrijving van het juiste bedrag op rek. nr. BE75 9733 9637 2851 van  SF Limburg.\nDe prijs kunnen we zo laag houden door de sponsoring van VB-afdeling Lanaken\, waarvoor\ndank!\nMet vermelding: SFL … x K … x S \nMenu:\n• Soep\n• Koninginnenhapje. (K) of\nStoofvlees. (S)\nBeiden geserveerd met frietjes.\n• Koffie\nInschrijving is pas definitief na ontvangst van de totale som op het rek. nr. van SF Limburg.\nDoe tijdig je betaling zodat dit zeker op de rekening staat op 10 mei 2025.\nKom aub tijdig op de afspraakplaats.\nNog vragen? \nInlichtingen bij onze bestuursleden:\nJean-Paul Briers 0485 69 77 39 of jeanpaul.briers@telenet.be\nGil Jeurissen 0499 17 33 66 of giljeurissen@hotmail.com\nEdwin Verjans 0475 55 66 87 of e.v@live.be\nMarleen Spee 0496 26 48 93 of marleen.s@hotmail.com\nDanny Jacobs 0477 52 64 85 of danny.vlb1956@gmail.com\nKoen Ooms 0497 02 50 49 of koenooms@telenet.be \n 
URL:https://seniorenforum.vlaamsbelang.org/activiteitenkalender/sf-limburg-bezoekt-oud-rekem-met-gids/
LOCATION:Parking Colmonter (P19)\, Sint-Pieter\, Lanaken-Oud Rekem\, Limburg\, 3621
ATTACH;FMTTYPE=image/webp:https://seniorenforum.vlaamsbelang.org/wp-content/uploads/2025/02/oud-rekem3.webp
END:VEVENT
BEGIN:VEVENT
DTSTART;TZID=Europe/Brussels:20250520T140000
DTEND;TZID=Europe/Brussels:20250520T140000
DTSTAMP:20260419T195955
CREATED:20250409T075719Z
LAST-MODIFIED:20250409T075726Z
UID:10001566-1747749600-1747749600@seniorenforum.vlaamsbelang.org
SUMMARY:Tweelingwandeling 5\,5 & 2\,3 km te Edegem  (org. SF Regio Antwerpen)
DESCRIPTION: Datum\nDinsdag 20 mei 2025\n\n\nAanvangsuur\n 14.00 uur\n\n\nEinduur indien bekend\n\n\n\nTitel activiteit\nTweelingwandeling 5\,5 & 2\,3 km te Edegem\n\n\nGastspreker(s)\n\n\n\nOrganisator\n Seniorenforum Regio Antwerpen\n\n\nRegio\n Antwerpen\n\n\nLocatie\nVoorplein Hof ter Linden (Taverne)\n\n\nAdres\nDrie Eikenstraat 3\n\n\nGemeente\nEdegem\n\n\nNuttige info\, vb. prijs\n€ 5\n\n\nContactpersoon\n\n\n\nE-mail contactpersoon\n seniorenforum.antwerpen@vlaamsbelang.org\n\n\nTel. Contactpersoon\n 0495 827 607\n\n\n\n\n\n\n\n 
URL:https://seniorenforum.vlaamsbelang.org/activiteitenkalender/tweelingwandeling-55-23-km-te-edegem-org-sf-regio-antwerpen/
LOCATION:Voorplein Hof ter Linden (Taverne)\, Drie Eikenstraat 3\, Edegem\, Antwerpen\, 2650
ATTACH;FMTTYPE=image/webp:https://seniorenforum.vlaamsbelang.org/wp-content/uploads/2025/04/edegem.webp
ORGANIZER;CN="Dirk van Onckelen":MAILTO:deveoo@hotmail.com
END:VEVENT
BEGIN:VEVENT
DTSTART;TZID=Europe/Brussels:20250523T103000
DTEND;TZID=Europe/Brussels:20250523T170000
DTSTAMP:20260419T195955
CREATED:20250512T130935Z
LAST-MODIFIED:20250519T120608Z
UID:10001576-1747996200-1748019600@seniorenforum.vlaamsbelang.org
SUMMARY:Gidswandeling door 'Het stille Brugge' of het 'Gezellekwartier op vrijdag 23 mei
DESCRIPTION:Deze keer gidst de voorzitter en gediplomeerd stadsgids Ignace Lowie u door het minder bekende en veel minder toeristische Brugge. De platgetreden paden worden verlaten en u ontdekt de boeiende wereld van de Brugse ‘verloren hoek’.
URL:https://seniorenforum.vlaamsbelang.org/activiteitenkalender/gidswandeling-door-het-stille-brugge-of-het-gezellekwartier-op-vrijdag-23-mei/
LOCATION:Standbeeld Jan van Eyck\, Jan Van Eyckkplein\, Brugge\, West Vlaanderen\, 8000\, Belgium
ATTACH;FMTTYPE=image/jpeg:https://seniorenforum.vlaamsbelang.org/wp-content/uploads/2025/05/SF-B-O-wandeling-23.05.25-2_page-0001-1-1-6-1-2.jpg
END:VEVENT
BEGIN:VEVENT
DTSTART;TZID=Europe/Brussels:20250525T130000
DTEND;TZID=Europe/Brussels:20250525T130000
DTSTAMP:20260419T195955
CREATED:20250501T065302Z
LAST-MODIFIED:20250501T065324Z
UID:10001570-1748178000-1748178000@seniorenforum.vlaamsbelang.org
SUMMARY:Natuurwandeling in Grobbendonk (org. VSF Kempen-Grobbendonk)
DESCRIPTION:Zon. 25/05: Natuurwandeling \nEr is een nieuw wandelpad geopend in Grobbendonk. \nWe wandelen in de volle natuur langs de oevers van de Nete die we oversteken  via een pas aangelegde hangbrug. Op het einde van het pad komen we uit aan de beschermde site van de\, nog in gebruik zijnde\, watermolen van Grobbendonk. Vlakbij (terug de Nete oversteken) ligt er het domein van de kasteelhoeve. Grobbendonk was in de Romeinse periode een belangrijk dorp voor de Romeinen. Dit wordt die dag (dus 25 mei) in de kijker gezet met de aanwezigheid van een heus Romeins legioen die er hun kamp hebben opgeslagen. Er is ook een klein historisch marktje. We geven de wandelaars de gelegenheid om hier rond te neuzen en/of iets te drinken. Na ongeveer 45 minuten vertrekken we terug langs dezelfde route richting onze thuisbasis. We vragen drie euro deelname\, liefst op voorhand te betalen. NA de wandeling kunnen jullie dan met de bon een consumptie\, naar eigen keuze\, nuttigen. \nOnze tuin blijft gedurende de wandeling heel de tijd geopend. Dus de niet-wandelaars kunnen dan een gezellige babbel doen. \nDe wandeling begint om 13u30. Welkom vanaf 13u
URL:https://seniorenforum.vlaamsbelang.org/activiteitenkalender/natuurwandeling-in-grobbendonk-org-vsf-kempen-grobbendonk/
LOCATION:Huize Machteld\, Gilliam 8\, Grobbendonk\, Antwerpen\, 2280\, Belgium
ATTACH;FMTTYPE=image/jpeg:https://seniorenforum.vlaamsbelang.org/wp-content/uploads/2025/05/natuurwandeling.jpeg
ORGANIZER;CN="Guido Somers":MAILTO:guido.somers@telenet.be
END:VEVENT
BEGIN:VEVENT
DTSTART;TZID=Europe/Brussels:20250530T090000
DTEND;TZID=Europe/Brussels:20250530T090000
DTSTAMP:20260419T195955
CREATED:20250416T093849Z
LAST-MODIFIED:20250416T093856Z
UID:10001569-1748595600-1748595600@seniorenforum.vlaamsbelang.org
SUMMARY:Groepsbezoek aan de gekende Reo Veiling (org. SF Mandel)
DESCRIPTION:
URL:https://seniorenforum.vlaamsbelang.org/activiteitenkalender/groepsbezoek-aan-de-gekende-reo-veiling-org-sf-mandel/
LOCATION:Parking Reo Veilng\, Diksmuidsesteenweg 327-335\, Roeselare\, West-Vlaanderen\, 8800
ATTACH;FMTTYPE=image/jpeg:https://seniorenforum.vlaamsbelang.org/wp-content/uploads/2025/04/Reo-Veiling-scaled.jpg
END:VEVENT
END:VCALENDAR