BEGIN:VCALENDAR
VERSION:2.0
PRODID:-//Seniorenforum - ECPv6.15.20//NONSGML v1.0//EN
CALSCALE:GREGORIAN
METHOD:PUBLISH
X-ORIGINAL-URL:https://seniorenforum.vlaamsbelang.org
X-WR-CALDESC:Evenementen voor Seniorenforum
REFRESH-INTERVAL;VALUE=DURATION:PT1H
X-Robots-Tag:noindex
X-PUBLISHED-TTL:PT1H
BEGIN:VTIMEZONE
TZID:Europe/Brussels
BEGIN:DAYLIGHT
TZOFFSETFROM:+0100
TZOFFSETTO:+0200
TZNAME:CEST
DTSTART:20240331T010000
END:DAYLIGHT
BEGIN:STANDARD
TZOFFSETFROM:+0200
TZOFFSETTO:+0100
TZNAME:CET
DTSTART:20241027T010000
END:STANDARD
BEGIN:DAYLIGHT
TZOFFSETFROM:+0100
TZOFFSETTO:+0200
TZNAME:CEST
DTSTART:20250330T010000
END:DAYLIGHT
BEGIN:STANDARD
TZOFFSETFROM:+0200
TZOFFSETTO:+0100
TZNAME:CET
DTSTART:20251026T010000
END:STANDARD
BEGIN:DAYLIGHT
TZOFFSETFROM:+0100
TZOFFSETTO:+0200
TZNAME:CEST
DTSTART:20260329T010000
END:DAYLIGHT
BEGIN:STANDARD
TZOFFSETFROM:+0200
TZOFFSETTO:+0100
TZNAME:CET
DTSTART:20261025T010000
END:STANDARD
END:VTIMEZONE
BEGIN:VEVENT
DTSTART;TZID=Europe/Brussels:20250803T080000
DTEND;TZID=Europe/Brussels:20250803T170000
DTSTAMP:20260420T013407
CREATED:20250803T071955Z
LAST-MODIFIED:20250803T072134Z
UID:10001591-1754208000-1754240400@seniorenforum.vlaamsbelang.org
SUMMARY:Tirolernamiddag met livemuziek (org. SF Denderleeuw)
DESCRIPTION:Tirolernamiddag met livemuziek: zaterdag 28 september 14u \nZaal Breughel \, Dorp 11 in Denderleeuw \nAangepaste kledij wenselijk maar niet verplicht \nInkom vrij \n  \n 
URL:https://seniorenforum.vlaamsbelang.org/activiteitenkalender/tirolernamiddag-met-livemuziek-org-sf-denderleeuw/
LOCATION:Zaal Breughel\, Dorp 11\, Denderleeuw\, Oost-Vlaanderen\, 9470
ATTACH;FMTTYPE=image/jpeg:https://seniorenforum.vlaamsbelang.org/wp-content/uploads/2025/08/pierre.jpg
ORGANIZER;CN="Pierre Boschmans":MAILTO:pierre.boschmans1@telenet.be 
END:VEVENT
BEGIN:VEVENT
DTSTART;TZID=Europe/Brussels:20250814T140000
DTEND;TZID=Europe/Brussels:20250814T140000
DTSTAMP:20260420T013407
CREATED:20250611T130459Z
LAST-MODIFIED:20250611T130507Z
UID:10001583-1755180000-1755180000@seniorenforum.vlaamsbelang.org
SUMMARY:Tweelingwandeling 3 & 6 km Berendrecht (org. SF Regio Antwerpen)
DESCRIPTION: Datum\nDonderdag 14 augustus 2025\n\n\nAanvangsuur\n 14.00 uur\n\n\nEinduur indien bekend\n\n\n\nTitel activiteit\nTweelingwandeling 3 & 6 km Berendrecht\n\n\nGastspreker(s)\n\n\n\nOrganisator\n Seniorenforum Regio Antwerpen\n\n\nRegio\n Antwerpen\n\n\nLocatie\nParking Kerkhof\n\n\nAdres\nSchouwvegerstraat\n\n\nGemeente\nBerendrecht\n\n\nNuttige info\, vb. prijs\n€ 5\, ter plaatse \n \n\n\nContactpersoon\n\n\n\nE-mail contactpersoon\n seniorenforum.antwerpen@vlaamsbelang.org\n\n\nTel. Contactpersoon\n 0495 827 607
URL:https://seniorenforum.vlaamsbelang.org/activiteitenkalender/tweelingwandeling-3-6-km-berendrecht-org-sf-regio-antwerpen/
LOCATION:Parking Kerkhof\, Schouwvegerstraat\, Berendrecht\, Antwerpen\, 2440
ATTACH;FMTTYPE=image/jpeg:https://seniorenforum.vlaamsbelang.org/wp-content/uploads/2025/06/beren.jpeg
ORGANIZER;CN="Dirk van Onckelen":MAILTO:deveoo@hotmail.com
END:VEVENT
BEGIN:VEVENT
DTSTART;TZID=Europe/Brussels:20250819T140000
DTEND;TZID=Europe/Brussels:20250819T140000
DTSTAMP:20260420T013407
CREATED:20250611T131651Z
LAST-MODIFIED:20250611T131741Z
UID:10001584-1755612000-1755612000@seniorenforum.vlaamsbelang.org
SUMMARY:Minigolf tornooi (org. SF Regio Antwerpen)
DESCRIPTION: Datum\nDinsdag 19 augustus\n\n\nAanvangsuur\n 14.00 uur\n\n\nEinduur indien bekend\n\n\n\nTitel activiteit\nMinigolf tornooi\n\n\nGastspreker(s)\n\n\n\nOrganisator\n Seniorenforum Regio Antwerpen\n\n\nRegio\n Antwerpen\n\n\nLocatie\nHemelhof\n\n\nAdres\nGemeentepark\n\n\nGemeente\nBrasschaat\n\n\nNuttige info\, vb. prijs\n€ 15\, via rekening BE66 9734 2502 5834 m v v minigolf 19/8 \n \n\n\nContactpersoon\n\n\n\nE-mail contactpersoon\n seniorenforum.antwerpen@vlaamsbelang.org\n\n\nTel. Contactpersoon\n 0495 827 607
URL:https://seniorenforum.vlaamsbelang.org/activiteitenkalender/minigolf-tornooi-org-sf-regio-antwerpen/
LOCATION:Hemelhof\, Gemeentepark\, Brasschaat\, Antwerpen\, 2930
ATTACH;FMTTYPE=image/png:https://seniorenforum.vlaamsbelang.org/wp-content/uploads/2025/06/minigolf.png
ORGANIZER;CN="Dirk van Onckelen":MAILTO:deveoo@hotmail.com
END:VEVENT
BEGIN:VEVENT
DTSTART;TZID=Europe/Brussels:20250830T103000
DTEND;TZID=Europe/Brussels:20250830T103000
DTSTAMP:20260420T013407
CREATED:20250728T092132Z
LAST-MODIFIED:20250728T103620Z
UID:10001587-1756549800-1756549800@seniorenforum.vlaamsbelang.org
SUMMARY:Wandelzoektocht in Ternat (org. SF Bruegel)
DESCRIPTION: 
URL:https://seniorenforum.vlaamsbelang.org/activiteitenkalender/wandelzoektocht-in-ternat-org-sf-bruegel/
LOCATION:Sportcentrum Ternat (Parking)\, Van Cauwelaertstraat\, Ternat\, 1740\, Belgium
ATTACH;FMTTYPE=image/jpeg:https://seniorenforum.vlaamsbelang.org/wp-content/uploads/2025/07/pajot1.jpg
END:VEVENT
END:VCALENDAR