BEGIN:VCALENDAR
VERSION:2.0
PRODID:-//Seniorenforum - ECPv6.15.20//NONSGML v1.0//EN
CALSCALE:GREGORIAN
METHOD:PUBLISH
X-ORIGINAL-URL:https://seniorenforum.vlaamsbelang.org
X-WR-CALDESC:Evenementen voor Seniorenforum
REFRESH-INTERVAL;VALUE=DURATION:PT1H
X-Robots-Tag:noindex
X-PUBLISHED-TTL:PT1H
BEGIN:VTIMEZONE
TZID:Europe/Brussels
BEGIN:DAYLIGHT
TZOFFSETFROM:+0100
TZOFFSETTO:+0200
TZNAME:CEST
DTSTART:20240331T010000
END:DAYLIGHT
BEGIN:STANDARD
TZOFFSETFROM:+0200
TZOFFSETTO:+0100
TZNAME:CET
DTSTART:20241027T010000
END:STANDARD
BEGIN:DAYLIGHT
TZOFFSETFROM:+0100
TZOFFSETTO:+0200
TZNAME:CEST
DTSTART:20250330T010000
END:DAYLIGHT
BEGIN:STANDARD
TZOFFSETFROM:+0200
TZOFFSETTO:+0100
TZNAME:CET
DTSTART:20251026T010000
END:STANDARD
BEGIN:DAYLIGHT
TZOFFSETFROM:+0100
TZOFFSETTO:+0200
TZNAME:CEST
DTSTART:20260329T010000
END:DAYLIGHT
BEGIN:STANDARD
TZOFFSETFROM:+0200
TZOFFSETTO:+0100
TZNAME:CET
DTSTART:20261025T010000
END:STANDARD
END:VTIMEZONE
BEGIN:VEVENT
DTSTART;TZID=Europe/Brussels:20250902T140000
DTEND;TZID=Europe/Brussels:20250902T140000
DTSTAMP:20260420T013407
CREATED:20250611T132813Z
LAST-MODIFIED:20250611T132830Z
UID:10001585-1756821600-1756821600@seniorenforum.vlaamsbelang.org
SUMMARY:Groepsbezoek museum Middelheim (org. SF Regio Antwerpen)
DESCRIPTION: Datum\nDinsdag  2 september 2025\n\n\nAanvangsuur\n 14.00 uur\n\n\nEinduur indien bekend\n\n\n\nTitel activiteit\nGroepsbezoek museum Middelheim\n\n\nGastspreker(s)\n\n\n\nOrganisator\n Seniorenforum Regio Antwerpen\n\n\nRegio\n Antwerpen\n\n\nLocatie\nNieuwe hoofdingang museum \n \n\n\nAdres\nParking Beukenlaan\n\n\nGemeente\nAntwerpen (Wiltijk)\n\n\nNuttige info\, vb. prijs\n€ 5\, ter plaatse \n \n\n\nContactpersoon\n\n\n\nE-mail contactpersoon\n seniorenforum.antwerpen@vlaamsbelang.org\n\n\nTel. Contactpersoon\n 0495 827 607
URL:https://seniorenforum.vlaamsbelang.org/activiteitenkalender/groepsbezoek-museum-middelheim-org-sf-regio-antwerpen/
LOCATION:Hoofdingang\, Beukenlaan\, Antwerpen (Wilrijk)\, Antwerpen\, 2610
ATTACH;FMTTYPE=image/jpeg:https://seniorenforum.vlaamsbelang.org/wp-content/uploads/2025/06/middelheim.jpeg
ORGANIZER;CN="Dirk van Onckelen":MAILTO:deveoo@hotmail.com
END:VEVENT
BEGIN:VEVENT
DTSTART;TZID=Europe/Brussels:20250913T074500
DTEND;TZID=Europe/Brussels:20250913T074500
DTSTAMP:20260420T013407
CREATED:20250729T093713Z
LAST-MODIFIED:20250729T093721Z
UID:10001588-1757749500-1757749500@seniorenforum.vlaamsbelang.org
SUMMARY:Reis naar Duinkerke (org. SF Brussel 19)
DESCRIPTION:REIS NAAR DUINKERKE: Datum: 13.09.2025 \n \nOrganisator: Seniorenforum Brussel-19 \nVertrek: 07.45 u. Brussel-Noord \nInlichtingen: Luc Beullens 0492/955 255   immo.beullens@gmail.com \nInschrijven: Bij Luc Beullens. Geen inschrijvingsgeld; de deelnemers betalen natuurlijk de treinreis. \n\n\n\nDuinkerke\n\n\n\nDe tweede grootste stad van Frans-Vlaanderen heeft heel wat te bieden. Er zijn de historische gebouwen als het Belfort en de architectuur die duidelijk aantonen dat deze havenstad tot in 1662 tot Vlaanderen behoorde. Voor de shoppers zijn er de talrijke winkels en de unieke rommel- en antiekmarkt. Ook de gastronomen komen er aan hun trekken. En er zijn tal van  bezienswaardigheden en aantrekkingspunten:  het Scheepvaartmuseum\, het museum Duinkerke 1940\,  de St-Elooiskerk…. Een strandbezoek om de zomer stilletjes uit te wuiven zal het eindpunt van de trip zijn. \n\n\n\n\n\n\n\nWij vertrekken om 07.45u. in groep uit Brussel-Noord naar De Panne. Vanuit Adinkerke nemen we dan de toeristische bus naar Duinkerke. Iedereen is vrij ter plaatse maar we zullen nog een interessant keuzeprogramma voorstellen. \nSchrijf nu al in voor deze activiteit: \nLuc Beullens  0492/955.255  immo.beullens@gmail.com  U ontvangt dan verdere inlichtingen. \nIedereen -ongeacht leeftijd- is welkom!
URL:https://seniorenforum.vlaamsbelang.org/activiteitenkalender/reis-naar-duinkerke-org-sf-brussel-19/
LOCATION:Station Busel-Nood\, Vooruitgangsraat 76\, Brussel\, 1030
ATTACH;FMTTYPE=image/jpeg:https://seniorenforum.vlaamsbelang.org/wp-content/uploads/2025/07/duinen.jpeg
ORGANIZER;CN="Luc  Beullens":MAILTO:immo.beullens@gmail.com
END:VEVENT
BEGIN:VEVENT
DTSTART;TZID=Europe/Brussels:20250916T124500
DTEND;TZID=Europe/Brussels:20250916T124500
DTSTAMP:20260420T013407
CREATED:20250725T085025Z
LAST-MODIFIED:20250725T085030Z
UID:10001586-1758026700-1758026700@seniorenforum.vlaamsbelang.org
SUMMARY:Bezoek aan koekjesbedrijf Jules Destrooper (met autocar) Org. SF Mandel
DESCRIPTION:
URL:https://seniorenforum.vlaamsbelang.org/activiteitenkalender/bezoek-aan-koekjesbedrijf-jules-destrooper-met-autocar-org-sf-mandel/
LOCATION:Expohallen Roeselare\, Diksmuidesteenweg 400\, Roeselare\, West-Vlaanderen
ATTACH;FMTTYPE=image/jpeg:https://seniorenforum.vlaamsbelang.org/wp-content/uploads/2025/07/destrooper-scaled.jpg
END:VEVENT
BEGIN:VEVENT
DTSTART;TZID=Europe/Brussels:20250916T140000
DTEND;TZID=Europe/Brussels:20250916T140000
DTSTAMP:20260420T013407
CREATED:20250730T063455Z
LAST-MODIFIED:20250730T063503Z
UID:10001589-1758031200-1758031200@seniorenforum.vlaamsbelang.org
SUMMARY:Groepsbezoek Park Vordenstein (org. SF Regio Antwerpen)
DESCRIPTION: Datum\nDonderdag 16 september\n\n\nAanvangsuur\n 14.00 uur\n\n\nEinduur indien bekend\n\n\n\nTitel activiteit\nGroepsbezoek Park Vordenstein\n\n\nGastspreker(s)\n\n\n\nOrganisator\n Seniorenforum regio Antwerpen\n\n\nRegio\n Antwerpen\n\n\nLocatie\nParking Vordenstein\n\n\nAdres\nKopstraat\n\n\nGemeente\nSchoten\n\n\nNuttige info\, vb. prijs\n€ 5\n\n\nContactpersoon\n\n\n\nE-mail contactpersoon\n seniorenforum.antwerpen@vlaamsbelang.org\n\n\nTel. Contactpersoon\n 0495 827 607
URL:https://seniorenforum.vlaamsbelang.org/activiteitenkalender/groepsbezoek-park-vordenstein-org-sf-regio-antwerpen/
LOCATION:Parking Vordenstein\, Kopstraat 10\, Schoten\, Antwerpen\, 2900
ATTACH;FMTTYPE=image/jpeg:https://seniorenforum.vlaamsbelang.org/wp-content/uploads/2025/07/Vordenstein1.jpg
ORGANIZER;CN="Dirk van Onckelen":MAILTO:deveoo@hotmail.com
END:VEVENT
BEGIN:VEVENT
DTSTART;TZID=Europe/Brussels:20250926T140000
DTEND;TZID=Europe/Brussels:20250926T140000
DTSTAMP:20260420T013407
CREATED:20250730T064421Z
LAST-MODIFIED:20250730T064525Z
UID:10001590-1758895200-1758895200@seniorenforum.vlaamsbelang.org
SUMMARY:Amerikalezing “Vlaanderen en Portugal\, een eeuwige liefde” (org. SF Regio Antwerpen)
DESCRIPTION: Datum\nVrijdag 26 september 2025\n\n\nAanvangsuur\n 14.00 uur\n\n\nEinduur indien bekend\n\n\n\nTitel activiteit\nAmerikalezing “Vlaanderen en Portugal\, een eeuwige liefde”\n\n\nGastspreker(s)\n\n\n\nOrganisator\n Seniorenforum Regio Antwerpen\n\n\nRegio\n Antwerpen\n\n\nLocatie\nVlaams Belang-secretariaat\n\n\nAdres\nAmerikalei 98\n\n\nGemeente\nAntwerpen\n\n\nNuttige info\, vb. prijs\nvrij \n \n\n\nContactpersoon\n\n\n\nE-mail contactpersoon\n seniorenforum.antwerpen@vlaamsbelang.org\n\n\nTel. Contactpersoon\n 0495 827 607\n\n\n\n\n\n\n\n  \n  \n 
URL:https://seniorenforum.vlaamsbelang.org/activiteitenkalender/amerikalezing-vlaanderen-en-portugal-een-eeuwige-liefde-org-sf-regio-antwerpen/
LOCATION:VB-sec. Antwerpen\, Amerikalei 98\, Antwerpen\, Antwerpen\, 2000\, België
ATTACH;FMTTYPE=image/webp:https://seniorenforum.vlaamsbelang.org/wp-content/uploads/2025/07/portugal.webp
ORGANIZER;CN="Dirk van Onckelen":MAILTO:deveoo@hotmail.com
END:VEVENT
BEGIN:VEVENT
DTSTART;TZID=Europe/Brussels:20250927T140000
DTEND;TZID=Europe/Brussels:20250927T180000
DTSTAMP:20260420T013407
CREATED:20250916T125003Z
LAST-MODIFIED:20250916T125003Z
UID:10001598-1758981600-1758996000@seniorenforum.vlaamsbelang.org
SUMMARY:Seniorenforum Denderleeuw - Tirolernamiddag
DESCRIPTION:gezellige   Tirolernamiddag in zaal Den Breughel vanaf 14u tot 18u \nMet live muziek van Duo Cassiman \nAmusement met\nNagel kloppen\nBierkistenpolka\nDrinkliederen \nInkom gratis
URL:https://seniorenforum.vlaamsbelang.org/activiteitenkalender/seniorenforum-denderleeuw-tirolernamiddag/
LOCATION:zaal Den Breughel\, Dorp 11\, Denderleeuw\, Oost Vlaanderen\, 9470
ATTACH;FMTTYPE=image/jpeg:https://seniorenforum.vlaamsbelang.org/wp-content/uploads/2025/09/tirolernamiddag.jpg
END:VEVENT
END:VCALENDAR