BEGIN:VCALENDAR
VERSION:2.0
PRODID:-//Seniorenforum - ECPv6.15.20//NONSGML v1.0//EN
CALSCALE:GREGORIAN
METHOD:PUBLISH
X-WR-CALNAME:Seniorenforum
X-ORIGINAL-URL:https://seniorenforum.vlaamsbelang.org
X-WR-CALDESC:Evenementen voor Seniorenforum
REFRESH-INTERVAL;VALUE=DURATION:PT1H
X-Robots-Tag:noindex
X-PUBLISHED-TTL:PT1H
BEGIN:VTIMEZONE
TZID:Europe/Brussels
BEGIN:DAYLIGHT
TZOFFSETFROM:+0100
TZOFFSETTO:+0200
TZNAME:CEST
DTSTART:20250330T010000
END:DAYLIGHT
BEGIN:STANDARD
TZOFFSETFROM:+0200
TZOFFSETTO:+0100
TZNAME:CET
DTSTART:20251026T010000
END:STANDARD
BEGIN:DAYLIGHT
TZOFFSETFROM:+0100
TZOFFSETTO:+0200
TZNAME:CEST
DTSTART:20260329T010000
END:DAYLIGHT
BEGIN:STANDARD
TZOFFSETFROM:+0200
TZOFFSETTO:+0100
TZNAME:CET
DTSTART:20261025T010000
END:STANDARD
BEGIN:DAYLIGHT
TZOFFSETFROM:+0100
TZOFFSETTO:+0200
TZNAME:CEST
DTSTART:20270328T010000
END:DAYLIGHT
BEGIN:STANDARD
TZOFFSETFROM:+0200
TZOFFSETTO:+0100
TZNAME:CET
DTSTART:20271031T010000
END:STANDARD
END:VTIMEZONE
BEGIN:VEVENT
DTSTART;TZID=Europe/Brussels:20260104T093000
DTEND;TZID=Europe/Brussels:20260104T110000
DTSTAMP:20260419T195925
CREATED:20251209T094918Z
LAST-MODIFIED:20251209T095023Z
UID:10001623-1767519000-1767524400@seniorenforum.vlaamsbelang.org
SUMMARY:SENIORENFORUM Brussel-19  - Mis in het Brussels
DESCRIPTION:Wij nemen ook dit jaar deel aan de Driekoningenmis in het Brussels die op 04.01.26 om 10.00 u. voor de 22ste maal plaats heeft in de Sint-Pieterskerk te Jette op het Kard. Mercierplein. Beschaafde omgangstaal is een verworvenheid; dialecten zorgen voor aanvoer en taaldynamiek. \nSamenkomst: 09.30 u. (!) aan de ingang van de St-Pieterskerk waar Luc ons opwacht. \nDrink: De pastoor zorgt voor een drink; nadien doet het SF hetzelfde….
URL:https://seniorenforum.vlaamsbelang.org/activiteitenkalender/seniorenforum-brussel-19-mis-in-het-brussels/
LOCATION:St-Pieterskerk\, Kardinaal Mercierplein 51\, Jette\, Vlaams Brabant\, 1090\, Belgium
ORGANIZER;CN="Luc  Beullens":MAILTO:immo.beullens@gmail.com
END:VEVENT
BEGIN:VEVENT
DTSTART;TZID=Europe/Brussels:20260106T133000
DTEND;TZID=Europe/Brussels:20260106T170000
DTSTAMP:20260419T195925
CREATED:20251205T093700Z
LAST-MODIFIED:20251205T093700Z
UID:10001620-1767706200-1767718800@seniorenforum.vlaamsbelang.org
SUMMARY:SF Antwerpen - Individueel groepsbezoek  MAGRITTE & VAN MIEGHEM
DESCRIPTION:
URL:https://seniorenforum.vlaamsbelang.org/activiteitenkalender/sf-antwerpen-individueel-groepsbezoek-magritte-van-mieghem/
LOCATION:KMSKA\, Leopold De Waelplaats 1\, Antwerpen\, 2000\, Belgium
ORGANIZER;CN="Seniorenforum Antwerpen":MAILTO:seniorenforum.antwerpen@vlaamsbelang.org
END:VEVENT
BEGIN:VEVENT
DTSTART;TZID=Europe/Brussels:20260118T123000
DTEND;TZID=Europe/Brussels:20260118T170000
DTSTAMP:20260419T195925
CREATED:20251209T104215Z
LAST-MODIFIED:20251209T104245Z
UID:10001624-1768739400-1768755600@seniorenforum.vlaamsbelang.org
SUMMARY:Seniorenforum Kempen-Grobbendonk - late verloren maandag
DESCRIPTION:Welkom vanaf 12u30.\nEten: 13u \nKeuze uit 2 worstenbroden of twee appelbollen of  1 worstenbrood  en één appelbol of 1 dubbel worstenbrood. \nPrijs voor leden van VSF Kempen-Grobbendonk.: € 3.\nNiet-leden betalen € 6 \nVooraf inschrijven verplicht. \nDit evenement gaat door in ons zaaltje dus het aantal plaatsen is beperkt tot 25 inschrijvingen.
URL:https://seniorenforum.vlaamsbelang.org/activiteitenkalender/seniorenforum-kempen-grobbendonk-later-verloren-maandag/
LOCATION:Huize Machteld\, Gilliam 8\, Grobbendonk\, Antwerpen\, 2280\, Belgium
END:VEVENT
BEGIN:VEVENT
DTSTART;TZID=Europe/Brussels:20260120T140000
DTEND;TZID=Europe/Brussels:20260120T170000
DTSTAMP:20260419T195925
CREATED:20251205T094512Z
LAST-MODIFIED:20251205T094512Z
UID:10001621-1768917600-1768928400@seniorenforum.vlaamsbelang.org
SUMMARY:SF Antwerpen - Groepswandeling KASTEEL SCHOONSELHOF
DESCRIPTION:
URL:https://seniorenforum.vlaamsbelang.org/activiteitenkalender/sf-antwerpen-groepswandeling-kasteel-schoonselhof/
LOCATION:Ingang begraafplaats Schoonselhof\, Krijgsbaan 100\, Wilrijk\, Antwerpen\, 2610\, Belgium
ORGANIZER;CN="Seniorenforum Antwerpen":MAILTO:seniorenforum.antwerpen@vlaamsbelang.org
END:VEVENT
BEGIN:VEVENT
DTSTART;TZID=Europe/Brussels:20260124T123000
DTEND;TZID=Europe/Brussels:20260124T170000
DTSTAMP:20260419T195925
CREATED:20251209T104430Z
LAST-MODIFIED:20251209T104430Z
UID:10001625-1769257800-1769274000@seniorenforum.vlaamsbelang.org
SUMMARY:Seniorenforum Kempen-Grobbendonk - late verloren maandag
DESCRIPTION:Welkom vanaf 12u30.\nEten: 13u \nKeuze uit 2 worstenbroden of twee appelbollen of  1 worstenbrood  en één appelbol of 1 dubbel worstenbrood. \nPrijs voor leden van VSF Kempen-Grobbendonk.: € 3.\nNiet-leden betalen € 6 \nVooraf inschrijven verplicht. \nDit evenement gaat door in ons zaaltje dus het aantal plaatsen is beperkt tot 25 inschrijvingen.
URL:https://seniorenforum.vlaamsbelang.org/activiteitenkalender/seniorenforum-kempen-grobbendonk-late-verloren-maandag/
LOCATION:Huize Machteld\, Gilliam 8\, Grobbendonk\, Antwerpen\, 2280\, Belgium
END:VEVENT
BEGIN:VEVENT
DTSTART;TZID=Europe/Brussels:20260125T120000
DTEND;TZID=Europe/Brussels:20260125T180000
DTSTAMP:20260419T195925
CREATED:20260107T171305Z
LAST-MODIFIED:20260107T171305Z
UID:10001627-1769342400-1769364000@seniorenforum.vlaamsbelang.org
SUMMARY:seniorenforum“Mandel - Nieuwjaarsgroet met etentje
DESCRIPTION:Gezellig samenzijn met etentje voor de start van het jaar 2026\,
URL:https://seniorenforum.vlaamsbelang.org/activiteitenkalender/seniorenforummandel-nieuwjaarsgroet-met-etentje/
LOCATION:Molendries\, Koolkampsstraat.35\, Hooglede-Gits\, West Vlaanderen\, 8830\, Belgium
ATTACH;FMTTYPE=image/jpeg:https://seniorenforum.vlaamsbelang.org/wp-content/uploads/2026/01/etentje-mandel.jpg
ORGANIZER;CN="Seniorenforum..%E2%80%9DMandel%E2%80%9D":MAILTO:arno14@proximus.be
END:VEVENT
BEGIN:VEVENT
DTSTART;TZID=Europe/Brussels:20260125T123000
DTEND;TZID=Europe/Brussels:20260125T170000
DTSTAMP:20260419T195925
CREATED:20251209T104750Z
LAST-MODIFIED:20251209T104750Z
UID:10001626-1769344200-1769360400@seniorenforum.vlaamsbelang.org
SUMMARY:Seniorenforum Kempen-Grobbendonk - late verloren maandag
DESCRIPTION:Welkom vanaf 12u30.\nEten: 13u \nKeuze uit 2 worstenbroden of twee appelbollen of  1 worstenbrood  en één appelbol of 1 dubbel worstenbrood. \nPrijs voor leden van VSF Kempen-Grobbendonk.: € 3.\nNiet-leden betalen € 6 \nVooraf inschrijven verplicht. \nDit evenement gaat door in ons zaaltje dus het aantal plaatsen is beperkt tot 25 inschrijvingen.
URL:https://seniorenforum.vlaamsbelang.org/activiteitenkalender/seniorenforum-kempen-grobbendonk-late-verloren-maandag-2/
LOCATION:Huize Machteld\, Gilliam 8\, Grobbendonk\, Antwerpen\, 2280\, Belgium
END:VEVENT
BEGIN:VEVENT
DTSTART;TZID=Europe/Brussels:20260130T140000
DTEND;TZID=Europe/Brussels:20260130T170000
DTSTAMP:20260419T195925
CREATED:20251205T095253Z
LAST-MODIFIED:20251205T095253Z
UID:10001622-1769781600-1769792400@seniorenforum.vlaamsbelang.org
SUMMARY:SF Antwerpen - Amerikalezing: “WAAROM ZIJN ZE KROM”.
DESCRIPTION:Gastspreker Magdalena
URL:https://seniorenforum.vlaamsbelang.org/activiteitenkalender/sf-antwerpen-amerikalezing-waarom-zijn-ze-krom/
LOCATION:Vlaams Belang secretariaat Antwerpen\, Amerikalei 98\, Antwerpen\, Antwerpen\, 2000
ORGANIZER;CN="Seniorenforum Antwerpen":MAILTO:seniorenforum.antwerpen@vlaamsbelang.org
END:VEVENT
END:VCALENDAR