BEGIN:VCALENDAR
VERSION:2.0
PRODID:-//Seniorenforum - ECPv6.15.20//NONSGML v1.0//EN
CALSCALE:GREGORIAN
METHOD:PUBLISH
X-ORIGINAL-URL:https://seniorenforum.vlaamsbelang.org
X-WR-CALDESC:Evenementen voor Seniorenforum
REFRESH-INTERVAL;VALUE=DURATION:PT1H
X-Robots-Tag:noindex
X-PUBLISHED-TTL:PT1H
BEGIN:VTIMEZONE
TZID:Europe/Brussels
BEGIN:DAYLIGHT
TZOFFSETFROM:+0100
TZOFFSETTO:+0200
TZNAME:CEST
DTSTART:20250330T010000
END:DAYLIGHT
BEGIN:STANDARD
TZOFFSETFROM:+0200
TZOFFSETTO:+0100
TZNAME:CET
DTSTART:20251026T010000
END:STANDARD
BEGIN:DAYLIGHT
TZOFFSETFROM:+0100
TZOFFSETTO:+0200
TZNAME:CEST
DTSTART:20260329T010000
END:DAYLIGHT
BEGIN:STANDARD
TZOFFSETFROM:+0200
TZOFFSETTO:+0100
TZNAME:CET
DTSTART:20261025T010000
END:STANDARD
BEGIN:DAYLIGHT
TZOFFSETFROM:+0100
TZOFFSETTO:+0200
TZNAME:CEST
DTSTART:20270328T010000
END:DAYLIGHT
BEGIN:STANDARD
TZOFFSETFROM:+0200
TZOFFSETTO:+0100
TZNAME:CET
DTSTART:20271031T010000
END:STANDARD
END:VTIMEZONE
BEGIN:VEVENT
DTSTART;TZID=Europe/Brussels:20260421T143000
DTEND;TZID=Europe/Brussels:20260421T170000
DTSTAMP:20260419T153240
CREATED:20260219T090452Z
LAST-MODIFIED:20260219T090452Z
UID:10001645-1776781800-1776790800@seniorenforum.vlaamsbelang.org
SUMMARY:SF Mandel - Jaarlijkse bingonamiddag
DESCRIPTION:
URL:https://seniorenforum.vlaamsbelang.org/activiteitenkalender/sf-mandel-jaarlijkse-bingonamiddag/
LOCATION:Zaal Den Hazelt\, Pastoor Slossestraat 1\, Rumbeke-Roeselare\, West Vlaanderen\, Belgium
ATTACH;FMTTYPE=image/jpeg:https://seniorenforum.vlaamsbelang.org/wp-content/uploads/2026/02/bingo-2026-scaled.jpg
ORGANIZER;CN="Arlette Temperman":MAILTO:arno14@proximus.be
END:VEVENT
BEGIN:VEVENT
DTSTART;TZID=Europe/Brussels:20260424T140000
DTEND;TZID=Europe/Brussels:20260424T140000
DTSTAMP:20260419T153240
CREATED:20260306T121513Z
LAST-MODIFIED:20260306T123714Z
UID:10001651-1777039200-1777039200@seniorenforum.vlaamsbelang.org
SUMMARY:Amerikalezing: “Is ons pensioen in gevaar?”. (org. SF Regio Antwerpen)
DESCRIPTION: Datum\nVrijdag 24 april 2026\n\n\nAanvangsuur\n 14.00 uur\n\n\nEinduur indien bekend\n\n\n\nTitel activiteit\nAmerikalezing: “Is ons pensioen in gevaar?”.\n\n\nGastspreker(s)\nKamerlid Ellen Samyn\n\n\nOrganisator\n Seniorenforum Regio Antwerpen\n\n\nRegio\n Antwerpen\n\n\nLocatie\nSalon VB-secretariaat\n\n\nAdres\nAmerikalei 98\n\n\nGemeente\n2000 Antwerpen\n\n\nNuttige info\, vb. prijs\nvrij\n\n\nContactpersoon\n\n\n\nE-mail contactpersoon\n seniorenforum.antwerpen@vlaamsbelang.org\n\n\nTel. Contactpersoon\n 0495 827 607\n\n\n\n\n\n\n\n  \n  \n  \n  \n  \n  \n  \n  \n  \n  \n 
URL:https://seniorenforum.vlaamsbelang.org/activiteitenkalender/amerikalezing-is-ons-pensioen-in-gevaar-org-sf-regio-antwerpen/
LOCATION:VB-sec. Antwerpen\, Amerikalei 98\, Antwerpen\, Antwerpen\, 2000\, België
ATTACH;FMTTYPE=image/jpeg:https://seniorenforum.vlaamsbelang.org/wp-content/uploads/2026/03/ellen6.jpg
ORGANIZER;CN="Dirk van Onckelen":MAILTO:deveoo@hotmail.com
END:VEVENT
BEGIN:VEVENT
DTSTART;TZID=Europe/Brussels:20260425T200000
DTEND;TZID=Europe/Brussels:20260425T233000
DTSTAMP:20260419T153240
CREATED:20260115T114612Z
LAST-MODIFIED:20260115T114612Z
UID:10001630-1777147200-1777159800@seniorenforum.vlaamsbelang.org
SUMMARY:Seniorenforum Kempen-Grobbendonk – Karaoke
DESCRIPTION:Dit evenement gaat door in taverne Palmenhof\,  \nHerenthoutse steenweg 71\, Bouwel (Grobbendonk). \nInkom is gratis. \nBegin: 20u15 \nInfo: vsf.kempen.grobbendonk@gmail.com
URL:https://seniorenforum.vlaamsbelang.org/activiteitenkalender/seniorenforum-kempen-grobbendonk-karaoke/
LOCATION:taverne Palmenhof\, Herenthoutse steenweg 71\, Bouwel (Grobbendonk\, Antwerpen\, 2288\, Belgium
ATTACH;FMTTYPE=image/png:https://seniorenforum.vlaamsbelang.org/wp-content/uploads/2026/01/karaoke.png
END:VEVENT
END:VCALENDAR