BEGIN:VCALENDAR
VERSION:2.0
PRODID:-//Seniorenforum - ECPv6.15.20//NONSGML v1.0//EN
CALSCALE:GREGORIAN
METHOD:PUBLISH
X-ORIGINAL-URL:https://seniorenforum.vlaamsbelang.org
X-WR-CALDESC:Evenementen voor Seniorenforum
REFRESH-INTERVAL;VALUE=DURATION:PT1H
X-Robots-Tag:noindex
X-PUBLISHED-TTL:PT1H
BEGIN:VTIMEZONE
TZID:Europe/Brussels
BEGIN:DAYLIGHT
TZOFFSETFROM:+0100
TZOFFSETTO:+0200
TZNAME:CEST
DTSTART:20220327T010000
END:DAYLIGHT
BEGIN:STANDARD
TZOFFSETFROM:+0200
TZOFFSETTO:+0100
TZNAME:CET
DTSTART:20221030T010000
END:STANDARD
BEGIN:DAYLIGHT
TZOFFSETFROM:+0100
TZOFFSETTO:+0200
TZNAME:CEST
DTSTART:20230326T010000
END:DAYLIGHT
BEGIN:STANDARD
TZOFFSETFROM:+0200
TZOFFSETTO:+0100
TZNAME:CET
DTSTART:20231029T010000
END:STANDARD
BEGIN:DAYLIGHT
TZOFFSETFROM:+0100
TZOFFSETTO:+0200
TZNAME:CEST
DTSTART:20240331T010000
END:DAYLIGHT
BEGIN:STANDARD
TZOFFSETFROM:+0200
TZOFFSETTO:+0100
TZNAME:CET
DTSTART:20241027T010000
END:STANDARD
END:VTIMEZONE
BEGIN:VEVENT
DTSTART;TZID=Europe/Brussels:20230404T140000
DTEND;TZID=Europe/Brussels:20230404T140000
DTSTAMP:20260419T195700
CREATED:20230126T125140Z
LAST-MODIFIED:20230126T125146Z
UID:10001294-1680616800-1680616800@seniorenforum.vlaamsbelang.org
SUMMARY:'Cultuur ontmoet natuur': Groepsbezoek MIDDELHEIM – LAAG (org. SF Regio Antwerpen)
DESCRIPTION:
URL:https://seniorenforum.vlaamsbelang.org/activiteitenkalender/cultuur-ontmoet-natuur-groepsbezoek-middelheim-laag-org-sf-regio-antwerpen/
LOCATION:Beeldentuin Middelheim\, Middelheimdreef 61\, Antwerpen\, 2000
ATTACH;FMTTYPE=image/webp:https://seniorenforum.vlaamsbelang.org/wp-content/uploads/2023/01/middelheim1.webp
ORGANIZER;CN="Seniorenforum Antwerpen":MAILTO:seniorenforum.antwerpen@vlaamsbelang.org
END:VEVENT
END:VCALENDAR