BEGIN:VCALENDAR
VERSION:2.0
PRODID:-//Seniorenforum - ECPv6.15.20//NONSGML v1.0//EN
CALSCALE:GREGORIAN
METHOD:PUBLISH
X-WR-CALNAME:Seniorenforum
X-ORIGINAL-URL:https://seniorenforum.vlaamsbelang.org
X-WR-CALDESC:Evenementen voor Seniorenforum
REFRESH-INTERVAL;VALUE=DURATION:PT1H
X-Robots-Tag:noindex
X-PUBLISHED-TTL:PT1H
BEGIN:VTIMEZONE
TZID:Europe/Brussels
BEGIN:DAYLIGHT
TZOFFSETFROM:+0100
TZOFFSETTO:+0200
TZNAME:CEST
DTSTART:20220327T010000
END:DAYLIGHT
BEGIN:STANDARD
TZOFFSETFROM:+0200
TZOFFSETTO:+0100
TZNAME:CET
DTSTART:20221030T010000
END:STANDARD
BEGIN:DAYLIGHT
TZOFFSETFROM:+0100
TZOFFSETTO:+0200
TZNAME:CEST
DTSTART:20230326T010000
END:DAYLIGHT
BEGIN:STANDARD
TZOFFSETFROM:+0200
TZOFFSETTO:+0100
TZNAME:CET
DTSTART:20231029T010000
END:STANDARD
BEGIN:DAYLIGHT
TZOFFSETFROM:+0100
TZOFFSETTO:+0200
TZNAME:CEST
DTSTART:20240331T010000
END:DAYLIGHT
BEGIN:STANDARD
TZOFFSETFROM:+0200
TZOFFSETTO:+0100
TZNAME:CET
DTSTART:20241027T010000
END:STANDARD
BEGIN:DAYLIGHT
TZOFFSETFROM:+0100
TZOFFSETTO:+0200
TZNAME:CEST
DTSTART:20250330T010000
END:DAYLIGHT
BEGIN:STANDARD
TZOFFSETFROM:+0200
TZOFFSETTO:+0100
TZNAME:CET
DTSTART:20251026T010000
END:STANDARD
BEGIN:DAYLIGHT
TZOFFSETFROM:+0100
TZOFFSETTO:+0200
TZNAME:CEST
DTSTART:20260329T010000
END:DAYLIGHT
BEGIN:STANDARD
TZOFFSETFROM:+0200
TZOFFSETTO:+0100
TZNAME:CET
DTSTART:20261025T010000
END:STANDARD
END:VTIMEZONE
BEGIN:VEVENT
DTSTART;TZID=Europe/Brussels:20250304T190000
DTEND;TZID=Europe/Brussels:20250304T190000
DTSTAMP:20260419T211956
CREATED:20250214T090148Z
LAST-MODIFIED:20250217T080612Z
UID:10001554-1741114800-1741114800@seniorenforum.vlaamsbelang.org
SUMMARY:Europees parlementslid Tom Vandendriessche(VB) komt naar Leuven: 'Waarheen met de Europese Unie?  (org. SF Groot Leuven)
DESCRIPTION:  HET SENIORENFORUM GROOT-LEUVEN NODIGT U OP 04.03.2025 UIT OP HET REFERAAT \n“WAT KOST ONS EUROPA ?” door Europarlementslid TOM VANDENDRIESSCHE\, lid van de fractie “Patriotten voor Europa” \n Waar?:  Radiomuseum\, Herpendaalstraat 13 A\, 3053 Haasrode. \nAanvang: 19.00 u. \nToegang: gratis. \nInlichtingen: 0499/32.50.76 (Jean)   0495/17.28.16 (Bart)   0496/87.71.99 (Geert) \nAllen  ten zeerste welkom op deze niet te missen activiteit! \nJean Holemans\, i.o.v. SF Groot-Leuven \n 
URL:https://seniorenforum.vlaamsbelang.org/activiteitenkalender/europarlementslid-tom-vandendriessche-komt-naar-leuven-wat-kost-europa-org-sf-groot-leuven/
LOCATION:Brabants Radiomuseum\, Herpendaalstraat 13 bus A\, Haasrode\, Vlaams-Brabant\, 3053
ATTACH;FMTTYPE=image/jpeg:https://seniorenforum.vlaamsbelang.org/wp-content/uploads/2025/02/tomvdd.jpg
ORGANIZER;CN="Jean Holemans":MAILTO:jean.holemans@gmail.com
END:VEVENT
BEGIN:VEVENT
DTSTART;TZID=Europe/Brussels:20230318T163000
DTEND;TZID=Europe/Brussels:20230318T163000
DTSTAMP:20260419T211956
CREATED:20230212T121022Z
LAST-MODIFIED:20230228T140423Z
UID:10001302-1679157000-1679157000@seniorenforum.vlaamsbelang.org
SUMMARY:EETFESTIJN - PENSEN/BALLEKENSAVOND (org. SF Groot-Leuven)
DESCRIPTION:18 maart 2023 e.k.  :  HET  S E N I O R E N F O RU M   groot-Leuven nodigt u uit op haar eerste EETFESTIJN – PENSEN/BALLEKESAVOND \nPlaats: Radiomuseum\, Herpendaalstraat 13/ bus A\, 3053 Haasrode. \nMenu: \n*Witte en zwarte pensen met appelmoes en brood. \n*Balletjes in kriekensaus met brood. \nAanvang: Zaal open om 16.30 u.; eten vanaf 17.00 u. \nInschrijven: € 11 op bankrekening BE54 0019 3870 9997 van Seniorenforum Leuven. Betaald = ingeschreven. \nVermelden: \nA = 2 zwarte pensen \nB = 2 witte pensen \nC = 1 zwarte +1 witte pens \nD = balletjes \nInlichtingen: Jean Holemans\, 0499/32.50.76 \nBreng vrienden en kennissen mee\, de activiteit staat open voor jong en oud! Wij verwachten u! \nHet team van Seniorenforum Groot-Leuven
URL:https://seniorenforum.vlaamsbelang.org/activiteitenkalender/eetfestijn-pensen-ballekensavond-org-sf-groot-leuven/
LOCATION:Brabants Radiomuseum\, Herpendaalstraat 13 bus A\, Haasrode\, Vlaams-Brabant\, 3053
ATTACH;FMTTYPE=image/jpeg:https://seniorenforum.vlaamsbelang.org/wp-content/uploads/2023/02/Keto-homemade-witte-en-zwarte-pensen-boudin-blanc-boudin-noir-bloedworst-gebakken-in-smout.jpg
ORGANIZER;CN="Jean Holemans":MAILTO:jean.holemans@gmail.com
END:VEVENT
END:VCALENDAR