BEGIN:VCALENDAR
VERSION:2.0
PRODID:-//Seniorenforum - ECPv6.15.20//NONSGML v1.0//EN
CALSCALE:GREGORIAN
METHOD:PUBLISH
X-ORIGINAL-URL:https://seniorenforum.vlaamsbelang.org
X-WR-CALDESC:Evenementen voor Seniorenforum
REFRESH-INTERVAL;VALUE=DURATION:PT1H
X-Robots-Tag:noindex
X-PUBLISHED-TTL:PT1H
BEGIN:VTIMEZONE
TZID:Europe/Brussels
BEGIN:DAYLIGHT
TZOFFSETFROM:+0100
TZOFFSETTO:+0200
TZNAME:CEST
DTSTART:20250330T010000
END:DAYLIGHT
BEGIN:STANDARD
TZOFFSETFROM:+0200
TZOFFSETTO:+0100
TZNAME:CET
DTSTART:20251026T010000
END:STANDARD
BEGIN:DAYLIGHT
TZOFFSETFROM:+0100
TZOFFSETTO:+0200
TZNAME:CEST
DTSTART:20260329T010000
END:DAYLIGHT
BEGIN:STANDARD
TZOFFSETFROM:+0200
TZOFFSETTO:+0100
TZNAME:CET
DTSTART:20261025T010000
END:STANDARD
BEGIN:DAYLIGHT
TZOFFSETFROM:+0100
TZOFFSETTO:+0200
TZNAME:CEST
DTSTART:20270328T010000
END:DAYLIGHT
BEGIN:STANDARD
TZOFFSETFROM:+0200
TZOFFSETTO:+0100
TZNAME:CET
DTSTART:20271031T010000
END:STANDARD
END:VTIMEZONE
BEGIN:VEVENT
DTSTART;TZID=Europe/Brussels:20260505T100000
DTEND;TZID=Europe/Brussels:20260505T170000
DTSTAMP:20260419T153115
CREATED:20260409T090150Z
LAST-MODIFIED:20260409T090150Z
UID:10001654-1777975200-1778000400@seniorenforum.vlaamsbelang.org
SUMMARY:BOZAR & BRUSSELDAG - Seniorenforum Regio Antwerpen i.s.m. Seniorenforum Brussel
DESCRIPTION:Inschrijven door overschrijving van € 15 via rekening BE66 9734 2502 5843
URL:https://seniorenforum.vlaamsbelang.org/activiteitenkalender/bozar-brusseldag-seniorenforum-regio-antwerpen-i-s-m-seniorenforum-brussel/
LOCATION:Centrale lokettenzaal\, Centraal Station\, Brussel\, Vlaams Brabant\, 1000
ORGANIZER;CN="Seniorenforum Antwerpen":MAILTO:seniorenforum.antwerpen@vlaamsbelang.org
END:VEVENT
END:VCALENDAR