BEGIN:VCALENDAR
VERSION:2.0
PRODID:-//Seniorenforum - ECPv6.15.20//NONSGML v1.0//EN
CALSCALE:GREGORIAN
METHOD:PUBLISH
X-WR-CALNAME:Seniorenforum
X-ORIGINAL-URL:https://seniorenforum.vlaamsbelang.org
X-WR-CALDESC:Evenementen voor Seniorenforum
REFRESH-INTERVAL;VALUE=DURATION:PT1H
X-Robots-Tag:noindex
X-PUBLISHED-TTL:PT1H
BEGIN:VTIMEZONE
TZID:Europe/Brussels
BEGIN:DAYLIGHT
TZOFFSETFROM:+0100
TZOFFSETTO:+0200
TZNAME:CEST
DTSTART:20250330T010000
END:DAYLIGHT
BEGIN:STANDARD
TZOFFSETFROM:+0200
TZOFFSETTO:+0100
TZNAME:CET
DTSTART:20251026T010000
END:STANDARD
BEGIN:DAYLIGHT
TZOFFSETFROM:+0100
TZOFFSETTO:+0200
TZNAME:CEST
DTSTART:20260329T010000
END:DAYLIGHT
BEGIN:STANDARD
TZOFFSETFROM:+0200
TZOFFSETTO:+0100
TZNAME:CET
DTSTART:20261025T010000
END:STANDARD
BEGIN:DAYLIGHT
TZOFFSETFROM:+0100
TZOFFSETTO:+0200
TZNAME:CEST
DTSTART:20270328T010000
END:DAYLIGHT
BEGIN:STANDARD
TZOFFSETFROM:+0200
TZOFFSETTO:+0100
TZNAME:CET
DTSTART:20271031T010000
END:STANDARD
END:VTIMEZONE
BEGIN:VEVENT
DTSTART;TZID=Europe/Brussels:20260519T140000
DTEND;TZID=Europe/Brussels:20260519T160000
DTSTAMP:20260419T165850
CREATED:20260324T151409Z
LAST-MODIFIED:20260324T151409Z
UID:10001653-1779199200-1779206400@seniorenforum.vlaamsbelang.org
SUMMARY:Seniorenforum Waasland - Gegidst bezoek Fort van Haasdonk
DESCRIPTION:
URL:https://seniorenforum.vlaamsbelang.org/activiteitenkalender/seniorenforum-waasland-gegidst-bezoek-fort-van-haasdonk/
LOCATION:Fort Van haasdonk\, Vestingstraat 1\, Beveren\, Oost Vlaanderen\, 9120\, Belgium
ATTACH;FMTTYPE=image/png:https://seniorenforum.vlaamsbelang.org/wp-content/uploads/2026/03/waasland.png
ORGANIZER;CN="Marc Mebis":MAILTO:marc.mebis@gmail.com
END:VEVENT
END:VCALENDAR