BEGIN:VCALENDAR
VERSION:2.0
PRODID:-//Seniorenforum - ECPv6.15.20//NONSGML v1.0//EN
CALSCALE:GREGORIAN
METHOD:PUBLISH
X-WR-CALNAME:Seniorenforum
X-ORIGINAL-URL:https://seniorenforum.vlaamsbelang.org
X-WR-CALDESC:Evenementen voor Seniorenforum
REFRESH-INTERVAL;VALUE=DURATION:PT1H
X-Robots-Tag:noindex
X-PUBLISHED-TTL:PT1H
BEGIN:VTIMEZONE
TZID:Europe/Brussels
BEGIN:DAYLIGHT
TZOFFSETFROM:+0100
TZOFFSETTO:+0200
TZNAME:CEST
DTSTART:20250330T010000
END:DAYLIGHT
BEGIN:STANDARD
TZOFFSETFROM:+0200
TZOFFSETTO:+0100
TZNAME:CET
DTSTART:20251026T010000
END:STANDARD
BEGIN:DAYLIGHT
TZOFFSETFROM:+0100
TZOFFSETTO:+0200
TZNAME:CEST
DTSTART:20260329T010000
END:DAYLIGHT
BEGIN:STANDARD
TZOFFSETFROM:+0200
TZOFFSETTO:+0100
TZNAME:CET
DTSTART:20261025T010000
END:STANDARD
BEGIN:DAYLIGHT
TZOFFSETFROM:+0100
TZOFFSETTO:+0200
TZNAME:CEST
DTSTART:20270328T010000
END:DAYLIGHT
BEGIN:STANDARD
TZOFFSETFROM:+0200
TZOFFSETTO:+0100
TZNAME:CET
DTSTART:20271031T010000
END:STANDARD
END:VTIMEZONE
BEGIN:VEVENT
DTSTART;TZID=Europe/Brussels:20260512T103000
DTEND;TZID=Europe/Brussels:20260512T170000
DTSTAMP:20260419T153123
CREATED:20260413T082351Z
LAST-MODIFIED:20260413T082351Z
UID:10001658-1778581800-1778605200@seniorenforum.vlaamsbelang.org
SUMMARY:Seniorenforum Brugge Oostkust - Themawandeling 'Brugge in Vlaanderen\, Vlaanderen in Brugge'
DESCRIPTION:Weinig steden in de wereld kunnen -op een beperkte ruimte- bogen op een zo ruim cultureel aanbod als Brugge: musea\, kunst\, historische gebouwen… De stad kent bovendien een fascinerende geschiedenis en speelde een onuitwisbare rol in de ontwikkeling en grootsheid van Vlaanderen en de Nederlanden. Wij zetten onze reeks educatieve wandelingen door de stad verder; dit gegidst door onze voorzitter Ignace Lowie\, gemeenteraadslid te Brugge. Thema voor deze wandeling: “Brugge in Vlaanderen\, Vlaanderen in Brugge”.
URL:https://seniorenforum.vlaamsbelang.org/activiteitenkalender/seniorenforum-brugge-oostkust-themawandeling-brugge-in-vlaanderen-vlaanderen-in-brugge/
LOCATION:Hoofdingang concertgebouw ’t Zand\, 't Zand\, Brugge\, West Vlaanderen\, 8000\, Belgium
ATTACH;FMTTYPE=image/jpeg:https://seniorenforum.vlaamsbelang.org/wp-content/uploads/2026/04/SF-B-O-wandeltocht-12.05.25-ontw.-1_page-0001-2-1-1.jpg
ORGANIZER;CN="Ignace Lowie":MAILTO:ignace.lowie@gmail.com
END:VEVENT
END:VCALENDAR