BEGIN:VCALENDAR
VERSION:2.0
PRODID:-//Seniorenforum - ECPv6.15.20//NONSGML v1.0//EN
CALSCALE:GREGORIAN
METHOD:PUBLISH
X-WR-CALNAME:Seniorenforum
X-ORIGINAL-URL:https://seniorenforum.vlaamsbelang.org
X-WR-CALDESC:Evenementen voor Seniorenforum
REFRESH-INTERVAL;VALUE=DURATION:PT1H
X-Robots-Tag:noindex
X-PUBLISHED-TTL:PT1H
BEGIN:VTIMEZONE
TZID:Europe/Brussels
BEGIN:DAYLIGHT
TZOFFSETFROM:+0100
TZOFFSETTO:+0200
TZNAME:CEST
DTSTART:20240331T010000
END:DAYLIGHT
BEGIN:STANDARD
TZOFFSETFROM:+0200
TZOFFSETTO:+0100
TZNAME:CET
DTSTART:20241027T010000
END:STANDARD
BEGIN:DAYLIGHT
TZOFFSETFROM:+0100
TZOFFSETTO:+0200
TZNAME:CEST
DTSTART:20250330T010000
END:DAYLIGHT
BEGIN:STANDARD
TZOFFSETFROM:+0200
TZOFFSETTO:+0100
TZNAME:CET
DTSTART:20251026T010000
END:STANDARD
BEGIN:DAYLIGHT
TZOFFSETFROM:+0100
TZOFFSETTO:+0200
TZNAME:CEST
DTSTART:20260329T010000
END:DAYLIGHT
BEGIN:STANDARD
TZOFFSETFROM:+0200
TZOFFSETTO:+0100
TZNAME:CET
DTSTART:20261025T010000
END:STANDARD
END:VTIMEZONE
BEGIN:VEVENT
DTSTART;VALUE=DATE:20251218
DTEND;VALUE=DATE:20251220
DTSTAMP:20260419T183655
CREATED:20250923T091513Z
LAST-MODIFIED:20250923T091556Z
UID:10001601-1766016000-1766188799@seniorenforum.vlaamsbelang.org
SUMMARY:Seniorenforum Limburg - Bezoek Kerstmarkt Keulen en Langerwehe
DESCRIPTION:Keulen\, één van de mooiste Kerstmarkten aan de Dom en de vele pleintjes. \nKeulen\, chocolademuseum met mogelijkheid om te snoepen en te smullen… \nLangerwehe\, feeërieke en gezellige Kerstmarkt aan het Schloss Merode. \nInschrijven vóór 10 oktober 2025! \nDe plaatsen in de bus zijn beperkt\, dus snel zijn is de boodschap! \nInschrijving is pas definitief na ontvangst van de totale som op het rek. nr. van SF Limburg. \nDit kan je mits overschrijving van het juiste bedrag op rek. nr. BE75 9733 9637 2851 op naam van SF Limburg. \nInlichtingen bij onze bestuursleden: \n  \nJean-Paul Briers – 0485 69 77 39 of jeanpaul.briers@telenet.be \nGil Jeurissen – 0499 17 33 66 of giljeurissen@hotmail.com \nEdwin Verjans – 0475 55 66 87 of e.v@live.be \nMarleen Spee – 0496 26 48 93 of marleen.s@hotmail.com \nDanny Jacobs – 0477 52 64 85 of danny.vlb1956@gmail.com \nTony Serrani – 0473 13 43 65 of tony.serrani@gmail.com \nJaak Tijskens – 0475 42 72 44 of tijskensjaak@hotmail.com \nKoen Ooms – 0497 02 50 49 of koenooms@telenet.be
URL:https://seniorenforum.vlaamsbelang.org/activiteitenkalender/dec-seniorenforum-limburg-bezoek-kerstmarkt-keulen-en-langerwehe/
LOCATION:Parking\, bus-firma Mardaga Cars\, Schietboomstraat 29\, Bilzen-Hoeselt\, 3740\, Belgium
ORGANIZER;CN="Koen Ooms":MAILTO:koenooms@telenet.be 
END:VEVENT
END:VCALENDAR