BEGIN:VCALENDAR
VERSION:2.0
PRODID:-//Seniorenforum - ECPv6.15.20//NONSGML v1.0//EN
CALSCALE:GREGORIAN
METHOD:PUBLISH
X-ORIGINAL-URL:https://seniorenforum.vlaamsbelang.org
X-WR-CALDESC:Evenementen voor Seniorenforum
REFRESH-INTERVAL;VALUE=DURATION:PT1H
X-Robots-Tag:noindex
X-PUBLISHED-TTL:PT1H
BEGIN:VTIMEZONE
TZID:Europe/Brussels
BEGIN:DAYLIGHT
TZOFFSETFROM:+0100
TZOFFSETTO:+0200
TZNAME:CEST
DTSTART:20210328T010000
END:DAYLIGHT
BEGIN:STANDARD
TZOFFSETFROM:+0200
TZOFFSETTO:+0100
TZNAME:CET
DTSTART:20211031T010000
END:STANDARD
BEGIN:DAYLIGHT
TZOFFSETFROM:+0100
TZOFFSETTO:+0200
TZNAME:CEST
DTSTART:20220327T010000
END:DAYLIGHT
BEGIN:STANDARD
TZOFFSETFROM:+0200
TZOFFSETTO:+0100
TZNAME:CET
DTSTART:20221030T010000
END:STANDARD
BEGIN:DAYLIGHT
TZOFFSETFROM:+0100
TZOFFSETTO:+0200
TZNAME:CEST
DTSTART:20230326T010000
END:DAYLIGHT
BEGIN:STANDARD
TZOFFSETFROM:+0200
TZOFFSETTO:+0100
TZNAME:CET
DTSTART:20231029T010000
END:STANDARD
BEGIN:DAYLIGHT
TZOFFSETFROM:+0100
TZOFFSETTO:+0200
TZNAME:CEST
DTSTART:20240331T010000
END:DAYLIGHT
BEGIN:STANDARD
TZOFFSETFROM:+0200
TZOFFSETTO:+0100
TZNAME:CET
DTSTART:20241027T010000
END:STANDARD
BEGIN:DAYLIGHT
TZOFFSETFROM:+0100
TZOFFSETTO:+0200
TZNAME:CEST
DTSTART:20250330T010000
END:DAYLIGHT
BEGIN:STANDARD
TZOFFSETFROM:+0200
TZOFFSETTO:+0100
TZNAME:CET
DTSTART:20251026T010000
END:STANDARD
BEGIN:DAYLIGHT
TZOFFSETFROM:+0100
TZOFFSETTO:+0200
TZNAME:CEST
DTSTART:20260329T010000
END:DAYLIGHT
BEGIN:STANDARD
TZOFFSETFROM:+0200
TZOFFSETTO:+0100
TZNAME:CET
DTSTART:20261025T010000
END:STANDARD
BEGIN:DAYLIGHT
TZOFFSETFROM:+0100
TZOFFSETTO:+0200
TZNAME:CEST
DTSTART:20270328T010000
END:DAYLIGHT
BEGIN:STANDARD
TZOFFSETFROM:+0200
TZOFFSETTO:+0100
TZNAME:CET
DTSTART:20271031T010000
END:STANDARD
END:VTIMEZONE
BEGIN:VEVENT
DTSTART;TZID=Europe/Brussels:20260412T110000
DTEND;TZID=Europe/Brussels:20260412T170000
DTSTAMP:20260425T125700
CREATED:20260306T090037Z
LAST-MODIFIED:20260306T090047Z
UID:10001648-1775991600-1776013200@seniorenforum.vlaamsbelang.org
SUMMARY:SeniorenForum Groot-Leuven\, bezoek aan ‘De Smederij’ en ‘Adept’
DESCRIPTION:SeniorenForum Groot-Leuven\, bezoek aan ‘De Smederij’ en ‘Adept’\n\n\n\nHet was een toonbeeld van Vlaamse inventiviteit en creativiteit toen 3 ondernemers het gebouw van de vroegere smidse te Winksele overnamen en omvormden tot het multifunctioneel centrum “De Smederij”. Het bracht de dorpskern tot leven en werd een attractiepool. Men kan in De Smederij eten\, vergaderen en inspireren\, feesten en ontmoeten\, de brouwerij bezoeken. Uitgetekende wandel- en fietsroutes vertrekken aan de deur…. \nVermelde brouwerij is de microbrouwerij Adept die in De Smederij gevestigd is en een viertal bieren produceert. Wij bezoeken de brouwerij en  maken kennis met het brouwproces. Vanzelfsprekend wordt er ook “geproefd”. \nDe keuken van De Smederij heeft zich een stevige reputatie opgebouwd. Na het bezoek kan men er terecht voor een lunch\, salades\, diner\, gerechtjes om te delen. \nKomt u met ons Adept en De Smederij ontdekken? \nInschrijven: € 14 op rekening BE54 0019 3870 9997 van Seniorenforum Leuven. Dit voor 04.04.26. Beperkt aantal plaatsen. \nAdres: Warotstraat 4\, 3020 Herent (Wilsele). \nAanvang: 11.00 u. \nParking: voldoende parking. \nInlichtingen: 0495/17.28.16 (Bart) of 0499/32.50.76 (Jean)
URL:https://seniorenforum.vlaamsbelang.org/activiteitenkalender/seniorenforum-groot-leuven-bezoek-aan-de-smederij-en-adept/
LOCATION:adept\, Warotstraat 4\,\, Herent\, Vlaams-Brabant\, 3020
ATTACH;FMTTYPE=image/jpeg:https://seniorenforum.vlaamsbelang.org/wp-content/uploads/2026/03/smidse.jpg
ORGANIZER;CN="Bart De Geeter":MAILTO:bart.degeeter@vlaamsbelang.org
END:VEVENT
BEGIN:VEVENT
DTSTART;TZID=Europe/Brussels:20251209T180000
DTEND;TZID=Europe/Brussels:20251209T233000
DTSTAMP:20260425T125700
CREATED:20251013T082839Z
LAST-MODIFIED:20251104T142616Z
UID:10001607-1765303200-1765323000@seniorenforum.vlaamsbelang.org
SUMMARY:Seniorenforum Groot-Leuven - naar de Kerstmarkt
DESCRIPTION:Dit jaar heeft de 37ste kerstmarkt te Leuven plaats. De markt is de belangrijkste uit de regio en trekt tienduizenden bezoekers\, ook uit het buitenland. Er zijn o.a. de ambachtenmarkt en de kerstman en zijn “Winterstube”. Traditioneel brengt het Seniorenforum een bezoek in groep op de openingsdag. \nWij komen om 18.00 u. samen in de “Dokteur” (ex Picasso)\, Ladeuzeplein 1\, Leuven. Daar biedt het provinciaal SF bestuur een kerstdrink aan. Dan gaat het naar de markt = Ladeuzeplein en achteraf is iedereen vrij om -in groep of individueel- nog iets te gaan nuttigen.
URL:https://seniorenforum.vlaamsbelang.org/activiteitenkalender/seniorenforum-groot-leuven-naar-de-kerstmarkt/
LOCATION:de “Dokteur” (ex Picasso)\, Ladeuzeplein 1\, Leuven\, Leuven\, 3000\, Belgium
ATTACH;FMTTYPE=image/jpeg:https://seniorenforum.vlaamsbelang.org/wp-content/uploads/2025/10/Kerstmakt-Leuven-2025-SF_page-0001-2.jpg
ORGANIZER;CN="Bart De Geeter":MAILTO:bart.degeeter@vlaamsbelang.org
END:VEVENT
BEGIN:VEVENT
DTSTART;TZID=Europe/Brussels:20250304T190000
DTEND;TZID=Europe/Brussels:20250304T190000
DTSTAMP:20260425T125700
CREATED:20250214T090148Z
LAST-MODIFIED:20250217T080612Z
UID:10001554-1741114800-1741114800@seniorenforum.vlaamsbelang.org
SUMMARY:Europees parlementslid Tom Vandendriessche(VB) komt naar Leuven: 'Waarheen met de Europese Unie?  (org. SF Groot Leuven)
DESCRIPTION:  HET SENIORENFORUM GROOT-LEUVEN NODIGT U OP 04.03.2025 UIT OP HET REFERAAT \n“WAT KOST ONS EUROPA ?” door Europarlementslid TOM VANDENDRIESSCHE\, lid van de fractie “Patriotten voor Europa” \n Waar?:  Radiomuseum\, Herpendaalstraat 13 A\, 3053 Haasrode. \nAanvang: 19.00 u. \nToegang: gratis. \nInlichtingen: 0499/32.50.76 (Jean)   0495/17.28.16 (Bart)   0496/87.71.99 (Geert) \nAllen  ten zeerste welkom op deze niet te missen activiteit! \nJean Holemans\, i.o.v. SF Groot-Leuven \n 
URL:https://seniorenforum.vlaamsbelang.org/activiteitenkalender/europarlementslid-tom-vandendriessche-komt-naar-leuven-wat-kost-europa-org-sf-groot-leuven/
LOCATION:Brabants Radiomuseum\, Herpendaalstraat 13 bus A\, Haasrode\, Vlaams-Brabant\, 3053
ATTACH;FMTTYPE=image/jpeg:https://seniorenforum.vlaamsbelang.org/wp-content/uploads/2025/02/tomvdd.jpg
ORGANIZER;CN="Jean Holemans":MAILTO:jean.holemans@gmail.com
END:VEVENT
BEGIN:VEVENT
DTSTART;TZID=Europe/Brussels:20240707T103000
DTEND;TZID=Europe/Brussels:20240707T103000
DTSTAMP:20260425T125700
CREATED:20240605T084123Z
LAST-MODIFIED:20240606T065044Z
UID:10001485-1720348200-1720348200@seniorenforum.vlaamsbelang.org
SUMMARY:11 Juli-viering (org. SF Groot-Leuven)
DESCRIPTION:Groot Leuven \nDe Vlaamse Kring Leuven en het Seniorenforum Vlaanderen\, afdeling Groot-Leuven\, nodigen u uit op hun \n11 juliviering 2024 met Bart De Valck als gastspreker\n(met aperitief\, versnaperingen en broodjesbuffet)\nDatum en plaats: zondag 7 juli om 10u30  –  Zaal Waaiberg\, Tervuursevest 60 3000 Leuven \nKaarten aan 12\,00 euro \nJean: 0499.32.50.76.   –    Bart: 0495.17.28.16 \nKaarten aan € 12\, te bekomen bij Jean Holemans (0499/32.50.76) en Bart De Geeter (0495/17.28.16). Het toegangsgeld kan ook vooraf gestort worden op rek. BE54 0019 3870 9997 van SF Leuven. \n  \n.
URL:https://seniorenforum.vlaamsbelang.org/activiteitenkalender/11-juli-viering-org-sf-groot-leuven/
LOCATION:Zaal Waaiberg\, Tervuursevest 60\, Leuven\, Vlaams-Brabant\, 3000
ORGANIZER;CN="Jean Holemans":MAILTO:jean.holemans@gmail.com
END:VEVENT
BEGIN:VEVENT
DTSTART;TZID=Europe/Brussels:20240430T193000
DTEND;TZID=Europe/Brussels:20240430T193000
DTSTAMP:20260425T125700
CREATED:20240313T105423Z
LAST-MODIFIED:20240313T105432Z
UID:10001462-1714505400-1714505400@seniorenforum.vlaamsbelang.org
SUMMARY:Waarom zijn de Vlamingen zo braaf zijn door Ignace Lowie (Org SF Brabant en en de lokale SF afdeling groot-Leuven)
DESCRIPTION:De provinciale afdeling “ SENIORENFORUM BRABANT” en de lokale SF afdeling groot-Leuven organiseren op 30.04.24 een lezingBritt HuybrechtsIgnace Lowie  \nWAAROM ZIJN DE VLAMINGEN ZO BRAAF? \ndoor Ignace Lowie \nIgnace Lowie is gewezen Vlaams Blok parlementslid\, publicist en officieel stadsgids te Brugge. De lezing werd reeds met groot succes in enkele steden gehouden. Ignace wordt ingeleid door Britt Huybrechts\, historica en Leuvens lijsttrekster voor de Kamer. \nLowie analyseert aan de hand van onze geschiedenis hoe het komt dat de Vlaamse weerbaarheid geen hoger peil bereikt. Van de geldende stelling dat de diverse “bezettingen” een soort “lijdzaamheid” hebben teweeggebracht\, blijft niet veel over. \nDe lezing gaat door in het Augustinessenklooster\, zaal Romaanse poort en kapel\, Brusselsestraat 63\, 3000 Leuven. Aanvang: 19.30 u. Iedereen -ongeacht leeftijd- met een open en kritische geest is welkom. \nInlichtingen: 02/721.22.54    0499/32.50.76    0468/22.49.47
URL:https://seniorenforum.vlaamsbelang.org/activiteitenkalender/waarom-zijn-de-vlamingen-zo-braaf-zijn-door-ignace-lowie-org-sf-brabant-en-en-de-lokale-sf-afdeling-groot-leuven/
LOCATION:Augustinessenklooster\, Brusselsestraat 63\,\, Leuven\, Vlaams-Brabant\, 3000
ATTACH;FMTTYPE=image/jpeg:https://seniorenforum.vlaamsbelang.org/wp-content/uploads/2024/03/waaromzijndevlamingen-scaled.jpg
ORGANIZER;CN="Ludo Monballiu":MAILTO:seniorenforum.vlaams-brabant@vlaamsbelang.org
END:VEVENT
BEGIN:VEVENT
DTSTART;TZID=Europe/Brussels:20230421T200000
DTEND;TZID=Europe/Brussels:20230421T200000
DTSTAMP:20260425T125700
CREATED:20230303T085723Z
LAST-MODIFIED:20230303T085729Z
UID:10001309-1682107200-1682107200@seniorenforum.vlaamsbelang.org
SUMMARY:GESPREKSAVOND over PENSIOENEN met volksvertegenwoordigster Ellen Samyn (org SF Groot-Leuven)
DESCRIPTION:SF Groot-Leuven plant een tweede activiteit: \nGESPREKSAVOND over PENSIOENEN met volksvertegenwoordigster Ellen Samyn op vrijdag 21.04.2023\, om 20.00u.\, \nPlaats: Café Tempo\, Becker-Remyplein 52\, 3010 Kessel-Lo.
URL:https://seniorenforum.vlaamsbelang.org/activiteitenkalender/gespreksavond-over-pensioenen-met-volksvertegenwoordigster-ellen-samyn-org-sf-groot-leuven/
LOCATION:Café Tempo\, Becker-Remyplein 52\, Kessel-Lo\, 3010
ATTACH;FMTTYPE=image/jpeg:https://seniorenforum.vlaamsbelang.org/wp-content/uploads/2022/11/samynellen1.jpg
ORGANIZER;CN="Jean Holemans":MAILTO:jean.holemans@gmail.com
END:VEVENT
BEGIN:VEVENT
DTSTART;TZID=Europe/Brussels:20221213T140000
DTEND;TZID=Europe/Brussels:20221213T140000
DTSTAMP:20260425T125700
CREATED:20221207T082723Z
LAST-MODIFIED:20221207T082740Z
UID:10001273-1670940000-1670940000@seniorenforum.vlaamsbelang.org
SUMMARY:Leuvense senioren bezoeken hun plaatselijke kerstmarkt
DESCRIPTION:Seniorenforum Leuven STAD – Bezoek aan de Leuvense kerstmarkt\n\n\n\n\n\n\n\n\n\n\n\n\n\n\n\n\n\n\n\nHet Seniorenforum Leuven STAD bezoekt graag samen met u en uw gezelschap de Leuvense kerstmarkt op dinsdag 13 december e.k.  \nWij spreken af om 14 u. in café Picasso\, Monseigneur Ladeuzeplein 1 te 3000 Leuven. Alle deelnemers ontvangen daar een gratis drankje en op de kerstmarkt zelf wordt u eveneens nog een gratis jenever (smaak naar keuze) aangeboden. \nGraag tot dan. \nBart DE GEETER\, Voorzitter VB afdeling Leuven\, 0495/17.28.16 bart.degeeter@vlaamsbelang.org \nJean HOLEMANS\, Voorzitter Seniorenforum Leuven STAD\, 0499/32.50.76\, jean.holemans@gmail.com
URL:https://seniorenforum.vlaamsbelang.org/activiteitenkalender/leuvense-senioren-bezoeken-hun-plaatselijke-kerstmarkt/
LOCATION:Café Picasso\, 1\, Monseigneur Ladeuzeplein\, Leuven\, Vlaams-Brabant\, 3000
ATTACH;FMTTYPE=image/jpeg:https://seniorenforum.vlaamsbelang.org/wp-content/uploads/2022/12/gr21.jpg
ORGANIZER;CN="Bart De Geeter":MAILTO:bart.degeeter@vlaamsbelang.org
END:VEVENT
END:VCALENDAR