BEGIN:VCALENDAR
VERSION:2.0
PRODID:-//Seniorenforum - ECPv6.15.20//NONSGML v1.0//EN
CALSCALE:GREGORIAN
METHOD:PUBLISH
X-WR-CALNAME:Seniorenforum
X-ORIGINAL-URL:https://seniorenforum.vlaamsbelang.org
X-WR-CALDESC:Evenementen voor Seniorenforum
REFRESH-INTERVAL;VALUE=DURATION:PT1H
X-Robots-Tag:noindex
X-PUBLISHED-TTL:PT1H
BEGIN:VTIMEZONE
TZID:Europe/Brussels
BEGIN:DAYLIGHT
TZOFFSETFROM:+0100
TZOFFSETTO:+0200
TZNAME:CEST
DTSTART:20230326T010000
END:DAYLIGHT
BEGIN:STANDARD
TZOFFSETFROM:+0200
TZOFFSETTO:+0100
TZNAME:CET
DTSTART:20231029T010000
END:STANDARD
BEGIN:DAYLIGHT
TZOFFSETFROM:+0100
TZOFFSETTO:+0200
TZNAME:CEST
DTSTART:20240331T010000
END:DAYLIGHT
BEGIN:STANDARD
TZOFFSETFROM:+0200
TZOFFSETTO:+0100
TZNAME:CET
DTSTART:20241027T010000
END:STANDARD
BEGIN:DAYLIGHT
TZOFFSETFROM:+0100
TZOFFSETTO:+0200
TZNAME:CEST
DTSTART:20250330T010000
END:DAYLIGHT
BEGIN:STANDARD
TZOFFSETFROM:+0200
TZOFFSETTO:+0100
TZNAME:CET
DTSTART:20251026T010000
END:STANDARD
END:VTIMEZONE
BEGIN:VEVENT
DTSTART;TZID=Europe/Brussels:20240523T143000
DTEND;TZID=Europe/Brussels:20240523T143000
DTSTAMP:20260425T125731
CREATED:20240305T093437Z
LAST-MODIFIED:20240305T095753Z
UID:10001449-1716474600-1716474600@seniorenforum.vlaamsbelang.org
SUMMARY:SF Leie-Schelde gaat vogelpikken
DESCRIPTION:
URL:https://seniorenforum.vlaamsbelang.org/activiteitenkalender/sf-leie-schelde-gaat-vogelpikken/
LOCATION:café Estaminet\, Kortrijksestraat\, Kortrijk\, West-Vlaanderen\, 8500
ORGANIZER;CN="Mark Vandenberghe":MAILTO:mark.vandenberghe@telenet.be
END:VEVENT
BEGIN:VEVENT
DTSTART;TZID=Europe/Brussels:20240321T143000
DTEND;TZID=Europe/Brussels:20240321T143000
DTSTAMP:20260425T125731
CREATED:20231203T103030Z
LAST-MODIFIED:20231203T103044Z
UID:10001419-1711031400-1711031400@seniorenforum.vlaamsbelang.org
SUMMARY:We gaan er op los in 'Bowling Pottelberg' (org. SF Leie-Schelde)
DESCRIPTION:
URL:https://seniorenforum.vlaamsbelang.org/activiteitenkalender/we-gaan-er-op-los-in-bowling-pottelberg-org-sf-leie-schelde/
LOCATION:Bowlig Pottelberg\, Engelse Wandeling 2\, Kortrijk\, West-Vlaanderen\, 8500
ATTACH;FMTTYPE=image/jpeg:https://seniorenforum.vlaamsbelang.org/wp-content/uploads/2023/12/bowlingpottelberg.jpg
ORGANIZER;CN="Mark Vandenberghe":MAILTO:mark.vandenberghe@telenet.be
END:VEVENT
BEGIN:VEVENT
DTSTART;TZID=Europe/Brussels:20240218T103000
DTEND;TZID=Europe/Brussels:20240218T103000
DTSTAMP:20260425T125731
CREATED:20231203T102108Z
LAST-MODIFIED:20231203T102116Z
UID:10001418-1708252200-1708252200@seniorenforum.vlaamsbelang.org
SUMMARY:Maak kennis met Patrick Buyse\, auteur van 'Weg van 't Stad' (org. SF Leie-Schelde)
DESCRIPTION:
URL:https://seniorenforum.vlaamsbelang.org/activiteitenkalender/maak-kennis-met-patrick-buyse-auteur-van-weg-van-t-stad-org-sf-leie-schelde/
LOCATION:café palace\, Tombroekstraat 11\, Rollegem\, West-Vlaanderen\, 8510
ATTACH;FMTTYPE=image/jpeg:https://seniorenforum.vlaamsbelang.org/wp-content/uploads/2023/12/buyse.jpg
ORGANIZER;CN="Mark Vandenberghe":MAILTO:mark.vandenberghe@telenet.be
END:VEVENT
BEGIN:VEVENT
DTSTART;TZID=Europe/Brussels:20240125T143000
DTEND;TZID=Europe/Brussels:20240125T143000
DTSTAMP:20260425T125731
CREATED:20231203T100803Z
LAST-MODIFIED:20231203T100923Z
UID:10001417-1706193000-1706193000@seniorenforum.vlaamsbelang.org
SUMMARY:SF Leie-Schelde bezoekt het Tabaksmuseum in Wervik.
DESCRIPTION:
URL:https://seniorenforum.vlaamsbelang.org/activiteitenkalender/sf-leie-schelde-bezoekt-het-tabaksmuseum-in-wervik/
LOCATION:Tabaksmuseum\, Koestraat 63\, Wervik\, West-Vlaanderen\, 8940
ORGANIZER;CN="Mark Vandenberghe":MAILTO:mark.vandenberghe@telenet.be
END:VEVENT
END:VCALENDAR