BEGIN:VCALENDAR
VERSION:2.0
PRODID:-//Seniorenforum - ECPv6.15.20//NONSGML v1.0//EN
CALSCALE:GREGORIAN
METHOD:PUBLISH
X-WR-CALNAME:Seniorenforum
X-ORIGINAL-URL:https://seniorenforum.vlaamsbelang.org
X-WR-CALDESC:Evenementen voor Seniorenforum
REFRESH-INTERVAL;VALUE=DURATION:PT1H
X-Robots-Tag:noindex
X-PUBLISHED-TTL:PT1H
BEGIN:VTIMEZONE
TZID:Europe/Brussels
BEGIN:DAYLIGHT
TZOFFSETFROM:+0100
TZOFFSETTO:+0200
TZNAME:CEST
DTSTART:20220327T010000
END:DAYLIGHT
BEGIN:STANDARD
TZOFFSETFROM:+0200
TZOFFSETTO:+0100
TZNAME:CET
DTSTART:20221030T010000
END:STANDARD
BEGIN:DAYLIGHT
TZOFFSETFROM:+0100
TZOFFSETTO:+0200
TZNAME:CEST
DTSTART:20230326T010000
END:DAYLIGHT
BEGIN:STANDARD
TZOFFSETFROM:+0200
TZOFFSETTO:+0100
TZNAME:CET
DTSTART:20231029T010000
END:STANDARD
BEGIN:DAYLIGHT
TZOFFSETFROM:+0100
TZOFFSETTO:+0200
TZNAME:CEST
DTSTART:20240331T010000
END:DAYLIGHT
BEGIN:STANDARD
TZOFFSETFROM:+0200
TZOFFSETTO:+0100
TZNAME:CET
DTSTART:20241027T010000
END:STANDARD
BEGIN:DAYLIGHT
TZOFFSETFROM:+0100
TZOFFSETTO:+0200
TZNAME:CEST
DTSTART:20250330T010000
END:DAYLIGHT
BEGIN:STANDARD
TZOFFSETFROM:+0200
TZOFFSETTO:+0100
TZNAME:CET
DTSTART:20251026T010000
END:STANDARD
BEGIN:DAYLIGHT
TZOFFSETFROM:+0100
TZOFFSETTO:+0200
TZNAME:CEST
DTSTART:20260329T010000
END:DAYLIGHT
BEGIN:STANDARD
TZOFFSETFROM:+0200
TZOFFSETTO:+0100
TZNAME:CET
DTSTART:20261025T010000
END:STANDARD
END:VTIMEZONE
BEGIN:VEVENT
DTSTART;TZID=Europe/Brussels:20251021T160000
DTEND;TZID=Europe/Brussels:20251021T160000
DTSTAMP:20260426T050912
CREATED:20250919T085257Z
LAST-MODIFIED:20250919T085305Z
UID:10001599-1761062400-1761062400@seniorenforum.vlaamsbelang.org
SUMMARY:Halloween in zaal Den Hazelt (org. SF Mandel)
DESCRIPTION:
URL:https://seniorenforum.vlaamsbelang.org/activiteitenkalender/halloween-in-zaal-den-hazelt-org-sf-mandel-2/
LOCATION:Den Hazelt\, Pastoor Slossestraat 1\, Rumbeke-Roeselare\, West-Vlaanderen\, 8800
ATTACH;FMTTYPE=image/jpeg:https://seniorenforum.vlaamsbelang.org/wp-content/uploads/2025/09/halloween-affice-scaled.jpg
END:VEVENT
BEGIN:VEVENT
DTSTART;TZID=Europe/Brussels:20250916T124500
DTEND;TZID=Europe/Brussels:20250916T124500
DTSTAMP:20260426T050912
CREATED:20250725T085025Z
LAST-MODIFIED:20250725T085030Z
UID:10001586-1758026700-1758026700@seniorenforum.vlaamsbelang.org
SUMMARY:Bezoek aan koekjesbedrijf Jules Destrooper (met autocar) Org. SF Mandel
DESCRIPTION:
URL:https://seniorenforum.vlaamsbelang.org/activiteitenkalender/bezoek-aan-koekjesbedrijf-jules-destrooper-met-autocar-org-sf-mandel/
LOCATION:Expohallen Roeselare\, Diksmuidesteenweg 400\, Roeselare\, West-Vlaanderen
ATTACH;FMTTYPE=image/jpeg:https://seniorenforum.vlaamsbelang.org/wp-content/uploads/2025/07/destrooper-scaled.jpg
END:VEVENT
BEGIN:VEVENT
DTSTART;TZID=Europe/Brussels:20250530T090000
DTEND;TZID=Europe/Brussels:20250530T090000
DTSTAMP:20260426T050912
CREATED:20250416T093849Z
LAST-MODIFIED:20250416T093856Z
UID:10001569-1748595600-1748595600@seniorenforum.vlaamsbelang.org
SUMMARY:Groepsbezoek aan de gekende Reo Veiling (org. SF Mandel)
DESCRIPTION:
URL:https://seniorenforum.vlaamsbelang.org/activiteitenkalender/groepsbezoek-aan-de-gekende-reo-veiling-org-sf-mandel/
LOCATION:Parking Reo Veilng\, Diksmuidsesteenweg 327-335\, Roeselare\, West-Vlaanderen\, 8800
ATTACH;FMTTYPE=image/jpeg:https://seniorenforum.vlaamsbelang.org/wp-content/uploads/2025/04/Reo-Veiling-scaled.jpg
END:VEVENT
BEGIN:VEVENT
DTSTART;TZID=Europe/Brussels:20250415T143000
DTEND;TZID=Europe/Brussels:20250415T143000
DTSTAMP:20260426T050912
CREATED:20250317T122551Z
LAST-MODIFIED:20250317T122558Z
UID:10001562-1744727400-1744727400@seniorenforum.vlaamsbelang.org
SUMMARY:Bingo (met Bruegeltafel) in Den Hazelt in Rumbeke (org. SF Mandel)
DESCRIPTION:
URL:https://seniorenforum.vlaamsbelang.org/activiteitenkalender/bingo-met-bruegeltafel-in-den-hazelt-in-rumbeke-org-sf-mandel/
LOCATION:Den Hazelt\, Pastoor Slossestraat 1\, Rumbeke-Roeselare\, West-Vlaanderen\, 8800
ATTACH;FMTTYPE=image/jpeg:https://seniorenforum.vlaamsbelang.org/wp-content/uploads/2025/03/bingo-2025-scaled.jpg
END:VEVENT
BEGIN:VEVENT
DTSTART;TZID=Europe/Brussels:20250318T093000
DTEND;TZID=Europe/Brussels:20250318T093000
DTSTAMP:20260426T050912
CREATED:20250213T103413Z
LAST-MODIFIED:20250305T144630Z
UID:10001553-1742290200-1742290200@seniorenforum.vlaamsbelang.org
SUMMARY:Busuitstap naar het Vlasmuseum Texture in Kortrijk (org. SF Mandel)
DESCRIPTION:
URL:https://seniorenforum.vlaamsbelang.org/activiteitenkalender/busuitstap-naar-het-vlasmuseum-texture-in-kortrijk-org-sf-mandel/
LOCATION:Expohallen Roeselare\, Diksmuidesteenweg 400\, Roeselare\, West-Vlaanderen
ATTACH;FMTTYPE=image/jpeg:https://seniorenforum.vlaamsbelang.org/wp-content/uploads/2025/02/afgelast.jpeg
END:VEVENT
BEGIN:VEVENT
DTSTART;TZID=Europe/Brussels:20250218T134500
DTEND;TZID=Europe/Brussels:20250218T134500
DTSTAMP:20260426T050912
CREATED:20250126T091342Z
LAST-MODIFIED:20250126T091352Z
UID:10001544-1739886300-1739886300@seniorenforum.vlaamsbelang.org
SUMMARY:Bezoek aan het Historisch stadhuis van Roeselare
DESCRIPTION:
URL:https://seniorenforum.vlaamsbelang.org/activiteitenkalender/bezoek-aan-het-historisch-stadhuis-van-roeselare/
LOCATION:Stadhuis\, Grote Markt 1\, Roeselare\, West-Vlaanderen\, 8800\, Belgium
ATTACH;FMTTYPE=image/jpeg:https://seniorenforum.vlaamsbelang.org/wp-content/uploads/2025/01/bezoek-stadhuis-scaled.jpg
END:VEVENT
BEGIN:VEVENT
DTSTART;TZID=Europe/Brussels:20250124T170000
DTEND;TZID=Europe/Brussels:20250124T170000
DTSTAMP:20260426T050912
CREATED:20241226T090617Z
LAST-MODIFIED:20241226T090629Z
UID:10001535-1737738000-1737738000@seniorenforum.vlaamsbelang.org
SUMMARY:Nieuwjaarsetentje SF Mandel
DESCRIPTION:
URL:https://seniorenforum.vlaamsbelang.org/activiteitenkalender/nieuwjaarsetentje-sf-mandel/
LOCATION:Puritas Park\, Koestraat 23\, Rumbeke-Roeselare\, West-Vlaanderen\, 8800
ATTACH;FMTTYPE=image/jpeg:https://seniorenforum.vlaamsbelang.org/wp-content/uploads/2024/12/etentje-2025-scaled.jpg
END:VEVENT
BEGIN:VEVENT
DTSTART;TZID=Europe/Brussels:20241220T170000
DTEND;TZID=Europe/Brussels:20241220T170000
DTSTAMP:20260426T050912
CREATED:20241105T092654Z
LAST-MODIFIED:20241105T092703Z
UID:10001524-1734714000-1734714000@seniorenforum.vlaamsbelang.org
SUMMARY:Kerstfeest in Den Hazelt (org. SF Mandel)
DESCRIPTION:
URL:https://seniorenforum.vlaamsbelang.org/activiteitenkalender/kerstfeest-in-den-hazelt-org-sf-mandel/
LOCATION:Den Hazelt\, Pastoor Slossestraat 1\, Rumbeke-Roeselare\, West-Vlaanderen\, 8800
ATTACH;FMTTYPE=image/jpeg:https://seniorenforum.vlaamsbelang.org/wp-content/uploads/2024/11/kerstfeestmandel-scaled.jpg
END:VEVENT
BEGIN:VEVENT
DTSTART;TZID=Europe/Brussels:20241022T160000
DTEND;TZID=Europe/Brussels:20241022T160000
DTSTAMP:20260426T050912
CREATED:20240822T084415Z
LAST-MODIFIED:20240822T084436Z
UID:10001501-1729612800-1729612800@seniorenforum.vlaamsbelang.org
SUMMARY:Halloween in zaal Den Hazelt  (org. SF Mandel)
DESCRIPTION:
URL:https://seniorenforum.vlaamsbelang.org/activiteitenkalender/halloween-in-zaal-den-hazelt-org-sf-mandel/
LOCATION:Den Hazelt\, Pastoor Slossestraat 1\, Rumbeke-Roeselare\, West-Vlaanderen\, 8800
ATTACH;FMTTYPE=image/jpeg:https://seniorenforum.vlaamsbelang.org/wp-content/uploads/2024/08/halloween2.jpg
END:VEVENT
BEGIN:VEVENT
DTSTART;TZID=Europe/Brussels:20240917T143000
DTEND;TZID=Europe/Brussels:20240917T143000
DTSTAMP:20260426T050912
CREATED:20240802T093918Z
LAST-MODIFIED:20240826T084517Z
UID:10001492-1726583400-1726583400@seniorenforum.vlaamsbelang.org
SUMMARY:''De noodzaak van een seniorenstem' door Goedele Decapmaker\, gevolgd door een gezellige praatnamiddag met koffie en pannenkoeken (org SF Mandel)
DESCRIPTION:
URL:https://seniorenforum.vlaamsbelang.org/activiteitenkalender/de-noodzaak-van-een-seniorenstem-door-goedele-decapmaker-gevolgd-door-een-gezellige-praatnamiddag-met-koffie-en-pannenkoeken-org-sf-mandel/
LOCATION:Puritas Park\, Koestraat 23\, Rumbeke-Roeselare\, West-Vlaanderen\, 8800
END:VEVENT
BEGIN:VEVENT
DTSTART;TZID=Europe/Brussels:20240620T081500
DTEND;TZID=Europe/Brussels:20240620T191500
DTSTAMP:20260426T050912
CREATED:20240518T073234Z
LAST-MODIFIED:20240518T073243Z
UID:10001473-1718871300-1718910900@seniorenforum.vlaamsbelang.org
SUMMARY:Busuitstap: Ronde van de Vlaamse Ardennen (org. SF Mandel)
DESCRIPTION:
URL:https://seniorenforum.vlaamsbelang.org/activiteitenkalender/busuitstap-ronde-van-de-vlaamse-ardennen-org-sf-mandel/
LOCATION:Expohallen Roeselare\, Diksmuidesteenweg 400\, Roeselare\, West-Vlaanderen
ATTACH;FMTTYPE=image/jpeg:https://seniorenforum.vlaamsbelang.org/wp-content/uploads/2024/05/sfeerfoto-Vlaamse-Ardennen.jpg
END:VEVENT
BEGIN:VEVENT
DTSTART;TZID=Europe/Brussels:20240522T083000
DTEND;TZID=Europe/Brussels:20240522T170000
DTSTAMP:20260426T050912
CREATED:20240418T064738Z
LAST-MODIFIED:20240418T064751Z
UID:10001469-1716366600-1716397200@seniorenforum.vlaamsbelang.org
SUMMARY:Busuitstap: bezoek aan de Blankaart met fluisterboot\, gevolgd door lunch in Bistro De Kippe in Houthulst (org. SF Mandel)
DESCRIPTION:
URL:https://seniorenforum.vlaamsbelang.org/activiteitenkalender/busuitstap-bezoek-aan-de-blankaart-met-fluisterboot-gevolgd-door-lunch-in-bistro-de-kippe-in-houthulst-org-sf-mandel/
LOCATION:Expohallen Roeselare\, Diksmuidesteenweg 400\, Roeselare\, West-Vlaanderen
ATTACH;FMTTYPE=image/jpeg:https://seniorenforum.vlaamsbelang.org/wp-content/uploads/2022/06/blank12.jpg
END:VEVENT
BEGIN:VEVENT
DTSTART;TZID=Europe/Brussels:20240416T134500
DTEND;TZID=Europe/Brussels:20240416T134500
DTSTAMP:20260426T050912
CREATED:20240313T092011Z
LAST-MODIFIED:20240314T141444Z
UID:10001461-1713275100-1713275100@seniorenforum.vlaamsbelang.org
SUMMARY:SF Mandel organiseert een bingonamiddag in Kachtem (gastspreker is Immanuel De Reuse).
DESCRIPTION:Te betalen op rekening: BE39 3632 3300 1619
URL:https://seniorenforum.vlaamsbelang.org/activiteitenkalender/sf-mandel-organiseert-een-bingonamiddag-in-kachtem-gastspreker-is-immanuel-de-reuse/
LOCATION:Provinciaal VB-secretariaat\, Kachtemplein 5\, Kachtem\, 8870
ATTACH;FMTTYPE=image/jpeg:https://seniorenforum.vlaamsbelang.org/wp-content/uploads/2017/08/bingo.jpg
END:VEVENT
BEGIN:VEVENT
DTSTART;TZID=Europe/Brussels:20240319T144500
DTEND;TZID=Europe/Brussels:20240319T144500
DTSTAMP:20260426T050912
CREATED:20240228T084751Z
LAST-MODIFIED:20240228T084801Z
UID:10001442-1710859500-1710859500@seniorenforum.vlaamsbelang.org
SUMMARY:Bedrijfsbezoek aan Inagro\, onderzoekcentrum voor land- en tuinbouw in Vlaanderen (org. SF Mandel)
DESCRIPTION:
URL:https://seniorenforum.vlaamsbelang.org/activiteitenkalender/bedrijfsbezoek-aan-inagro-onderzoekcentrum-voor-land-en-tuinbouw-in-vlaanderen-org-sf-mandel/
LOCATION:Parking Inagro\, Iepersesteenweg 87\, Rumbeke-Roeselare (Beitem)\, West-Vlaanderen\, 8800
ATTACH;FMTTYPE=image/jpeg:https://seniorenforum.vlaamsbelang.org/wp-content/uploads/2024/02/inagro1.jpg
END:VEVENT
BEGIN:VEVENT
DTSTART;TZID=Europe/Brussels:20240226T140000
DTEND;TZID=Europe/Brussels:20240226T140000
DTSTAMP:20260426T050912
CREATED:20240129T131453Z
LAST-MODIFIED:20240129T131501Z
UID:10001434-1708956000-1708956000@seniorenforum.vlaamsbelang.org
SUMMARY:Sportieve namiddag bij de Rodenbach Bolders (org. SF Mandel)
DESCRIPTION:
URL:https://seniorenforum.vlaamsbelang.org/activiteitenkalender/sportieve-namiddag-bij-de-rodenbach-bolders-org-sf-mandel/
LOCATION:Rodenbach Bolders\, Rumbeeksesteenweg 24A\, Roeselare\, West-Vlaanderen\, 8800
ATTACH;FMTTYPE=image/jpeg:https://seniorenforum.vlaamsbelang.org/wp-content/uploads/2024/01/bolders.jpg
END:VEVENT
BEGIN:VEVENT
DTSTART;TZID=Europe/Brussels:20240125T173000
DTEND;TZID=Europe/Brussels:20240125T173000
DTSTAMP:20260426T050912
CREATED:20231227T081546Z
LAST-MODIFIED:20231227T110020Z
UID:10001424-1706203800-1706203800@seniorenforum.vlaamsbelang.org
SUMMARY:Nieuwjaarsetentje SF Mandel (let op: niet in Beytemstatie maar in restaurant Zilverbergstatie)
DESCRIPTION:Let op: er ontstond verwarring rond de locatie waar het etentje zou doorgaan. MAAR HET IS WEL DEGELIJK IN RESTAURANT ZILVERBERG STATIE\, OUDE ZILVERBERGSTRAAT 30\, ROESELARE
URL:https://seniorenforum.vlaamsbelang.org/activiteitenkalender/nieuwjaarsetentje-sf-mandel-let-op-wijziging-locatie/
LOCATION:RESTAURANT ZILVERBERGSTATIE\, OUDE ZILVERBERGSTRAAT 30\,\, Roeselare\, West-Vlaanderen\, 8800
END:VEVENT
BEGIN:VEVENT
DTSTART;TZID=Europe/Brussels:20231222T160000
DTEND;TZID=Europe/Brussels:20231222T160000
DTSTAMP:20260426T050912
CREATED:20231027T082201Z
LAST-MODIFIED:20231027T082208Z
UID:10001403-1703260800-1703260800@seniorenforum.vlaamsbelang.org
SUMMARY:Kerstfeest SF Mandel\, met terugblik op 10 jaar werking
DESCRIPTION:
URL:https://seniorenforum.vlaamsbelang.org/activiteitenkalender/kerstfeest-sf-mandel-met-terugblik-op-10-jaar-werking/
LOCATION:Den Hazelt\, Pastoor Slossestraat 1\, Rumbeke-Roeselare\, West-Vlaanderen\, 8800
END:VEVENT
BEGIN:VEVENT
DTSTART;TZID=Europe/Brussels:20231208T100000
DTEND;TZID=Europe/Brussels:20231208T120000
DTSTAMP:20260426T050912
CREATED:20231026T065340Z
LAST-MODIFIED:20231026T065348Z
UID:10001401-1702029600-1702036800@seniorenforum.vlaamsbelang.org
SUMMARY:Bezoek aan het grootste Neerhofdierenfestival (org. SF Mandel)
DESCRIPTION:
URL:https://seniorenforum.vlaamsbelang.org/activiteitenkalender/bezoek-aan-het-grootste-neerhofdierenfestival-org-sf-mandel/
LOCATION:Expohallen Roeselare\, Diksmuidesteenweg 400\, Roeselare\, West-Vlaanderen
ATTACH;FMTTYPE=image/webp:https://seniorenforum.vlaamsbelang.org/wp-content/uploads/2023/10/beestjes.webp
END:VEVENT
END:VCALENDAR