BEGIN:VCALENDAR
VERSION:2.0
PRODID:-//Seniorenforum - ECPv6.15.20//NONSGML v1.0//EN
CALSCALE:GREGORIAN
METHOD:PUBLISH
X-ORIGINAL-URL:https://seniorenforum.vlaamsbelang.org
X-WR-CALDESC:Evenementen voor Seniorenforum
REFRESH-INTERVAL;VALUE=DURATION:PT1H
X-Robots-Tag:noindex
X-PUBLISHED-TTL:PT1H
BEGIN:VTIMEZONE
TZID:Europe/Brussels
BEGIN:DAYLIGHT
TZOFFSETFROM:+0100
TZOFFSETTO:+0200
TZNAME:CEST
DTSTART:20250330T010000
END:DAYLIGHT
BEGIN:STANDARD
TZOFFSETFROM:+0200
TZOFFSETTO:+0100
TZNAME:CET
DTSTART:20251026T010000
END:STANDARD
BEGIN:DAYLIGHT
TZOFFSETFROM:+0100
TZOFFSETTO:+0200
TZNAME:CEST
DTSTART:20260329T010000
END:DAYLIGHT
BEGIN:STANDARD
TZOFFSETFROM:+0200
TZOFFSETTO:+0100
TZNAME:CET
DTSTART:20261025T010000
END:STANDARD
BEGIN:DAYLIGHT
TZOFFSETFROM:+0100
TZOFFSETTO:+0200
TZNAME:CEST
DTSTART:20270328T010000
END:DAYLIGHT
BEGIN:STANDARD
TZOFFSETFROM:+0200
TZOFFSETTO:+0100
TZNAME:CET
DTSTART:20271031T010000
END:STANDARD
END:VTIMEZONE
BEGIN:VEVENT
DTSTART;TZID=Europe/Brussels:20260503T120000
DTEND;TZID=Europe/Brussels:20260503T193000
DTSTAMP:20260419T151226
CREATED:20260218T152954Z
LAST-MODIFIED:20260218T152954Z
UID:10001644-1777809600-1777836600@seniorenforum.vlaamsbelang.org
SUMMARY:SF Neteland Duffel  -  Spaghetti dag 2026
DESCRIPTION:Spaghetti a volonté  !
URL:https://seniorenforum.vlaamsbelang.org/activiteitenkalender/sf-neteland-duffel-spaghetti-dag-2026/
LOCATION:’t Kompas\, Nieuwstraat 11B\, Duffel\, Antwerpen\, 2570\, Belgium
ATTACH;FMTTYPE=image/jpeg:https://seniorenforum.vlaamsbelang.org/wp-content/uploads/2026/02/poster-Spaghetti-2026.jpg
ORGANIZER;CN="Roger Moons":MAILTO:rogermoons@skynet.be
END:VEVENT
END:VCALENDAR