BEGIN:VCALENDAR
VERSION:2.0
PRODID:-//Seniorenforum - ECPv6.15.20//NONSGML v1.0//EN
CALSCALE:GREGORIAN
METHOD:PUBLISH
X-ORIGINAL-URL:https://seniorenforum.vlaamsbelang.org
X-WR-CALDESC:Evenementen voor Seniorenforum
REFRESH-INTERVAL;VALUE=DURATION:PT1H
X-Robots-Tag:noindex
X-PUBLISHED-TTL:PT1H
BEGIN:VTIMEZONE
TZID:Europe/Brussels
BEGIN:DAYLIGHT
TZOFFSETFROM:+0100
TZOFFSETTO:+0200
TZNAME:CEST
DTSTART:20250330T010000
END:DAYLIGHT
BEGIN:STANDARD
TZOFFSETFROM:+0200
TZOFFSETTO:+0100
TZNAME:CET
DTSTART:20251026T010000
END:STANDARD
BEGIN:DAYLIGHT
TZOFFSETFROM:+0100
TZOFFSETTO:+0200
TZNAME:CEST
DTSTART:20260329T010000
END:DAYLIGHT
BEGIN:STANDARD
TZOFFSETFROM:+0200
TZOFFSETTO:+0100
TZNAME:CET
DTSTART:20261025T010000
END:STANDARD
BEGIN:DAYLIGHT
TZOFFSETFROM:+0100
TZOFFSETTO:+0200
TZNAME:CEST
DTSTART:20270328T010000
END:DAYLIGHT
BEGIN:STANDARD
TZOFFSETFROM:+0200
TZOFFSETTO:+0100
TZNAME:CET
DTSTART:20271031T010000
END:STANDARD
END:VTIMEZONE
BEGIN:VEVENT
DTSTART;TZID=Europe/Brussels:20260509T140000
DTEND;TZID=Europe/Brussels:20260509T180000
DTSTAMP:20260419T151243
CREATED:20260409T092210Z
LAST-MODIFIED:20260409T093153Z
UID:10001657-1778335200-1778349600@seniorenforum.vlaamsbelang.org
SUMMARY:Bingo namiddag - Seniorenforum Ieper-Zonnebeke
DESCRIPTION:Leuke bingonamiddag met tal van prijzen \nom 17 uur Breugelmaaltijd \nInschrijven voor maaltijd en 2 spellen via overschrijving op rekeningnummer BE02 7360 7724 4440 met vermelding aantal personen
URL:https://seniorenforum.vlaamsbelang.org/activiteitenkalender/bingo-namiddag-seniorenforum-ieper-zonnebeke/
LOCATION:OC De Maane\, Langemarkstraat 34\, Zonnebeke\, West Vlaanderen\, 8980
ORGANIZER;CN="Seniorenforum Ieper-Zonnebeke":MAILTO:mariannemarchand02@gmail.com
END:VEVENT
END:VCALENDAR